
BEGIN:VCALENDAR
VERSION:2.0
PRODID:-//Parenting Together Washington County - ECPv6.15.16.1//NONSGML v1.0//EN
CALSCALE:GREGORIAN
METHOD:PUBLISH
X-WR-CALNAME:Parenting Together Washington County
X-ORIGINAL-URL:https://parentingtogetherwc.org
X-WR-CALDESC:Events for Parenting Together Washington County
REFRESH-INTERVAL;VALUE=DURATION:PT1H
X-Robots-Tag:noindex
X-PUBLISHED-TTL:PT1H
BEGIN:VTIMEZONE
TZID:America/Los_Angeles
BEGIN:DAYLIGHT
TZOFFSETFROM:-0800
TZOFFSETTO:-0700
TZNAME:PDT
DTSTART:20160313T100000
END:DAYLIGHT
BEGIN:STANDARD
TZOFFSETFROM:-0700
TZOFFSETTO:-0800
TZNAME:PST
DTSTART:20161106T090000
END:STANDARD
BEGIN:DAYLIGHT
TZOFFSETFROM:-0800
TZOFFSETTO:-0700
TZNAME:PDT
DTSTART:20170312T100000
END:DAYLIGHT
BEGIN:STANDARD
TZOFFSETFROM:-0700
TZOFFSETTO:-0800
TZNAME:PST
DTSTART:20171105T090000
END:STANDARD
BEGIN:DAYLIGHT
TZOFFSETFROM:-0800
TZOFFSETTO:-0700
TZNAME:PDT
DTSTART:20180311T100000
END:DAYLIGHT
BEGIN:STANDARD
TZOFFSETFROM:-0700
TZOFFSETTO:-0800
TZNAME:PST
DTSTART:20181104T090000
END:STANDARD
BEGIN:DAYLIGHT
TZOFFSETFROM:-0800
TZOFFSETTO:-0700
TZNAME:PDT
DTSTART:20190310T100000
END:DAYLIGHT
BEGIN:STANDARD
TZOFFSETFROM:-0700
TZOFFSETTO:-0800
TZNAME:PST
DTSTART:20191103T090000
END:STANDARD
BEGIN:DAYLIGHT
TZOFFSETFROM:-0800
TZOFFSETTO:-0700
TZNAME:PDT
DTSTART:20200308T100000
END:DAYLIGHT
BEGIN:STANDARD
TZOFFSETFROM:-0700
TZOFFSETTO:-0800
TZNAME:PST
DTSTART:20201101T090000
END:STANDARD
END:VTIMEZONE
BEGIN:VEVENT
DTSTART;TZID=America/Los_Angeles:20190504T150000
DTEND;TZID=America/Los_Angeles:20190504T160000
DTSTAMP:20260422T171057
CREATED:20230623T174303Z
LAST-MODIFIED:20230623T174303Z
UID:10003327-1556982000-1556985600@parentingtogetherwc.org
SUMMARY:Ready\, Set\, Kindergarten!
DESCRIPTION:In this special six-session series\, families enjoy stories and activities designed to encourage the development of early learning practices. We will show you how to get your child ready for Kindergarten with music\, stories\, art and play!
URL:https://parentingtogetherwc.org/event/ready-set-kindergarten/2019-05-04/
LOCATION:Beaverton City Library Main\, 12375 SW 5th St\, Beaverton\, OR\, 97005\, United States
CATEGORIES:Family-Friendly,Kid Friendly,School Readiness Workshop
ATTACH;FMTTYPE=image/jpeg:https://parentingtogetherwc.org/wp-content/uploads/2019/04/RSK-Image.jpg
ORGANIZER;CN="City of Beaverton/Carson Mischel":MAILTO:cmischel@beavertonoregon.gov
GEO:45.4841472;-122.804052
X-APPLE-STRUCTURED-LOCATION;VALUE=URI;X-ADDRESS=Beaverton City Library Main 12375 SW 5th St Beaverton OR 97005 United States;X-APPLE-RADIUS=500;X-TITLE=12375 SW 5th St:geo:-122.804052,45.4841472
END:VEVENT
BEGIN:VEVENT
DTSTART;TZID=America/Los_Angeles:20190504T110000
DTEND;TZID=America/Los_Angeles:20190504T120000
DTSTAMP:20260422T171057
CREATED:20190408T155617Z
LAST-MODIFIED:20190408T155617Z
UID:10003317-1556967600-1556971200@parentingtogetherwc.org
SUMMARY:Ready\, Set\, Kindergarten!
DESCRIPTION:In this special six-session series\, families enjoy stories and activities designed to encourage the development of early learning practices. We will show you how to get your child ready for Kindergarten with music\, stories\, art and play!
URL:https://parentingtogetherwc.org/event/ready-set-kindergarten/2019-05-04/
LOCATION:Beaverton City Library Main\, 12375 SW 5th St\, Beaverton\, OR\, 97005\, United States
CATEGORIES:Family-Friendly,Kid Friendly,School Readiness Workshop
ATTACH;FMTTYPE=image/jpeg:https://parentingtogetherwc.org/wp-content/uploads/2019/04/RSK-Image.jpg
ORGANIZER;CN="City of Beaverton/Carson Mischel":MAILTO:cmischel@beavertonoregon.gov
GEO:45.4841472;-122.804052
X-APPLE-STRUCTURED-LOCATION;VALUE=URI;X-ADDRESS=Beaverton City Library Main 12375 SW 5th St Beaverton OR 97005 United States;X-APPLE-RADIUS=500;X-TITLE=12375 SW 5th St:geo:-122.804052,45.4841472
END:VEVENT
BEGIN:VEVENT
DTSTART;TZID=America/Los_Angeles:20190430T170000
DTEND;TZID=America/Los_Angeles:20190430T180000
DTSTAMP:20260422T171057
CREATED:20230623T174303Z
LAST-MODIFIED:20230623T174303Z
UID:10003333-1556643600-1556647200@parentingtogetherwc.org
SUMMARY:Ready\, Set\, Kindergarten!
DESCRIPTION:In this special six-session series\, families enjoy stories and activities designed to encourage the development of early learning practices. We will show you how to get your child ready for Kindergarten with music\, stories\, art and play!
URL:https://parentingtogetherwc.org/event/ready-set-kindergarten/2019-04-30/
LOCATION:Beaverton City Library Main\, 12375 SW 5th St\, Beaverton\, OR\, 97005\, United States
CATEGORIES:Family-Friendly,Kid Friendly,School Readiness Workshop
ATTACH;FMTTYPE=image/jpeg:https://parentingtogetherwc.org/wp-content/uploads/2019/04/RSK-Image.jpg
ORGANIZER;CN="City of Beaverton/Carson Mischel":MAILTO:cmischel@beavertonoregon.gov
GEO:45.4841472;-122.804052
X-APPLE-STRUCTURED-LOCATION;VALUE=URI;X-ADDRESS=Beaverton City Library Main 12375 SW 5th St Beaverton OR 97005 United States;X-APPLE-RADIUS=500;X-TITLE=12375 SW 5th St:geo:-122.804052,45.4841472
END:VEVENT
BEGIN:VEVENT
DTSTART;TZID=America/Los_Angeles:20190429T110000
DTEND;TZID=America/Los_Angeles:20190429T120000
DTSTAMP:20260422T171057
CREATED:20190408T155617Z
LAST-MODIFIED:20190408T155617Z
UID:10003316-1556535600-1556539200@parentingtogetherwc.org
SUMMARY:Ready\, Set\, Kindergarten!
DESCRIPTION:In this special six-session series\, families enjoy stories and activities designed to encourage the development of early learning practices. We will show you how to get your child ready for Kindergarten with music\, stories\, art and play!
URL:https://parentingtogetherwc.org/event/ready-set-kindergarten/2019-04-29/
LOCATION:Beaverton City Library Main\, 12375 SW 5th St\, Beaverton\, OR\, 97005\, United States
CATEGORIES:Family-Friendly,Kid Friendly,School Readiness Workshop
ATTACH;FMTTYPE=image/jpeg:https://parentingtogetherwc.org/wp-content/uploads/2019/04/RSK-Image.jpg
ORGANIZER;CN="City of Beaverton/Carson Mischel":MAILTO:cmischel@beavertonoregon.gov
GEO:45.4841472;-122.804052
X-APPLE-STRUCTURED-LOCATION;VALUE=URI;X-ADDRESS=Beaverton City Library Main 12375 SW 5th St Beaverton OR 97005 United States;X-APPLE-RADIUS=500;X-TITLE=12375 SW 5th St:geo:-122.804052,45.4841472
END:VEVENT
BEGIN:VEVENT
DTSTART;TZID=America/Los_Angeles:20180424T140000
DTEND;TZID=America/Los_Angeles:20180424T150000
DTSTAMP:20260422T171057
CREATED:20180327T180607Z
LAST-MODIFIED:20180327T180607Z
UID:10002802-1524578400-1524582000@parentingtogetherwc.org
SUMMARY:Positive PlayTime
DESCRIPTION:3 Positive PlayTime Beaverton
URL:https://parentingtogetherwc.org/event/positive-playtime/2018-04-24/
LOCATION:Beaverton City Library Main\, 12375 SW 5th St\, Beaverton\, OR\, 97005\, United States
CATEGORIES:Family-Friendly,Kid Friendly,Parenting Workshop
ORGANIZER;CN="City of Beaverton/Carson Mischel":MAILTO:cmischel@beavertonoregon.gov
GEO:45.4841472;-122.804052
X-APPLE-STRUCTURED-LOCATION;VALUE=URI;X-ADDRESS=Beaverton City Library Main 12375 SW 5th St Beaverton OR 97005 United States;X-APPLE-RADIUS=500;X-TITLE=12375 SW 5th St:geo:-122.804052,45.4841472
END:VEVENT
BEGIN:VEVENT
DTSTART;TZID=America/Los_Angeles:20180417T140000
DTEND;TZID=America/Los_Angeles:20180417T150000
DTSTAMP:20260422T171057
CREATED:20180327T180607Z
LAST-MODIFIED:20180327T180607Z
UID:10002801-1523973600-1523977200@parentingtogetherwc.org
SUMMARY:Positive PlayTime
DESCRIPTION:3 Positive PlayTime Beaverton
URL:https://parentingtogetherwc.org/event/positive-playtime/2018-04-17/
LOCATION:Beaverton City Library Main\, 12375 SW 5th St\, Beaverton\, OR\, 97005\, United States
CATEGORIES:Family-Friendly,Kid Friendly,Parenting Workshop
ORGANIZER;CN="City of Beaverton/Carson Mischel":MAILTO:cmischel@beavertonoregon.gov
GEO:45.4841472;-122.804052
X-APPLE-STRUCTURED-LOCATION;VALUE=URI;X-ADDRESS=Beaverton City Library Main 12375 SW 5th St Beaverton OR 97005 United States;X-APPLE-RADIUS=500;X-TITLE=12375 SW 5th St:geo:-122.804052,45.4841472
END:VEVENT
BEGIN:VEVENT
DTSTART;TZID=America/Los_Angeles:20180414T110000
DTEND;TZID=America/Los_Angeles:20180414T120000
DTSTAMP:20260422T171057
CREATED:20180406T233747Z
LAST-MODIFIED:20180406T233747Z
UID:10002810-1523703600-1523707200@parentingtogetherwc.org
SUMMARY:Beaverton City Library Baby Shower
DESCRIPTION:Join us as we celebrate babies! Sign your baby up for a library card\, meet other families\, explore community services\, and learn about the importance of reading to your baby from the very beginning. Babies under one year will receive a goody bag including a free book!
URL:https://parentingtogetherwc.org/event/beaverton-city-library-baby-shower/
LOCATION:Beaverton City Library Main\, 12375 SW 5th St\, Beaverton\, OR\, 97005\, United States
CATEGORIES:Family-Friendly,Kid Friendly
ATTACH;FMTTYPE=image/jpeg:https://parentingtogetherwc.org/wp-content/uploads/2018/04/Baby-shower-sign.jpg
ORGANIZER;CN="City of Beaverton/Carson Mischel":MAILTO:cmischel@beavertonoregon.gov
GEO:45.4841472;-122.804052
X-APPLE-STRUCTURED-LOCATION;VALUE=URI;X-ADDRESS=Beaverton City Library Main 12375 SW 5th St Beaverton OR 97005 United States;X-APPLE-RADIUS=500;X-TITLE=12375 SW 5th St:geo:-122.804052,45.4841472
END:VEVENT
BEGIN:VEVENT
DTSTART;TZID=America/Los_Angeles:20180410T140000
DTEND;TZID=America/Los_Angeles:20180410T150000
DTSTAMP:20260422T171057
CREATED:20180327T180607Z
LAST-MODIFIED:20180327T180607Z
UID:10002800-1523368800-1523372400@parentingtogetherwc.org
SUMMARY:Positive PlayTime
DESCRIPTION:3 Positive PlayTime Beaverton
URL:https://parentingtogetherwc.org/event/positive-playtime/2018-04-10/
LOCATION:Beaverton City Library Main\, 12375 SW 5th St\, Beaverton\, OR\, 97005\, United States
CATEGORIES:Family-Friendly,Kid Friendly,Parenting Workshop
ORGANIZER;CN="City of Beaverton/Carson Mischel":MAILTO:cmischel@beavertonoregon.gov
GEO:45.4841472;-122.804052
X-APPLE-STRUCTURED-LOCATION;VALUE=URI;X-ADDRESS=Beaverton City Library Main 12375 SW 5th St Beaverton OR 97005 United States;X-APPLE-RADIUS=500;X-TITLE=12375 SW 5th St:geo:-122.804052,45.4841472
END:VEVENT
BEGIN:VEVENT
DTSTART;TZID=America/Los_Angeles:20180403T140000
DTEND;TZID=America/Los_Angeles:20180403T150000
DTSTAMP:20260422T171057
CREATED:20180327T180607Z
LAST-MODIFIED:20180327T180607Z
UID:10002799-1522764000-1522767600@parentingtogetherwc.org
SUMMARY:Positive PlayTime
DESCRIPTION:3 Positive PlayTime Beaverton
URL:https://parentingtogetherwc.org/event/positive-playtime/2018-04-03/
LOCATION:Beaverton City Library Main\, 12375 SW 5th St\, Beaverton\, OR\, 97005\, United States
CATEGORIES:Family-Friendly,Kid Friendly,Parenting Workshop
ORGANIZER;CN="City of Beaverton/Carson Mischel":MAILTO:cmischel@beavertonoregon.gov
GEO:45.4841472;-122.804052
X-APPLE-STRUCTURED-LOCATION;VALUE=URI;X-ADDRESS=Beaverton City Library Main 12375 SW 5th St Beaverton OR 97005 United States;X-APPLE-RADIUS=500;X-TITLE=12375 SW 5th St:geo:-122.804052,45.4841472
END:VEVENT
BEGIN:VEVENT
DTSTART;TZID=America/Los_Angeles:20171021T100000
DTEND;TZID=America/Los_Angeles:20171021T140000
DTSTAMP:20260422T171057
CREATED:20170725T210910Z
LAST-MODIFIED:20170803T200354Z
UID:10002785-1508580000-1508594400@parentingtogetherwc.org
SUMMARY:Family Resource Fair
DESCRIPTION:The mission of the Beaverton City Library Family Resource Fair  is to connect non-profit organizations to the families\, with children ages 0-10\, they support in Washington County.
URL:https://parentingtogetherwc.org/event/family-resource-fair/
LOCATION:Beaverton City Library Main\, 12375 SW 5th St\, Beaverton\, OR\, 97005\, United States
CATEGORIES:Family-Friendly
ORGANIZER;CN="City of Beaverton/Carson Mischel":MAILTO:cmischel@beavertonoregon.gov
GEO:45.4841472;-122.804052
X-APPLE-STRUCTURED-LOCATION;VALUE=URI;X-ADDRESS=Beaverton City Library Main 12375 SW 5th St Beaverton OR 97005 United States;X-APPLE-RADIUS=500;X-TITLE=12375 SW 5th St:geo:-122.804052,45.4841472
END:VEVENT
BEGIN:VEVENT
DTSTART;TZID=America/Los_Angeles:20171020T110000
DTEND;TZID=America/Los_Angeles:20171020T120000
DTSTAMP:20260422T171057
CREATED:20171009T154741Z
LAST-MODIFIED:20171009T154741Z
UID:10002621-1508497200-1508500800@parentingtogetherwc.org
SUMMARY:Fun with Words
DESCRIPTION:Learn fun ways to build vocabulary with your child! Ages 4-5 with caregiver.
URL:https://parentingtogetherwc.org/event/fun-with-words/
LOCATION:Beaverton City Library Murray Scholls\, 1200 SW Murray Scholls Pl. Suite 102\, Beaverton\, United States
CATEGORIES:Adult Workshop
ORGANIZER;CN="City of Beaverton/Carson Mischel":MAILTO:cmischel@beavertonoregon.gov
GEO:45.438093;-122.828442
X-APPLE-STRUCTURED-LOCATION;VALUE=URI;X-ADDRESS=Beaverton City Library Murray Scholls 1200 SW Murray Scholls Pl. Suite 102 Beaverton United States;X-APPLE-RADIUS=500;X-TITLE=1200 SW Murray Scholls Pl. Suite 102:geo:-122.828442,45.438093
END:VEVENT
BEGIN:VEVENT
DTSTART;TZID=America/Los_Angeles:20171019T110000
DTEND;TZID=America/Los_Angeles:20171019T120000
DTSTAMP:20260422T171057
CREATED:20171009T154455Z
LAST-MODIFIED:20171009T154455Z
UID:10002622-1508410800-1508414400@parentingtogetherwc.org
SUMMARY:Fun with Letters
DESCRIPTION:Explore the alphabet with your child! For ages 2-5 with caregiver.
URL:https://parentingtogetherwc.org/event/fun-with-letters/
LOCATION:Beaverton City Library Murray Scholls\, 1200 SW Murray Scholls Pl. Suite 102\, Beaverton\, United States
CATEGORIES:Adult Workshop
ORGANIZER;CN="City of Beaverton/Carson Mischel":MAILTO:cmischel@beavertonoregon.gov
GEO:45.438093;-122.828442
X-APPLE-STRUCTURED-LOCATION;VALUE=URI;X-ADDRESS=Beaverton City Library Murray Scholls 1200 SW Murray Scholls Pl. Suite 102 Beaverton United States;X-APPLE-RADIUS=500;X-TITLE=1200 SW Murray Scholls Pl. Suite 102:geo:-122.828442,45.438093
END:VEVENT
BEGIN:VEVENT
DTSTART;TZID=America/Los_Angeles:20171014T110000
DTEND;TZID=America/Los_Angeles:20171014T120000
DTSTAMP:20260422T171057
CREATED:20171009T154331Z
LAST-MODIFIED:20171009T154331Z
UID:10002623-1507978800-1507982400@parentingtogetherwc.org
SUMMARY:Sharing Stories Together
DESCRIPTION:Fun with stories & songs while learning tips on the best ways to share books. Ages 3-6 with caregiver.
URL:https://parentingtogetherwc.org/event/sharing-stories-together/
LOCATION:Beaverton City library Murray Scholls\, 11200 SW Murray Scholls Pl..\, Beaverton\, United States
CATEGORIES:Adult Workshop
ORGANIZER;CN="City of Beaverton/Carson Mischel":MAILTO:cmischel@beavertonoregon.gov
GEO:45.4387234;-122.8276928
X-APPLE-STRUCTURED-LOCATION;VALUE=URI;X-ADDRESS=Beaverton City library Murray Scholls 11200 SW Murray Scholls Pl.. Beaverton United States;X-APPLE-RADIUS=500;X-TITLE=11200 SW Murray Scholls Pl..:geo:-122.8276928,45.4387234
END:VEVENT
BEGIN:VEVENT
DTSTART;TZID=America/Los_Angeles:20171013T110000
DTEND;TZID=America/Los_Angeles:20171013T120000
DTSTAMP:20260422T171057
CREATED:20171009T154115Z
LAST-MODIFIED:20171009T154115Z
UID:10002624-1507892400-1507896000@parentingtogetherwc.org
SUMMARY:Fun with Math & Science
DESCRIPTION:Explore the early literacy side of math & science. Ages 3-5 with caregiver.
URL:https://parentingtogetherwc.org/event/fun-math-science/
LOCATION:Beaverton City Library Murray Scholls\, 11200 SW Murray Scholls Pl. Suite 201\, Beaverton\, United States
CATEGORIES:Adult Workshop
ORGANIZER;CN="City of Beaverton/Carson Mischel":MAILTO:cmischel@beavertonoregon.gov
GEO:45.4387234;-122.8276928
X-APPLE-STRUCTURED-LOCATION;VALUE=URI;X-ADDRESS=Beaverton City Library Murray Scholls 11200 SW Murray Scholls Pl. Suite 201 Beaverton United States;X-APPLE-RADIUS=500;X-TITLE=11200 SW Murray Scholls Pl. Suite 201:geo:-122.8276928,45.4387234
END:VEVENT
BEGIN:VEVENT
DTSTART;TZID=America/Los_Angeles:20171012T111500
DTEND;TZID=America/Los_Angeles:20171012T120000
DTSTAMP:20260422T171057
CREATED:20171009T153836Z
LAST-MODIFIED:20171009T153836Z
UID:10002625-1507806900-1507809600@parentingtogetherwc.org
SUMMARY:Babies Need Early Literacy Too!
DESCRIPTION:Have fun while learning tips about choosing and sharing books with baby.
URL:https://parentingtogetherwc.org/event/babies-need-early-literacy/
LOCATION:beaverton city library murray scholls\, 11200 SW Murray Scholls Pl. Suite 102\, Beaverton\, United States
CATEGORIES:Adult Workshop
ORGANIZER;CN="City of Beaverton/Carson Mischel":MAILTO:cmischel@beavertonoregon.gov
GEO:45.4387234;-122.8276928
X-APPLE-STRUCTURED-LOCATION;VALUE=URI;X-ADDRESS=beaverton city library murray scholls 11200 SW Murray Scholls Pl. Suite 102 Beaverton United States;X-APPLE-RADIUS=500;X-TITLE=11200 SW Murray Scholls Pl. Suite 102:geo:-122.8276928,45.4387234
END:VEVENT
END:VCALENDAR