
BEGIN:VCALENDAR
VERSION:2.0
PRODID:-//Parenting Together Washington County - ECPv6.15.16.1//NONSGML v1.0//EN
CALSCALE:GREGORIAN
METHOD:PUBLISH
X-ORIGINAL-URL:https://parentingtogetherwc.org
X-WR-CALDESC:Events for Parenting Together Washington County
REFRESH-INTERVAL;VALUE=DURATION:PT1H
X-Robots-Tag:noindex
X-PUBLISHED-TTL:PT1H
BEGIN:VTIMEZONE
TZID:America/Los_Angeles
BEGIN:DAYLIGHT
TZOFFSETFROM:-0800
TZOFFSETTO:-0700
TZNAME:PDT
DTSTART:20160313T100000
END:DAYLIGHT
BEGIN:STANDARD
TZOFFSETFROM:-0700
TZOFFSETTO:-0800
TZNAME:PST
DTSTART:20161106T090000
END:STANDARD
BEGIN:DAYLIGHT
TZOFFSETFROM:-0800
TZOFFSETTO:-0700
TZNAME:PDT
DTSTART:20170312T100000
END:DAYLIGHT
BEGIN:STANDARD
TZOFFSETFROM:-0700
TZOFFSETTO:-0800
TZNAME:PST
DTSTART:20171105T090000
END:STANDARD
BEGIN:DAYLIGHT
TZOFFSETFROM:-0800
TZOFFSETTO:-0700
TZNAME:PDT
DTSTART:20180311T100000
END:DAYLIGHT
BEGIN:STANDARD
TZOFFSETFROM:-0700
TZOFFSETTO:-0800
TZNAME:PST
DTSTART:20181104T090000
END:STANDARD
END:VTIMEZONE
BEGIN:VEVENT
DTSTART;TZID=America/Los_Angeles:20171209T100000
DTEND;TZID=America/Los_Angeles:20171209T110000
DTSTAMP:20260423T042124
CREATED:20171130T195612Z
LAST-MODIFIED:20171130T195612Z
UID:10002435-1512813600-1512817200@parentingtogetherwc.org
SUMMARY:رعاية الابوة والامومة / الابوة والامومة معا   Nurturing Parenting
DESCRIPTION:رعاية الابوة والامومة / الابوة والامومة معا \nIRCO PTWC Recruitment Flyer FINAL ARABIC11.2017\nIRCO PTWC Workshop Flyer 2017-2018 English
URL:https://parentingtogetherwc.org/event/%d8%b1%d8%b9%d8%a7%d9%8a%d8%a9-%d8%a7%d9%84%d8%a7%d8%a8%d9%88%d8%a9-%d9%88%d8%a7%d9%84%d8%a7%d9%85%d9%88%d9%85%d8%a9-%d8%a7%d9%84%d8%a7%d8%a8%d9%88%d8%a9-%d9%88%d8%a7%d9%84%d8%a7%d9%85%d9%88%d9%85/
LOCATION:Unite Oregon\, 12625 SW Broadway St Suite 200\, Beaverton\, OR\, 97005\, United States
CATEGORIES:Parenting Classes
ORGANIZER;CN="IRCO/Danita Huynh":MAILTO:danita@irco.org
GEO:45.4876162;-122.8065611
X-APPLE-STRUCTURED-LOCATION;VALUE=URI;X-ADDRESS=Unite Oregon 12625 SW Broadway St Suite 200 Beaverton OR 97005 United States;X-APPLE-RADIUS=500;X-TITLE=12625 SW Broadway St Suite 200:geo:-122.8065611,45.4876162
END:VEVENT
BEGIN:VEVENT
DTSTART;TZID=America/Los_Angeles:20170315T173000
DTEND;TZID=America/Los_Angeles:20170315T190000
DTSTAMP:20260423T042125
CREATED:20170316T162828Z
LAST-MODIFIED:20170803T204022Z
UID:10002614-1489599000-1489604400@parentingtogetherwc.org
SUMMARY:Nurturing Parenting for Nepalese speakers
DESCRIPTION:Target Audience:  Nepalese speaking parents in Washington County with children ages 0-6 years old \n12 week sessions covering topics such as Making Good Choices\, Discipline with Dignity and Keeping Kids Safe \n6 Home Visits per family \nStart Date: 3/15/17 5:30 – 7:00 pm (Each Wednesday)\nLocation: Chehalem Elementary : 15555 SW Davis Rd\, Beaverton\, OR 97007\n(Bus Tickets\, Snacks and Child-Care or Stipends provided) \nFor More Details Contact: Danita Huynh / 971-271-6500 / danitah@irco.org Bhagwat Luitel \nIRCO PTWC Workshop Flyer 3.15.17 Nepalese Group
URL:https://parentingtogetherwc.org/event/nurturing-parenting-for-nepalese-speakers/
LOCATION:Chehalem Elementary School\, 15555 SW Davis Rd\, Beaverton\, OR\, 97007\, United States
CATEGORIES:Parenting Classes
ORGANIZER;CN="IRCO/Danita Huynh":MAILTO:danita@irco.org
GEO:45.4758489;-122.8372719
X-APPLE-STRUCTURED-LOCATION;VALUE=URI;X-ADDRESS=Chehalem Elementary School 15555 SW Davis Rd Beaverton OR 97007 United States;X-APPLE-RADIUS=500;X-TITLE=15555 SW Davis Rd:geo:-122.8372719,45.4758489
END:VEVENT
END:VCALENDAR