
BEGIN:VCALENDAR
VERSION:2.0
PRODID:-//Parenting Together Washington County - ECPv6.15.16.1//NONSGML v1.0//EN
CALSCALE:GREGORIAN
METHOD:PUBLISH
X-WR-CALNAME:Parenting Together Washington County
X-ORIGINAL-URL:https://parentingtogetherwc.org
X-WR-CALDESC:Events for Parenting Together Washington County
REFRESH-INTERVAL;VALUE=DURATION:PT1H
X-Robots-Tag:noindex
X-PUBLISHED-TTL:PT1H
BEGIN:VTIMEZONE
TZID:America/Los_Angeles
BEGIN:DAYLIGHT
TZOFFSETFROM:-0800
TZOFFSETTO:-0700
TZNAME:PDT
DTSTART:20160313T100000
END:DAYLIGHT
BEGIN:STANDARD
TZOFFSETFROM:-0700
TZOFFSETTO:-0800
TZNAME:PST
DTSTART:20161106T090000
END:STANDARD
BEGIN:DAYLIGHT
TZOFFSETFROM:-0800
TZOFFSETTO:-0700
TZNAME:PDT
DTSTART:20170312T100000
END:DAYLIGHT
BEGIN:STANDARD
TZOFFSETFROM:-0700
TZOFFSETTO:-0800
TZNAME:PST
DTSTART:20171105T090000
END:STANDARD
BEGIN:DAYLIGHT
TZOFFSETFROM:-0800
TZOFFSETTO:-0700
TZNAME:PDT
DTSTART:20180311T100000
END:DAYLIGHT
BEGIN:STANDARD
TZOFFSETFROM:-0700
TZOFFSETTO:-0800
TZNAME:PST
DTSTART:20181104T090000
END:STANDARD
END:VTIMEZONE
BEGIN:VEVENT
DTSTART;TZID=America/Los_Angeles:20171130T180000
DTEND;TZID=America/Los_Angeles:20171130T193000
DTSTAMP:20260423T003339
CREATED:20171127T190839Z
LAST-MODIFIED:20171127T191032Z
UID:10002432-1512064800-1512070200@parentingtogetherwc.org
SUMMARY:Cafe con el Superintendente Mike Scott
DESCRIPTION:Spanish Coffee Chat with Mike -NOV17 SPAN -¡Esta cordialmente invitado a un café con el superintendente Mike Scott!  \nEste evento en español está diseñado para ofrecer a los padres y miembros de la comunidad la oportunidad de reunirse con el superintendente Scott para conocer acerca de las actividades importantes en el Distrito y hacer preguntas.  \n¡Habrá cuidado de niños\, así como café y galletas! \n¿Dónde? Escuela Primaria Lincoln St\,  \n(801 NE Lincoln St\, Hillsboro\, OR 97124)  \nHora: 6:00 p.m.- 7:30 p.m.  \n¿Cuándo? jueves\, 30 de noviembre del 2017  \nSi necesita servicios de interpretación al inglés o para obtener más información\, por favor comuníquese al 503-844-1475 con Dora López. \n 
URL:https://parentingtogetherwc.org/event/cafe-con-el-superintendente-mike-scott-2/
LOCATION:Lincoln Street Elementary\, 801 NE Lincoln St.\, Hillsboro\, OR\, United States
CATEGORIES:Family-Friendly
GEO:45.5243548;-122.9767641
X-APPLE-STRUCTURED-LOCATION;VALUE=URI;X-ADDRESS=Lincoln Street Elementary 801 NE Lincoln St. Hillsboro OR United States;X-APPLE-RADIUS=500;X-TITLE=801 NE Lincoln St.:geo:-122.9767641,45.5243548
END:VEVENT
END:VCALENDAR