
BEGIN:VCALENDAR
VERSION:2.0
PRODID:-//Parenting Together Washington County - ECPv6.15.16.1//NONSGML v1.0//EN
CALSCALE:GREGORIAN
METHOD:PUBLISH
X-ORIGINAL-URL:https://parentingtogetherwc.org
X-WR-CALDESC:Events for Parenting Together Washington County
REFRESH-INTERVAL;VALUE=DURATION:PT1H
X-Robots-Tag:noindex
X-PUBLISHED-TTL:PT1H
BEGIN:VTIMEZONE
TZID:America/Los_Angeles
BEGIN:DAYLIGHT
TZOFFSETFROM:-0800
TZOFFSETTO:-0700
TZNAME:PDT
DTSTART:20190310T100000
END:DAYLIGHT
BEGIN:STANDARD
TZOFFSETFROM:-0700
TZOFFSETTO:-0800
TZNAME:PST
DTSTART:20191103T090000
END:STANDARD
BEGIN:DAYLIGHT
TZOFFSETFROM:-0800
TZOFFSETTO:-0700
TZNAME:PDT
DTSTART:20200308T100000
END:DAYLIGHT
BEGIN:STANDARD
TZOFFSETFROM:-0700
TZOFFSETTO:-0800
TZNAME:PST
DTSTART:20201101T090000
END:STANDARD
BEGIN:DAYLIGHT
TZOFFSETFROM:-0800
TZOFFSETTO:-0700
TZNAME:PDT
DTSTART:20210314T100000
END:DAYLIGHT
BEGIN:STANDARD
TZOFFSETFROM:-0700
TZOFFSETTO:-0800
TZNAME:PST
DTSTART:20211107T090000
END:STANDARD
BEGIN:DAYLIGHT
TZOFFSETFROM:-0800
TZOFFSETTO:-0700
TZNAME:PDT
DTSTART:20220313T100000
END:DAYLIGHT
BEGIN:STANDARD
TZOFFSETFROM:-0700
TZOFFSETTO:-0800
TZNAME:PST
DTSTART:20221106T090000
END:STANDARD
END:VTIMEZONE
BEGIN:VEVENT
DTSTART;TZID=America/Los_Angeles:20210204T173000
DTEND;TZID=America/Los_Angeles:20210204T190000
DTSTAMP:20260423T102415
CREATED:20210113T234150Z
LAST-MODIFIED:20210114T190526Z
UID:10004541-1612459800-1612465200@parentingtogetherwc.org
SUMMARY:Parenting in a Pandemic Parenting Support Series - Register by Jan 29th
DESCRIPTION:pcao_parent_series_feb_4_v2
URL:https://parentingtogetherwc.org/event/parenting-in-a-pandemic-parenting-support-series-register-by-jan-29th/
LOCATION:Virtual Parenting Series\, Zoom Link\, OR\, United States
CATEGORIES:Virtual Parenting Series,Virtual Parenting Support Group
END:VEVENT
BEGIN:VEVENT
DTSTART;TZID=America/Los_Angeles:20200813T190000
DTEND;TZID=America/Los_Angeles:20200813T203000
DTSTAMP:20260423T102415
CREATED:20200807T185345Z
LAST-MODIFIED:20200807T185345Z
UID:10004475-1597345200-1597350600@parentingtogetherwc.org
SUMMARY:Back on Track: The Parenting Reset You Need to Find This Fall’s New Normal
DESCRIPTION:Free Parenting Webinar 08.20
URL:https://parentingtogetherwc.org/event/back-on-track-the-parenting-reset-you-need-to-find-this-falls-new-normal-2/
LOCATION:Virtual Parenting Webinar
CATEGORIES:Virtual Workshop
END:VEVENT
BEGIN:VEVENT
DTSTART;TZID=America/Los_Angeles:20200812T170000
DTEND;TZID=America/Los_Angeles:20200812T183000
DTSTAMP:20260423T102415
CREATED:20200807T185017Z
LAST-MODIFIED:20200807T185017Z
UID:10004477-1597251600-1597257000@parentingtogetherwc.org
SUMMARY:Back on Track: The Parenting Reset You Need to Find This Fall's New Normal
DESCRIPTION:Free Parenting Webinar 08.20
URL:https://parentingtogetherwc.org/event/back-on-track-the-parenting-reset-you-need-to-find-this-falls-new-normal/
LOCATION:Virtual Parenting Webinar
END:VEVENT
END:VCALENDAR