
BEGIN:VCALENDAR
VERSION:2.0
PRODID:-//Parenting Together Washington County - ECPv6.15.16.1//NONSGML v1.0//EN
CALSCALE:GREGORIAN
METHOD:PUBLISH
X-ORIGINAL-URL:https://parentingtogetherwc.org
X-WR-CALDESC:Events for Parenting Together Washington County
REFRESH-INTERVAL;VALUE=DURATION:PT1H
X-Robots-Tag:noindex
X-PUBLISHED-TTL:PT1H
BEGIN:VTIMEZONE
TZID:America/Los_Angeles
BEGIN:DAYLIGHT
TZOFFSETFROM:-0800
TZOFFSETTO:-0700
TZNAME:PDT
DTSTART:20210314T100000
END:DAYLIGHT
BEGIN:STANDARD
TZOFFSETFROM:-0700
TZOFFSETTO:-0800
TZNAME:PST
DTSTART:20211107T090000
END:STANDARD
BEGIN:DAYLIGHT
TZOFFSETFROM:-0800
TZOFFSETTO:-0700
TZNAME:PDT
DTSTART:20220313T100000
END:DAYLIGHT
BEGIN:STANDARD
TZOFFSETFROM:-0700
TZOFFSETTO:-0800
TZNAME:PST
DTSTART:20221106T090000
END:STANDARD
BEGIN:DAYLIGHT
TZOFFSETFROM:-0800
TZOFFSETTO:-0700
TZNAME:PDT
DTSTART:20230312T100000
END:DAYLIGHT
BEGIN:STANDARD
TZOFFSETFROM:-0700
TZOFFSETTO:-0800
TZNAME:PST
DTSTART:20231105T090000
END:STANDARD
END:VTIMEZONE
BEGIN:VEVENT
DTSTART;TZID=America/Los_Angeles:20220420T130000
DTEND;TZID=America/Los_Angeles:20220420T150000
DTSTAMP:20260423T104604
CREATED:20220315T232102Z
LAST-MODIFIED:20220315T232102Z
UID:10004725-1650459600-1650466800@parentingtogetherwc.org
SUMMARY:PAX Simple Tools Virtual Workshop - Help your child manage their own behavior?
DESCRIPTION:Pax Tools Webinar Flyer 4-20-22
URL:https://parentingtogetherwc.org/event/pax-simple-tools-virtual-workshop-help-your-child-manage-their-own-behavior/
LOCATION:Virtual Workshop\, Zoom Link\, OR\, United States
CATEGORIES:Virtual Workshop
ORGANIZER;CN="Gaston School District":MAILTO:worstk@gastonk12.org
END:VEVENT
END:VCALENDAR