
BEGIN:VCALENDAR
VERSION:2.0
PRODID:-//Parenting Together Washington County - ECPv6.15.16.1//NONSGML v1.0//EN
CALSCALE:GREGORIAN
METHOD:PUBLISH
X-WR-CALNAME:Parenting Together Washington County
X-ORIGINAL-URL:https://parentingtogetherwc.org
X-WR-CALDESC:Events for Parenting Together Washington County
REFRESH-INTERVAL;VALUE=DURATION:PT1H
X-Robots-Tag:noindex
X-PUBLISHED-TTL:PT1H
BEGIN:VTIMEZONE
TZID:America/Los_Angeles
BEGIN:DAYLIGHT
TZOFFSETFROM:-0800
TZOFFSETTO:-0700
TZNAME:PDT
DTSTART:20180311T100000
END:DAYLIGHT
BEGIN:STANDARD
TZOFFSETFROM:-0700
TZOFFSETTO:-0800
TZNAME:PST
DTSTART:20181104T090000
END:STANDARD
BEGIN:DAYLIGHT
TZOFFSETFROM:-0800
TZOFFSETTO:-0700
TZNAME:PDT
DTSTART:20190310T100000
END:DAYLIGHT
BEGIN:STANDARD
TZOFFSETFROM:-0700
TZOFFSETTO:-0800
TZNAME:PST
DTSTART:20191103T090000
END:STANDARD
BEGIN:DAYLIGHT
TZOFFSETFROM:-0800
TZOFFSETTO:-0700
TZNAME:PDT
DTSTART:20200308T100000
END:DAYLIGHT
BEGIN:STANDARD
TZOFFSETFROM:-0700
TZOFFSETTO:-0800
TZNAME:PST
DTSTART:20201101T090000
END:STANDARD
END:VTIMEZONE
BEGIN:VEVENT
DTSTART;TZID=America/Los_Angeles:20190126T133000
DTEND;TZID=America/Los_Angeles:20190126T153000
DTSTAMP:20260423T020456
CREATED:20190110T010222Z
LAST-MODIFIED:20190110T010222Z
UID:10003106-1548509400-1548516600@parentingtogetherwc.org
SUMMARY:عاية الابوة والامومة معا
DESCRIPTION:IRCO PTWC Recruitment Flyer FINAL ARABIC2018-2019\nIRCO PTWC Arabic Workshop Flyer 2019 English
URL:https://parentingtogetherwc.org/event/%d8%b9%d8%a7%d9%8a%d8%a9-%d8%a7%d9%84%d8%a7%d8%a8%d9%88%d8%a9-%d9%88%d8%a7%d9%84%d8%a7%d9%85%d9%88%d9%85%d8%a9-%d9%85%d8%b9%d8%a7/
LOCATION:Village Church\, 330 SW Murray Blvd.\, Portland\, OR\, 97005
END:VEVENT
END:VCALENDAR