
BEGIN:VCALENDAR
VERSION:2.0
PRODID:-//Parenting Together Washington County - ECPv6.15.16.1//NONSGML v1.0//EN
CALSCALE:GREGORIAN
METHOD:PUBLISH
X-ORIGINAL-URL:https://parentingtogetherwc.org
X-WR-CALDESC:Events for Parenting Together Washington County
REFRESH-INTERVAL;VALUE=DURATION:PT1H
X-Robots-Tag:noindex
X-PUBLISHED-TTL:PT1H
BEGIN:VTIMEZONE
TZID:America/Los_Angeles
BEGIN:DAYLIGHT
TZOFFSETFROM:-0800
TZOFFSETTO:-0700
TZNAME:PDT
DTSTART:20190310T100000
END:DAYLIGHT
BEGIN:STANDARD
TZOFFSETFROM:-0700
TZOFFSETTO:-0800
TZNAME:PST
DTSTART:20191103T090000
END:STANDARD
BEGIN:DAYLIGHT
TZOFFSETFROM:-0800
TZOFFSETTO:-0700
TZNAME:PDT
DTSTART:20200308T100000
END:DAYLIGHT
BEGIN:STANDARD
TZOFFSETFROM:-0700
TZOFFSETTO:-0800
TZNAME:PST
DTSTART:20201101T090000
END:STANDARD
BEGIN:DAYLIGHT
TZOFFSETFROM:-0800
TZOFFSETTO:-0700
TZNAME:PDT
DTSTART:20210314T100000
END:DAYLIGHT
BEGIN:STANDARD
TZOFFSETFROM:-0700
TZOFFSETTO:-0800
TZNAME:PST
DTSTART:20211107T090000
END:STANDARD
END:VTIMEZONE
BEGIN:VEVENT
DTSTART;TZID=America/Los_Angeles:20201014T140000
DTEND;TZID=America/Los_Angeles:20201014T160000
DTSTAMP:20260423T064307
CREATED:20201006T180122Z
LAST-MODIFIED:20201006T180122Z
UID:10003875-1602684000-1602691200@parentingtogetherwc.org
SUMMARY:Circle of Security: Free Parenting Program for Parents & Children ages 0-5
DESCRIPTION:LWNW COS Fall 2020 Wednesdays (1)
URL:https://parentingtogetherwc.org/event/circle-of-security-free-parenting-program-for-parents-children-ages-0-5/
LOCATION:Virtual Parenting Series\, Zoom Link\, OR\, United States
CATEGORIES:Parenting Classes
ORGANIZER;CN="Lifeworks NW/Romy Leon":MAILTO:leon.leon@lifeworksnw.org
END:VEVENT
END:VCALENDAR