
BEGIN:VCALENDAR
VERSION:2.0
PRODID:-//Parenting Together Washington County - ECPv6.15.16.1//NONSGML v1.0//EN
CALSCALE:GREGORIAN
METHOD:PUBLISH
X-ORIGINAL-URL:https://parentingtogetherwc.org
X-WR-CALDESC:Events for Parenting Together Washington County
REFRESH-INTERVAL;VALUE=DURATION:PT1H
X-Robots-Tag:noindex
X-PUBLISHED-TTL:PT1H
BEGIN:VTIMEZONE
TZID:America/Los_Angeles
BEGIN:DAYLIGHT
TZOFFSETFROM:-0800
TZOFFSETTO:-0700
TZNAME:PDT
DTSTART:20180311T100000
END:DAYLIGHT
BEGIN:STANDARD
TZOFFSETFROM:-0700
TZOFFSETTO:-0800
TZNAME:PST
DTSTART:20181104T090000
END:STANDARD
BEGIN:DAYLIGHT
TZOFFSETFROM:-0800
TZOFFSETTO:-0700
TZNAME:PDT
DTSTART:20190310T100000
END:DAYLIGHT
BEGIN:STANDARD
TZOFFSETFROM:-0700
TZOFFSETTO:-0800
TZNAME:PST
DTSTART:20191103T090000
END:STANDARD
BEGIN:DAYLIGHT
TZOFFSETFROM:-0800
TZOFFSETTO:-0700
TZNAME:PDT
DTSTART:20200308T100000
END:DAYLIGHT
BEGIN:STANDARD
TZOFFSETFROM:-0700
TZOFFSETTO:-0800
TZNAME:PST
DTSTART:20201101T090000
END:STANDARD
BEGIN:DAYLIGHT
TZOFFSETFROM:-0800
TZOFFSETTO:-0700
TZNAME:PDT
DTSTART:20210314T100000
END:DAYLIGHT
BEGIN:STANDARD
TZOFFSETFROM:-0700
TZOFFSETTO:-0800
TZNAME:PST
DTSTART:20211107T090000
END:STANDARD
BEGIN:DAYLIGHT
TZOFFSETFROM:-0800
TZOFFSETTO:-0700
TZNAME:PDT
DTSTART:20220313T100000
END:DAYLIGHT
BEGIN:STANDARD
TZOFFSETFROM:-0700
TZOFFSETTO:-0800
TZNAME:PST
DTSTART:20221106T090000
END:STANDARD
END:VTIMEZONE
BEGIN:VEVENT
DTSTART;TZID=America/Los_Angeles:20210406T183000
DTEND;TZID=America/Los_Angeles:20210406T203000
DTSTAMP:20260423T013746
CREATED:20210305T191735Z
LAST-MODIFIED:20210305T191735Z
UID:10003910-1617733800-1617741000@parentingtogetherwc.org
SUMMARY:Clases virtuales para fortalacer padres y jovenes (10-14)
DESCRIPTION:HSD Spanish Flyer Spring 2021rev
URL:https://parentingtogetherwc.org/event/clases-virtuales-para-fortalacer-padres-y-jovenes-10-14/
LOCATION:Virtual Parenting Series\, Zoom Link\, OR\, United States
CATEGORIES:Teen Friendly,Virtual Parenting Series
END:VEVENT
BEGIN:VEVENT
DTSTART;TZID=America/Los_Angeles:20210406T183000
DTEND;TZID=America/Los_Angeles:20210406T203000
DTSTAMP:20260423T013746
CREATED:20210305T191135Z
LAST-MODIFIED:20210305T191135Z
UID:10003908-1617733800-1617741000@parentingtogetherwc.org
SUMMARY:Strengthening Families (10-14 Parenting and Youth Series)
DESCRIPTION:HSD English Flyer Spring 2021 (002)\nHSD Spanish Flyer Spring 2021rev
URL:https://parentingtogetherwc.org/event/strengthening-families-10-14-parenting-and-youth-series/
LOCATION:Virtual Parenting Series\, Zoom Link\, OR\, United States
CATEGORIES:Teen Friendly,Virtual Parenting Series
END:VEVENT
BEGIN:VEVENT
DTSTART;TZID=America/Los_Angeles:20210211T183000
DTEND;TZID=America/Los_Angeles:20210211T203000
DTSTAMP:20260423T013746
CREATED:20210126T190021Z
LAST-MODIFIED:20210129T213317Z
UID:10003893-1613068200-1613075400@parentingtogetherwc.org
SUMMARY:Fortalecimiento de las familias\, series para padres y apoyo a los jóvenes.
DESCRIPTION:Fowler Spanish Flyer Winter 2021extension
URL:https://parentingtogetherwc.org/event/ortalecimiento-de-las-familias-series-para-padres-y-apoyo-a-los-jovenes/
LOCATION:Virtual Parenting Series\, Zoom Link\, OR\, United States
CATEGORIES:Virtual Parenting Series
END:VEVENT
BEGIN:VEVENT
DTSTART;TZID=America/Los_Angeles:20210211T183000
DTEND;TZID=America/Los_Angeles:20210211T203000
DTSTAMP:20260423T013746
CREATED:20210126T185246Z
LAST-MODIFIED:20210129T213029Z
UID:10004547-1613068200-1613075400@parentingtogetherwc.org
SUMMARY:Strengthening Families Virtual Parenting and Youth Support Series
DESCRIPTION:Fowler English Flyer Winter 2021extension
URL:https://parentingtogetherwc.org/event/strengthening-families-virtual-parenting-and-youth-support-series/
LOCATION:Virtual Parenting Series\, Zoom Link\, OR\, United States
CATEGORIES:Teen Friendly,Virtual Parenting Series
END:VEVENT
BEGIN:VEVENT
DTSTART;TZID=America/Los_Angeles:20201027T183000
DTEND;TZID=America/Los_Angeles:20201027T203000
DTSTAMP:20260423T013746
CREATED:20201008T220252Z
LAST-MODIFIED:20201008T220252Z
UID:10003881-1603823400-1603830600@parentingtogetherwc.org
SUMMARY:Strengthening Families: Virtual Parent & Youth Realtionship Building Series
DESCRIPTION:Five Oaks Strengthening Families Flyer
URL:https://parentingtogetherwc.org/event/strengthening-families-virtual-parent-youth-realtionship-building-series/
LOCATION:Virtual Parenting Series\, Zoom Link\, OR\, United States
CATEGORIES:Parenting Classes,Teen Friendly,Virtual Parenting Series
END:VEVENT
BEGIN:VEVENT
DTSTART;TZID=America/Los_Angeles:20191022T173000
DTEND;TZID=America/Los_Angeles:20191022T200000
DTSTAMP:20260423T013746
CREATED:20191001T191540Z
LAST-MODIFIED:20191001T191645Z
UID:10004257-1571765400-1571774400@parentingtogetherwc.org
SUMMARY:Strengthening Families Series for parents and teens 10 -14 - Programa para fortalecer a las familias y jovenes 10-14
DESCRIPTION:English Flyer Free Orchards Spanish Flier Free Orchards
URL:https://parentingtogetherwc.org/event/strengthening-families-series-programa-para-fortalecer-a-las-familias/
LOCATION:Free Orchards Elementary School\, 2499 S Beech St\, Cornelius\, OR\, 97113\, United States
CATEGORIES:Parenting Classes,Teen Friendly
GEO:45.5175621;-123.0415047
X-APPLE-STRUCTURED-LOCATION;VALUE=URI;X-ADDRESS=Free Orchards Elementary School 2499 S Beech St Cornelius OR 97113 United States;X-APPLE-RADIUS=500;X-TITLE=2499 S Beech St:geo:-123.0415047,45.5175621
END:VEVENT
END:VCALENDAR