
BEGIN:VCALENDAR
VERSION:2.0
PRODID:-//Parenting Together Washington County - ECPv6.15.16.1//NONSGML v1.0//EN
CALSCALE:GREGORIAN
METHOD:PUBLISH
X-ORIGINAL-URL:https://parentingtogetherwc.org
X-WR-CALDESC:Events for Parenting Together Washington County
REFRESH-INTERVAL;VALUE=DURATION:PT1H
X-Robots-Tag:noindex
X-PUBLISHED-TTL:PT1H
BEGIN:VTIMEZONE
TZID:America/Los_Angeles
BEGIN:DAYLIGHT
TZOFFSETFROM:-0800
TZOFFSETTO:-0700
TZNAME:PDT
DTSTART:20190310T100000
END:DAYLIGHT
BEGIN:STANDARD
TZOFFSETFROM:-0700
TZOFFSETTO:-0800
TZNAME:PST
DTSTART:20191103T090000
END:STANDARD
BEGIN:DAYLIGHT
TZOFFSETFROM:-0800
TZOFFSETTO:-0700
TZNAME:PDT
DTSTART:20200308T100000
END:DAYLIGHT
BEGIN:STANDARD
TZOFFSETFROM:-0700
TZOFFSETTO:-0800
TZNAME:PST
DTSTART:20201101T090000
END:STANDARD
BEGIN:DAYLIGHT
TZOFFSETFROM:-0800
TZOFFSETTO:-0700
TZNAME:PDT
DTSTART:20210314T100000
END:DAYLIGHT
BEGIN:STANDARD
TZOFFSETFROM:-0700
TZOFFSETTO:-0800
TZNAME:PST
DTSTART:20211107T090000
END:STANDARD
BEGIN:DAYLIGHT
TZOFFSETFROM:-0800
TZOFFSETTO:-0700
TZNAME:PDT
DTSTART:20220313T100000
END:DAYLIGHT
BEGIN:STANDARD
TZOFFSETFROM:-0700
TZOFFSETTO:-0800
TZNAME:PST
DTSTART:20221106T090000
END:STANDARD
BEGIN:DAYLIGHT
TZOFFSETFROM:-0800
TZOFFSETTO:-0700
TZNAME:PDT
DTSTART:20230312T100000
END:DAYLIGHT
BEGIN:STANDARD
TZOFFSETFROM:-0700
TZOFFSETTO:-0800
TZNAME:PST
DTSTART:20231105T090000
END:STANDARD
END:VTIMEZONE
BEGIN:VEVENT
DTSTART;TZID=America/Los_Angeles:20220302T180000
DTEND;TZID=America/Los_Angeles:20220302T193000
DTSTAMP:20260423T110535
CREATED:20220223T150005Z
LAST-MODIFIED:20220223T150005Z
UID:10004750-1646244000-1646249400@parentingtogetherwc.org
SUMMARY:Abriendo Puertas - Parent-Caregiver Learning and Support Series
DESCRIPTION:url=”https://parentingtogetherwc.org/wp-content/uploads/2022/02/PES-Abriendo-Puertas-Flyer-2022-esp.pdf” title=”PES Abriendo Puertas Flyer 2022 esp”]\nPES Abriendo Puertas Flyer 2022 EN [pdf-embedder
URL:https://parentingtogetherwc.org/event/abriendo-puertas-parent-caregiver-learning-and-support-series/
LOCATION:Virtual Parenting Series\, Zoom Link\, OR\, United States
CATEGORIES:Virtual Parenting Series
ORGANIZER;CN="OCDC-Mayra Polanco":MAILTO:Mayra.Polanco@ocdc.net
END:VEVENT
BEGIN:VEVENT
DTSTART;TZID=America/Los_Angeles:20211105T180000
DTEND;TZID=America/Los_Angeles:20211105T193000
DTSTAMP:20260423T110535
CREATED:20211101T210416Z
LAST-MODIFIED:20211101T210416Z
UID:10003984-1636135200-1636140600@parentingtogetherwc.org
SUMMARY:Platiquemos de Violencia Domestica
DESCRIPTION:DV Flyer SP DV Flyer EN
URL:https://parentingtogetherwc.org/event/platiquemos-de-violencia-domestica/
LOCATION:Virtual Workshop\, Zoom Link\, OR\, United States
CATEGORIES:Virtual Parenting Support Group,Virtual Workshop
ORGANIZER;CN="OCDC-Mayra Polanco":MAILTO:Mayra.Polanco@ocdc.net
END:VEVENT
BEGIN:VEVENT
DTSTART;TZID=America/Los_Angeles:20211103T180000
DTEND;TZID=America/Los_Angeles:20211103T193000
DTSTAMP:20260423T110535
CREATED:20211022T223730Z
LAST-MODIFIED:20211022T223730Z
UID:10003976-1635962400-1635967800@parentingtogetherwc.org
SUMMARY:Está bien no estar bien - Encontrar su aldea durante la pandemia
DESCRIPTION:November 2021 Spanish Translation PCAO Parent Series Event Flier
URL:https://parentingtogetherwc.org/event/esta-bien-no-estar-bien-encontrar-su-aldea-durante-la-pandemia/
LOCATION:Virtual Workshop\, Zoom Link\, OR\, United States
CATEGORIES:Virtual Workshop
ORGANIZER;CN="OCDC-Mayra Polanco":MAILTO:Mayra.Polanco@ocdc.net
END:VEVENT
BEGIN:VEVENT
DTSTART;TZID=America/Los_Angeles:20211103T180000
DTEND;TZID=America/Los_Angeles:20211103T193000
DTSTAMP:20260423T110535
CREATED:20211022T223235Z
LAST-MODIFIED:20211022T223235Z
UID:10003974-1635962400-1635967800@parentingtogetherwc.org
SUMMARY:It's OK to not be OK Finding Your Village During the Pandemic - Parenting Support Workshop
DESCRIPTION:November 2021 PCAO Parent Series Event Flier
URL:https://parentingtogetherwc.org/event/its-ok-to-not-be-ok-finding-your-village-during-the-pandemic-parenting-support-workshop/
LOCATION:Virtual Workshop\, Zoom Link\, OR\, United States
CATEGORIES:Virtual Parenting Support Group,Virtual Workshop
ORGANIZER;CN="OCDC-Mayra Polanco":MAILTO:Mayra.Polanco@ocdc.net
END:VEVENT
BEGIN:VEVENT
DTSTART;TZID=America/Los_Angeles:20200930T180000
DTEND;TZID=America/Los_Angeles:20200930T191500
DTSTAMP:20260423T110535
CREATED:20200901T184940Z
LAST-MODIFIED:20200901T190912Z
UID:10004530-1601488800-1601493300@parentingtogetherwc.org
SUMMARY:Oportunidades de aprendizaje para padres a través de Zoom
DESCRIPTION:September Parent Learning Opportunities spanish
URL:https://parentingtogetherwc.org/event/oportunidades-de-aprendizaje-para-padres-a-traves-de-zoom/2020-09-30/
LOCATION:Virtual Workshop\, Zoom Link\, OR\, United States
CATEGORIES:Virtual Workshop
ORGANIZER;CN="OCDC-Mayra Polanco":MAILTO:Mayra.Polanco@ocdc.net
END:VEVENT
BEGIN:VEVENT
DTSTART;TZID=America/Los_Angeles:20200930T180000
DTEND;TZID=America/Los_Angeles:20200930T191500
DTSTAMP:20260423T110535
CREATED:20200901T184212Z
LAST-MODIFIED:20200901T184212Z
UID:10004524-1601488800-1601493300@parentingtogetherwc.org
SUMMARY:Weekly Parent Learning Opportunity Series via Zoom
DESCRIPTION:September Parent Learning Opportunities Eng
URL:https://parentingtogetherwc.org/event/weekly-parent-learning-opportunity-series-via-zoom/2020-09-30/
LOCATION:Virtual Workshop\, Zoom Link\, OR\, United States
CATEGORIES:Virtual Workshop
ORGANIZER;CN="OCDC-Mayra Polanco":MAILTO:Mayra.Polanco@ocdc.net
END:VEVENT
BEGIN:VEVENT
DTSTART;TZID=America/Los_Angeles:20200923T180000
DTEND;TZID=America/Los_Angeles:20200923T191500
DTSTAMP:20260423T110536
CREATED:20200901T184940Z
LAST-MODIFIED:20200901T190912Z
UID:10004529-1600884000-1600888500@parentingtogetherwc.org
SUMMARY:Oportunidades de aprendizaje para padres a través de Zoom
DESCRIPTION:September Parent Learning Opportunities spanish
URL:https://parentingtogetherwc.org/event/oportunidades-de-aprendizaje-para-padres-a-traves-de-zoom/2020-09-23/
LOCATION:Virtual Workshop\, Zoom Link\, OR\, United States
CATEGORIES:Virtual Workshop
ORGANIZER;CN="OCDC-Mayra Polanco":MAILTO:Mayra.Polanco@ocdc.net
END:VEVENT
BEGIN:VEVENT
DTSTART;TZID=America/Los_Angeles:20200923T180000
DTEND;TZID=America/Los_Angeles:20200923T191500
DTSTAMP:20260423T110536
CREATED:20200901T184212Z
LAST-MODIFIED:20200901T184212Z
UID:10004523-1600884000-1600888500@parentingtogetherwc.org
SUMMARY:Weekly Parent Learning Opportunity Series via Zoom
DESCRIPTION:September Parent Learning Opportunities Eng
URL:https://parentingtogetherwc.org/event/weekly-parent-learning-opportunity-series-via-zoom/2020-09-23/
LOCATION:Virtual Workshop\, Zoom Link\, OR\, United States
CATEGORIES:Virtual Workshop
ORGANIZER;CN="OCDC-Mayra Polanco":MAILTO:Mayra.Polanco@ocdc.net
END:VEVENT
BEGIN:VEVENT
DTSTART;TZID=America/Los_Angeles:20200916T180000
DTEND;TZID=America/Los_Angeles:20200916T191500
DTSTAMP:20260423T110536
CREATED:20200901T184940Z
LAST-MODIFIED:20200901T190912Z
UID:10004528-1600279200-1600283700@parentingtogetherwc.org
SUMMARY:Oportunidades de aprendizaje para padres a través de Zoom
DESCRIPTION:September Parent Learning Opportunities spanish
URL:https://parentingtogetherwc.org/event/oportunidades-de-aprendizaje-para-padres-a-traves-de-zoom/2020-09-16/
LOCATION:Virtual Workshop\, Zoom Link\, OR\, United States
CATEGORIES:Virtual Workshop
ORGANIZER;CN="OCDC-Mayra Polanco":MAILTO:Mayra.Polanco@ocdc.net
END:VEVENT
BEGIN:VEVENT
DTSTART;TZID=America/Los_Angeles:20200916T180000
DTEND;TZID=America/Los_Angeles:20200916T191500
DTSTAMP:20260423T110536
CREATED:20200901T184212Z
LAST-MODIFIED:20200901T184212Z
UID:10004522-1600279200-1600283700@parentingtogetherwc.org
SUMMARY:Weekly Parent Learning Opportunity Series via Zoom
DESCRIPTION:September Parent Learning Opportunities Eng
URL:https://parentingtogetherwc.org/event/weekly-parent-learning-opportunity-series-via-zoom/2020-09-16/
LOCATION:Virtual Workshop\, Zoom Link\, OR\, United States
CATEGORIES:Virtual Workshop
ORGANIZER;CN="OCDC-Mayra Polanco":MAILTO:Mayra.Polanco@ocdc.net
END:VEVENT
BEGIN:VEVENT
DTSTART;TZID=America/Los_Angeles:20200909T180000
DTEND;TZID=America/Los_Angeles:20200909T191500
DTSTAMP:20260423T110536
CREATED:20200901T184940Z
LAST-MODIFIED:20200901T190912Z
UID:10004527-1599674400-1599678900@parentingtogetherwc.org
SUMMARY:Oportunidades de aprendizaje para padres a través de Zoom
DESCRIPTION:September Parent Learning Opportunities spanish
URL:https://parentingtogetherwc.org/event/oportunidades-de-aprendizaje-para-padres-a-traves-de-zoom/2020-09-09/
LOCATION:Virtual Workshop\, Zoom Link\, OR\, United States
CATEGORIES:Virtual Workshop
ORGANIZER;CN="OCDC-Mayra Polanco":MAILTO:Mayra.Polanco@ocdc.net
END:VEVENT
BEGIN:VEVENT
DTSTART;TZID=America/Los_Angeles:20200909T180000
DTEND;TZID=America/Los_Angeles:20200909T191500
DTSTAMP:20260423T110536
CREATED:20200901T184212Z
LAST-MODIFIED:20200901T184212Z
UID:10004521-1599674400-1599678900@parentingtogetherwc.org
SUMMARY:Weekly Parent Learning Opportunity Series via Zoom
DESCRIPTION:September Parent Learning Opportunities Eng
URL:https://parentingtogetherwc.org/event/weekly-parent-learning-opportunity-series-via-zoom/2020-09-09/
LOCATION:Virtual Workshop\, Zoom Link\, OR\, United States
CATEGORIES:Virtual Workshop
ORGANIZER;CN="OCDC-Mayra Polanco":MAILTO:Mayra.Polanco@ocdc.net
END:VEVENT
BEGIN:VEVENT
DTSTART;TZID=America/Los_Angeles:20200902T180000
DTEND;TZID=America/Los_Angeles:20200902T191500
DTSTAMP:20260423T110536
CREATED:20200901T184940Z
LAST-MODIFIED:20200901T190912Z
UID:10004526-1599069600-1599074100@parentingtogetherwc.org
SUMMARY:Oportunidades de aprendizaje para padres a través de Zoom
DESCRIPTION:September Parent Learning Opportunities spanish
URL:https://parentingtogetherwc.org/event/oportunidades-de-aprendizaje-para-padres-a-traves-de-zoom/2020-09-02/
LOCATION:Virtual Workshop\, Zoom Link\, OR\, United States
CATEGORIES:Virtual Workshop
ORGANIZER;CN="OCDC-Mayra Polanco":MAILTO:Mayra.Polanco@ocdc.net
END:VEVENT
BEGIN:VEVENT
DTSTART;TZID=America/Los_Angeles:20200902T180000
DTEND;TZID=America/Los_Angeles:20200902T191500
DTSTAMP:20260423T110536
CREATED:20200901T184212Z
LAST-MODIFIED:20200901T184212Z
UID:10004520-1599069600-1599074100@parentingtogetherwc.org
SUMMARY:Weekly Parent Learning Opportunity Series via Zoom
DESCRIPTION:September Parent Learning Opportunities Eng
URL:https://parentingtogetherwc.org/event/weekly-parent-learning-opportunity-series-via-zoom/2020-09-02/
LOCATION:Virtual Workshop\, Zoom Link\, OR\, United States
CATEGORIES:Virtual Workshop
ORGANIZER;CN="OCDC-Mayra Polanco":MAILTO:Mayra.Polanco@ocdc.net
END:VEVENT
END:VCALENDAR