
BEGIN:VCALENDAR
VERSION:2.0
PRODID:-//Parenting Together Washington County - ECPv6.15.16.1//NONSGML v1.0//EN
CALSCALE:GREGORIAN
METHOD:PUBLISH
X-ORIGINAL-URL:https://parentingtogetherwc.org
X-WR-CALDESC:Events for Parenting Together Washington County
REFRESH-INTERVAL;VALUE=DURATION:PT1H
X-Robots-Tag:noindex
X-PUBLISHED-TTL:PT1H
BEGIN:VTIMEZONE
TZID:America/Los_Angeles
BEGIN:DAYLIGHT
TZOFFSETFROM:-0800
TZOFFSETTO:-0700
TZNAME:PDT
DTSTART:20190310T100000
END:DAYLIGHT
BEGIN:STANDARD
TZOFFSETFROM:-0700
TZOFFSETTO:-0800
TZNAME:PST
DTSTART:20191103T090000
END:STANDARD
BEGIN:DAYLIGHT
TZOFFSETFROM:-0800
TZOFFSETTO:-0700
TZNAME:PDT
DTSTART:20200308T100000
END:DAYLIGHT
BEGIN:STANDARD
TZOFFSETFROM:-0700
TZOFFSETTO:-0800
TZNAME:PST
DTSTART:20201101T090000
END:STANDARD
BEGIN:DAYLIGHT
TZOFFSETFROM:-0800
TZOFFSETTO:-0700
TZNAME:PDT
DTSTART:20210314T100000
END:DAYLIGHT
BEGIN:STANDARD
TZOFFSETFROM:-0700
TZOFFSETTO:-0800
TZNAME:PST
DTSTART:20211107T090000
END:STANDARD
BEGIN:DAYLIGHT
TZOFFSETFROM:-0800
TZOFFSETTO:-0700
TZNAME:PDT
DTSTART:20220313T100000
END:DAYLIGHT
BEGIN:STANDARD
TZOFFSETFROM:-0700
TZOFFSETTO:-0800
TZNAME:PST
DTSTART:20221106T090000
END:STANDARD
END:VTIMEZONE
BEGIN:VEVENT
DTSTART;TZID=America/Los_Angeles:20210318T171500
DTEND;TZID=America/Los_Angeles:20210318T193000
DTSTAMP:20260423T104322
CREATED:20210305T211357Z
LAST-MODIFIED:20210305T211357Z
UID:10004552-1616087700-1616095800@parentingtogetherwc.org
SUMMARY:Exploring Our Food Environment - Virtual Community Conversation
DESCRIPTION:FEAST Flyer-Exploring Our Food Environment 03.18.21
URL:https://parentingtogetherwc.org/event/exploring-our-food-environment-virtual-community-conversation/
LOCATION:India
CATEGORIES:Virtual Community Conversation
END:VEVENT
BEGIN:VEVENT
DTSTART;TZID=America/Los_Angeles:20200826T180000
DTEND;TZID=America/Los_Angeles:20200826T191500
DTSTAMP:20260423T104322
CREATED:20200813T190159Z
LAST-MODIFIED:20200813T190159Z
UID:10004470-1598464800-1598469300@parentingtogetherwc.org
SUMMARY:Como puede ayudar a preparar su niño o niña al kindergarten
DESCRIPTION:OCDC Workshop short flyer span
URL:https://parentingtogetherwc.org/event/como-puede-ayudar-a-preparar-su-nino-o-nina-al-kindergarten/
LOCATION:Virtual Parenting Webinar
CATEGORIES:Virtual Workshop
END:VEVENT
BEGIN:VEVENT
DTSTART;TZID=America/Los_Angeles:20200819T060000
DTEND;TZID=America/Los_Angeles:20200819T191500
DTSTAMP:20260423T104322
CREATED:20200813T185810Z
LAST-MODIFIED:20200813T185810Z
UID:10004471-1597816800-1597864500@parentingtogetherwc.org
SUMMARY:Cómo apoyar a niños con educación distancia
DESCRIPTION:OCDC Workshop short flyer span
URL:https://parentingtogetherwc.org/event/como-apoyar-a-ninos-con-educacion-distancia/
LOCATION:Virtual Parenting Webinar
CATEGORIES:Virtual Workshop
END:VEVENT
END:VCALENDAR