
BEGIN:VCALENDAR
VERSION:2.0
PRODID:-//Parenting Together Washington County - ECPv6.15.16.1//NONSGML v1.0//EN
CALSCALE:GREGORIAN
METHOD:PUBLISH
X-ORIGINAL-URL:https://parentingtogetherwc.org
X-WR-CALDESC:Events for Parenting Together Washington County
REFRESH-INTERVAL;VALUE=DURATION:PT1H
X-Robots-Tag:noindex
X-PUBLISHED-TTL:PT1H
BEGIN:VTIMEZONE
TZID:America/Los_Angeles
BEGIN:DAYLIGHT
TZOFFSETFROM:-0800
TZOFFSETTO:-0700
TZNAME:PDT
DTSTART:20180311T100000
END:DAYLIGHT
BEGIN:STANDARD
TZOFFSETFROM:-0700
TZOFFSETTO:-0800
TZNAME:PST
DTSTART:20181104T090000
END:STANDARD
BEGIN:DAYLIGHT
TZOFFSETFROM:-0800
TZOFFSETTO:-0700
TZNAME:PDT
DTSTART:20190310T100000
END:DAYLIGHT
BEGIN:STANDARD
TZOFFSETFROM:-0700
TZOFFSETTO:-0800
TZNAME:PST
DTSTART:20191103T090000
END:STANDARD
BEGIN:DAYLIGHT
TZOFFSETFROM:-0800
TZOFFSETTO:-0700
TZNAME:PDT
DTSTART:20200308T100000
END:DAYLIGHT
BEGIN:STANDARD
TZOFFSETFROM:-0700
TZOFFSETTO:-0800
TZNAME:PST
DTSTART:20201101T090000
END:STANDARD
END:VTIMEZONE
BEGIN:VEVENT
DTSTART;TZID=America/Los_Angeles:20190816T150000
DTEND;TZID=America/Los_Angeles:20190816T180000
DTSTAMP:20260423T044443
CREATED:20190805T203429Z
LAST-MODIFIED:20190805T203429Z
UID:10003431-1565967600-1565978400@parentingtogetherwc.org
SUMMARY:Back to School Bash in Support of Military Families
DESCRIPTION:Registration Required – All military families welcome! \nBack to School Bash 2019 Flyer_smaller
URL:https://parentingtogetherwc.org/event/back-to-school-bash-in-support-of-military-families/
LOCATION:Camp Withycombe\, 10101 SE Clackamas Rd\,\, Clackamas\, OR\, 97015\, United States
CATEGORIES:Family-Friendly,Kid Friendly,Teen Friendly
ORGANIZER;CN="Oregon National Guard Service Member & Family Support":MAILTO:cyp@oregonmilitaryfamily.org
END:VEVENT
BEGIN:VEVENT
DTSTART;TZID=America/Los_Angeles:20190316T110000
DTEND;TZID=America/Los_Angeles:20190316T140000
DTSTAMP:20260423T044443
CREATED:20190311T162515Z
LAST-MODIFIED:20190311T162515Z
UID:10003166-1552734000-1552744800@parentingtogetherwc.org
SUMMARY:Military Families Resource Carnival Event
DESCRIPTION:Forest Grove Military Families Resource Carnival Event 16 March 2019
URL:https://parentingtogetherwc.org/event/military-families-resource-carnival-event/
LOCATION:Forest Grove National Armory\, 2950 Taylor Way\, Forest Grove\, OR\, 97116\, United States
CATEGORIES:Family-Friendly
ORGANIZER;CN="Oregon National Guard Service Member & Family Support":MAILTO:cyp@oregonmilitaryfamily.org
END:VEVENT
END:VCALENDAR