
BEGIN:VCALENDAR
VERSION:2.0
PRODID:-//Parenting Together Washington County - ECPv6.15.16.1//NONSGML v1.0//EN
CALSCALE:GREGORIAN
METHOD:PUBLISH
X-ORIGINAL-URL:https://parentingtogetherwc.org
X-WR-CALDESC:Events for Parenting Together Washington County
REFRESH-INTERVAL;VALUE=DURATION:PT1H
X-Robots-Tag:noindex
X-PUBLISHED-TTL:PT1H
BEGIN:VTIMEZONE
TZID:America/Los_Angeles
BEGIN:DAYLIGHT
TZOFFSETFROM:-0800
TZOFFSETTO:-0700
TZNAME:PDT
DTSTART:20210314T100000
END:DAYLIGHT
BEGIN:STANDARD
TZOFFSETFROM:-0700
TZOFFSETTO:-0800
TZNAME:PST
DTSTART:20211107T090000
END:STANDARD
BEGIN:DAYLIGHT
TZOFFSETFROM:-0800
TZOFFSETTO:-0700
TZNAME:PDT
DTSTART:20220313T100000
END:DAYLIGHT
BEGIN:STANDARD
TZOFFSETFROM:-0700
TZOFFSETTO:-0800
TZNAME:PST
DTSTART:20221106T090000
END:STANDARD
BEGIN:DAYLIGHT
TZOFFSETFROM:-0800
TZOFFSETTO:-0700
TZNAME:PDT
DTSTART:20230312T100000
END:DAYLIGHT
BEGIN:STANDARD
TZOFFSETFROM:-0700
TZOFFSETTO:-0800
TZNAME:PST
DTSTART:20231105T090000
END:STANDARD
END:VTIMEZONE
BEGIN:VEVENT
DTSTART;TZID=America/Los_Angeles:20220919T190000
DTEND;TZID=America/Los_Angeles:20220919T203000
DTSTAMP:20260423T105419
CREATED:20220906T202412Z
LAST-MODIFIED:20220906T202439Z
UID:10004175-1663614000-1663619400@parentingtogetherwc.org
SUMMARY:Caring Discipline 5-week parent-caregiver virtual learning\, support and connection series
DESCRIPTION:Whether you are a (co-\, foster-\, grand-\, step-) parent or a teacher\, The Caring Discipline approach provides researched-informed\, yet simple guidelines\, tools\, and practical examples that explain specific ways to help you feel in control of the adult/child relationship. Both adult and child will feel respected\, secure\, and loved.\nThe curriculum will help participants develop skills and tools to create caring discipline systems and not sabotage your parenting efforts.\nLearn how to:\n\nshow unconditional love as you identify the four types of misbehaviors and learn caring ways to correct them.\nDevelop techniques to build children’s emotional intelligence & self-esteem.\n\nThe classes are a great opportunity to discuss\, brainstorm\, and share with other parents and parent educators. \n 
URL:https://parentingtogetherwc.org/event/caring-discipline-5-week-parent-caregiver-virtual-learning-support-and-connection-series/
LOCATION:Virtual Parenting Series\, Zoom Link\, OR\, United States
CATEGORIES:Virtual Parenting Series
ATTACH;FMTTYPE=image/jpeg:https://parentingtogetherwc.org/wp-content/uploads/2022/09/20200108_161825-scaled.jpg
END:VEVENT
END:VCALENDAR