
BEGIN:VCALENDAR
VERSION:2.0
PRODID:-//Parenting Together Washington County - ECPv6.15.16.1//NONSGML v1.0//EN
CALSCALE:GREGORIAN
METHOD:PUBLISH
X-WR-CALNAME:Parenting Together Washington County
X-ORIGINAL-URL:https://parentingtogetherwc.org
X-WR-CALDESC:Events for Parenting Together Washington County
REFRESH-INTERVAL;VALUE=DURATION:PT1H
X-Robots-Tag:noindex
X-PUBLISHED-TTL:PT1H
BEGIN:VTIMEZONE
TZID:America/Los_Angeles
BEGIN:DAYLIGHT
TZOFFSETFROM:-0800
TZOFFSETTO:-0700
TZNAME:PDT
DTSTART:20170312T100000
END:DAYLIGHT
BEGIN:STANDARD
TZOFFSETFROM:-0700
TZOFFSETTO:-0800
TZNAME:PST
DTSTART:20171105T090000
END:STANDARD
BEGIN:DAYLIGHT
TZOFFSETFROM:-0800
TZOFFSETTO:-0700
TZNAME:PDT
DTSTART:20180311T100000
END:DAYLIGHT
BEGIN:STANDARD
TZOFFSETFROM:-0700
TZOFFSETTO:-0800
TZNAME:PST
DTSTART:20181104T090000
END:STANDARD
BEGIN:DAYLIGHT
TZOFFSETFROM:-0800
TZOFFSETTO:-0700
TZNAME:PDT
DTSTART:20190310T100000
END:DAYLIGHT
BEGIN:STANDARD
TZOFFSETFROM:-0700
TZOFFSETTO:-0800
TZNAME:PST
DTSTART:20191103T090000
END:STANDARD
BEGIN:DAYLIGHT
TZOFFSETFROM:-0800
TZOFFSETTO:-0700
TZNAME:PDT
DTSTART:20200308T100000
END:DAYLIGHT
BEGIN:STANDARD
TZOFFSETFROM:-0700
TZOFFSETTO:-0800
TZNAME:PST
DTSTART:20201101T090000
END:STANDARD
BEGIN:DAYLIGHT
TZOFFSETFROM:-0800
TZOFFSETTO:-0700
TZNAME:PDT
DTSTART:20210314T100000
END:DAYLIGHT
BEGIN:STANDARD
TZOFFSETFROM:-0700
TZOFFSETTO:-0800
TZNAME:PST
DTSTART:20211107T090000
END:STANDARD
BEGIN:DAYLIGHT
TZOFFSETFROM:-0800
TZOFFSETTO:-0700
TZNAME:PDT
DTSTART:20220313T100000
END:DAYLIGHT
BEGIN:STANDARD
TZOFFSETFROM:-0700
TZOFFSETTO:-0800
TZNAME:PST
DTSTART:20221106T090000
END:STANDARD
BEGIN:DAYLIGHT
TZOFFSETFROM:-0800
TZOFFSETTO:-0700
TZNAME:PDT
DTSTART:20230312T100000
END:DAYLIGHT
BEGIN:STANDARD
TZOFFSETFROM:-0700
TZOFFSETTO:-0800
TZNAME:PST
DTSTART:20231105T090000
END:STANDARD
BEGIN:DAYLIGHT
TZOFFSETFROM:-0800
TZOFFSETTO:-0700
TZNAME:PDT
DTSTART:20240310T100000
END:DAYLIGHT
BEGIN:STANDARD
TZOFFSETFROM:-0700
TZOFFSETTO:-0800
TZNAME:PST
DTSTART:20241103T090000
END:STANDARD
BEGIN:DAYLIGHT
TZOFFSETFROM:-0800
TZOFFSETTO:-0700
TZNAME:PDT
DTSTART:20250309T100000
END:DAYLIGHT
BEGIN:STANDARD
TZOFFSETFROM:-0700
TZOFFSETTO:-0800
TZNAME:PST
DTSTART:20251102T090000
END:STANDARD
END:VTIMEZONE
BEGIN:VEVENT
DTSTART;TZID=America/Los_Angeles:20240120T090000
DTEND;TZID=America/Los_Angeles:20240120T110000
DTSTAMP:20260423T002434
CREATED:20231213T011318Z
LAST-MODIFIED:20231213T011318Z
UID:10004877-1705741200-1705748400@parentingtogetherwc.org
SUMMARY:Sherwood School District Early Learning Fair
DESCRIPTION:2024 Sherwood Early Learning Fair Flyer
URL:https://parentingtogetherwc.org/event/sherwood-school-district-early-learning-fair-2/
LOCATION:Sherwood School District Multi-Purpose Room\, 21920 SW Sherwood Blvd\, Sherwood\, OR\, 97140
CATEGORIES:Family Resource Event,Family-Friendly
ORGANIZER;CN="Sherwood School District":MAILTO:dsticka@sherwood.k12.or.us
END:VEVENT
BEGIN:VEVENT
DTSTART;TZID=America/Los_Angeles:20220129T100000
DTEND;TZID=America/Los_Angeles:20220129T120000
DTSTAMP:20260423T002434
CREATED:20220113T234449Z
LAST-MODIFIED:20220113T234449Z
UID:10004736-1643450400-1643457600@parentingtogetherwc.org
SUMMARY:Sherwood School District Early Learning Fair
DESCRIPTION:2022 Early Learning Fair Final Flier COLOR.docx (1)
URL:https://parentingtogetherwc.org/event/sherwood-school-district-early-learning-fair/
LOCATION:Virtual Connection\, OR\, United States
CATEGORIES:Virtual Early Learning Fair
ORGANIZER;CN="Sherwood School District":MAILTO:dsticka@sherwood.k12.or.us
END:VEVENT
BEGIN:VEVENT
DTSTART;TZID=America/Los_Angeles:20200225T180000
DTEND;TZID=America/Los_Angeles:20200225T200000
DTSTAMP:20260423T002434
CREATED:20200221T212435Z
LAST-MODIFIED:20200221T212435Z
UID:10004440-1582653600-1582660800@parentingtogetherwc.org
SUMMARY:Sherwood Early Learning Fair
DESCRIPTION:Eng 2020 Early Learning Fair Flyer Spanish 2020 Early Learning Fair Flyer
URL:https://parentingtogetherwc.org/event/sherwood-early-learning-fair/
LOCATION:Hopkins Elementary\, 21920 SW Sherwood Blvd\, Sherwood\, OR\, United States
CATEGORIES:Family Resource Event,Family-Friendly,Kid Friendly
ORGANIZER;CN="Sherwood School District":MAILTO:dsticka@sherwood.k12.or.us
END:VEVENT
BEGIN:VEVENT
DTSTART;TZID=America/Los_Angeles:20191214T093000
DTEND;TZID=America/Los_Angeles:20191214T110000
DTSTAMP:20260423T002434
CREATED:20191205T185413Z
LAST-MODIFIED:20191205T185413Z
UID:10004362-1576315800-1576321200@parentingtogetherwc.org
SUMMARY:Spirited Child Parent & Educator Workshop - Registration required
DESCRIPTION:spiritedchild2019Sherwood flyerspiritedchildspanish2019Sherwood
URL:https://parentingtogetherwc.org/event/spirited-child-parent-educator-workshop-registration-required/
LOCATION:Sherwood Public Library – Community Room\, 22560 SW Pine Street\, Sherwood\, 97140\, United States
CATEGORIES:Parenting Workshop
ORGANIZER;CN="Sherwood School District":MAILTO:dsticka@sherwood.k12.or.us
GEO:45.3567047;-122.8401051
X-APPLE-STRUCTURED-LOCATION;VALUE=URI;X-ADDRESS=Sherwood Public Library – Community Room 22560 SW Pine Street Sherwood 97140 United States;X-APPLE-RADIUS=500;X-TITLE=22560 SW Pine Street:geo:-122.8401051,45.3567047
END:VEVENT
BEGIN:VEVENT
DTSTART;TZID=America/Los_Angeles:20190530T163000
DTEND;TZID=America/Los_Angeles:20190530T183000
DTSTAMP:20260423T002434
CREATED:20190510T170945Z
LAST-MODIFIED:20190510T170945Z
UID:10004009-1559233800-1559241000@parentingtogetherwc.org
SUMMARY:Venga a visitar el centro de recursos familiars de Sherwood
DESCRIPTION:ShareCenterOpenHouse-Spanish
URL:https://parentingtogetherwc.org/event/venga-a-visitar-el-centro-de-recursos-familiars-de-sherwood/
LOCATION:Sherwood Family Resource Center (SHARE)\, 21970 SW Sherwood Blvd\, Sherwood\, OR\, 97140\, United States
ORGANIZER;CN="Sherwood School District":MAILTO:dsticka@sherwood.k12.or.us
GEO:45.3589282;-122.841336
X-APPLE-STRUCTURED-LOCATION;VALUE=URI;X-ADDRESS=Sherwood Family Resource Center (SHARE) 21970 SW Sherwood Blvd Sherwood OR 97140 United States;X-APPLE-RADIUS=500;X-TITLE=21970 SW Sherwood Blvd:geo:-122.841336,45.3589282
END:VEVENT
BEGIN:VEVENT
DTSTART;TZID=America/Los_Angeles:20180213T183000
DTEND;TZID=America/Los_Angeles:20180213T200000
DTSTAMP:20260423T002434
CREATED:20180105T235905Z
LAST-MODIFIED:20180105T235905Z
UID:10002993-1518546600-1518552000@parentingtogetherwc.org
SUMMARY:Parenting with Love and Logic
DESCRIPTION:Ditch the nagging\, drop the threats\, and lose the stress: you can raise great kids with techniques that are practical\, proven\, and fun! \nJoin us for 6 week series covering: \n·        Parenting styles \n·        Neutralizing arguments \n·        Letting children solve their own problems \n·        Gaining control through choices \n·        Saving your emotional energy \n·        Dealing with difficult behavior \nFacilitated by Kate Kelleher\, retired teacher\, school counselor\, and owner of Kates Consulting for Kids.
URL:https://parentingtogetherwc.org/event/parenting-love-logic/2018-02-13/
LOCATION:Sherwood Family Resource Center (SHARE)\, 21970 SW Sherwood Blvd\, Sherwood\, OR\, 97140\, United States
CATEGORIES:Parenting Classes
ATTACH;FMTTYPE=image/jpeg:https://parentingtogetherwc.org/wp-content/uploads/2018/01/LoveLogic.jpg
ORGANIZER;CN="Sherwood School District":MAILTO:dsticka@sherwood.k12.or.us
GEO:45.3589282;-122.841336
X-APPLE-STRUCTURED-LOCATION;VALUE=URI;X-ADDRESS=Sherwood Family Resource Center (SHARE) 21970 SW Sherwood Blvd Sherwood OR 97140 United States;X-APPLE-RADIUS=500;X-TITLE=21970 SW Sherwood Blvd:geo:-122.841336,45.3589282
END:VEVENT
BEGIN:VEVENT
DTSTART;TZID=America/Los_Angeles:20180206T183000
DTEND;TZID=America/Los_Angeles:20180206T200000
DTSTAMP:20260423T002434
CREATED:20180105T235905Z
LAST-MODIFIED:20180105T235905Z
UID:10002992-1517941800-1517947200@parentingtogetherwc.org
SUMMARY:Parenting with Love and Logic
DESCRIPTION:Ditch the nagging\, drop the threats\, and lose the stress: you can raise great kids with techniques that are practical\, proven\, and fun! \nJoin us for 6 week series covering: \n·        Parenting styles \n·        Neutralizing arguments \n·        Letting children solve their own problems \n·        Gaining control through choices \n·        Saving your emotional energy \n·        Dealing with difficult behavior \nFacilitated by Kate Kelleher\, retired teacher\, school counselor\, and owner of Kates Consulting for Kids.
URL:https://parentingtogetherwc.org/event/parenting-love-logic/2018-02-06/
LOCATION:Sherwood Family Resource Center (SHARE)\, 21970 SW Sherwood Blvd\, Sherwood\, OR\, 97140\, United States
CATEGORIES:Parenting Classes
ATTACH;FMTTYPE=image/jpeg:https://parentingtogetherwc.org/wp-content/uploads/2018/01/LoveLogic.jpg
ORGANIZER;CN="Sherwood School District":MAILTO:dsticka@sherwood.k12.or.us
GEO:45.3589282;-122.841336
X-APPLE-STRUCTURED-LOCATION;VALUE=URI;X-ADDRESS=Sherwood Family Resource Center (SHARE) 21970 SW Sherwood Blvd Sherwood OR 97140 United States;X-APPLE-RADIUS=500;X-TITLE=21970 SW Sherwood Blvd:geo:-122.841336,45.3589282
END:VEVENT
END:VCALENDAR