
BEGIN:VCALENDAR
VERSION:2.0
PRODID:-//Parenting Together Washington County - ECPv6.15.16.1//NONSGML v1.0//EN
CALSCALE:GREGORIAN
METHOD:PUBLISH
X-WR-CALNAME:Parenting Together Washington County
X-ORIGINAL-URL:https://parentingtogetherwc.org
X-WR-CALDESC:Events for Parenting Together Washington County
REFRESH-INTERVAL;VALUE=DURATION:PT1H
X-Robots-Tag:noindex
X-PUBLISHED-TTL:PT1H
BEGIN:VTIMEZONE
TZID:America/Los_Angeles
BEGIN:DAYLIGHT
TZOFFSETFROM:-0800
TZOFFSETTO:-0700
TZNAME:PDT
DTSTART:20170312T100000
END:DAYLIGHT
BEGIN:STANDARD
TZOFFSETFROM:-0700
TZOFFSETTO:-0800
TZNAME:PST
DTSTART:20171105T090000
END:STANDARD
BEGIN:DAYLIGHT
TZOFFSETFROM:-0800
TZOFFSETTO:-0700
TZNAME:PDT
DTSTART:20180311T100000
END:DAYLIGHT
BEGIN:STANDARD
TZOFFSETFROM:-0700
TZOFFSETTO:-0800
TZNAME:PST
DTSTART:20181104T090000
END:STANDARD
BEGIN:DAYLIGHT
TZOFFSETFROM:-0800
TZOFFSETTO:-0700
TZNAME:PDT
DTSTART:20190310T100000
END:DAYLIGHT
BEGIN:STANDARD
TZOFFSETFROM:-0700
TZOFFSETTO:-0800
TZNAME:PST
DTSTART:20191103T090000
END:STANDARD
END:VTIMEZONE
BEGIN:VEVENT
DTSTART;TZID=America/Los_Angeles:20180426T173000
DTEND;TZID=America/Los_Angeles:20180426T193000
DTSTAMP:20260422T160345
CREATED:20180209T234102Z
LAST-MODIFIED:20180209T234102Z
UID:10003104-1524763800-1524771000@parentingtogetherwc.org
SUMMARY:READY! for Kindergarten Workshop (Fall Session)
DESCRIPTION:The Forest Grove School District will be offering FREE Ready! for Kindergarten workshops to parents and/or caregivers. We’re inviting parents and/or caregivers with children ages 4-5 to attend all three of our sessions (Fall\, Winter and Spring). \nEl distrito escolar de Forest Grove está ofreciendo un taller GRATIS para padres o cuidadores de niños que están entre las edades de 4 a 5. Los invitamos a que atiendan toda las tres sesiones (otoño\, invierno\, y primavera). \n  \n\nMaterials and kits will be provided for all sessions./ Materiales y kits serán proporcionados para todas la sesiones.\nAll sessions will be held at Joseph Gale Elementary School from 5:30-7:30pm./ Cada sesión tomara acabo en la primaria de Joseph Gale de 5:30-7:30pm.\n\n  \nFood and childcare will be provided*\nHabrá comida y cuidado de niño*
URL:https://parentingtogetherwc.org/event/ready-kindergarten-workshop-fall-session/
LOCATION:Joseph Gale Elementary\, 3130 18th Ave.\, Forest Grove\, OR\, 97116\, United States
CATEGORIES:Adult Workshop,Family-Friendly,Parenting Classes
ATTACH;FMTTYPE=image/jpeg:https://parentingtogetherwc.org/wp-content/uploads/2018/02/combinepdf-page-001.jpg
ORGANIZER;CN="Michelle Ornelas":MAILTO:mornelas@fgsd.k12.or.us
END:VEVENT
END:VCALENDAR