
BEGIN:VCALENDAR
VERSION:2.0
PRODID:-//Parenting Together Washington County - ECPv6.15.16.1//NONSGML v1.0//EN
CALSCALE:GREGORIAN
METHOD:PUBLISH
X-ORIGINAL-URL:https://parentingtogetherwc.org
X-WR-CALDESC:Events for Parenting Together Washington County
REFRESH-INTERVAL;VALUE=DURATION:PT1H
X-Robots-Tag:noindex
X-PUBLISHED-TTL:PT1H
BEGIN:VTIMEZONE
TZID:America/Los_Angeles
BEGIN:DAYLIGHT
TZOFFSETFROM:-0800
TZOFFSETTO:-0700
TZNAME:PDT
DTSTART:20190310T100000
END:DAYLIGHT
BEGIN:STANDARD
TZOFFSETFROM:-0700
TZOFFSETTO:-0800
TZNAME:PST
DTSTART:20191103T090000
END:STANDARD
BEGIN:DAYLIGHT
TZOFFSETFROM:-0800
TZOFFSETTO:-0700
TZNAME:PDT
DTSTART:20200308T100000
END:DAYLIGHT
BEGIN:STANDARD
TZOFFSETFROM:-0700
TZOFFSETTO:-0800
TZNAME:PST
DTSTART:20201101T090000
END:STANDARD
BEGIN:DAYLIGHT
TZOFFSETFROM:-0800
TZOFFSETTO:-0700
TZNAME:PDT
DTSTART:20210314T100000
END:DAYLIGHT
BEGIN:STANDARD
TZOFFSETFROM:-0700
TZOFFSETTO:-0800
TZNAME:PST
DTSTART:20211107T090000
END:STANDARD
END:VTIMEZONE
BEGIN:VEVENT
DTSTART;TZID=America/Los_Angeles:20200123T183000
DTEND;TZID=America/Los_Angeles:20200123T200000
DTSTAMP:20260423T092934
CREATED:20191210T004302Z
LAST-MODIFIED:20200113T181936Z
UID:10004361-1579804200-1579809600@parentingtogetherwc.org
SUMMARY:Circle of Security Parenting Series (registration required)
DESCRIPTION:COS_Group Flyer.Winter2020_V2
URL:https://parentingtogetherwc.org/event/circle-of-security-parenting-series-registration-required/
LOCATION:Options Counseling and Family Services\, 8285 SW Nimbus Ave.\, Suite 148\, Beaverton\, OR\, United States
CATEGORIES:Kid Friendly,Parenting Classes
END:VEVENT
BEGIN:VEVENT
DTSTART;TZID=America/Los_Angeles:20200123T113000
DTEND;TZID=America/Los_Angeles:20200123T130000
DTSTAMP:20260423T092934
CREATED:20191210T004852Z
LAST-MODIFIED:20200113T190134Z
UID:10004359-1579779000-1579784400@parentingtogetherwc.org
SUMMARY:Circle of Security Parenting Series (registration required)
DESCRIPTION:COS_Group Flyer.Winter2020_V2
URL:https://parentingtogetherwc.org/event/circle-of-security-parenting-series-registration-required-2/
LOCATION:Options Counseling and Family Services\, 8285 SW Nimbus Ave.\, Suite 148\, Beaverton\, OR\, United States
CATEGORIES:Kid Friendly,Parenting Classes
END:VEVENT
END:VCALENDAR