
BEGIN:VCALENDAR
VERSION:2.0
PRODID:-//Parenting Together Washington County - ECPv6.15.16.1//NONSGML v1.0//EN
CALSCALE:GREGORIAN
METHOD:PUBLISH
X-WR-CALNAME:Parenting Together Washington County
X-ORIGINAL-URL:https://parentingtogetherwc.org
X-WR-CALDESC:Events for Parenting Together Washington County
REFRESH-INTERVAL;VALUE=DURATION:PT1H
X-Robots-Tag:noindex
X-PUBLISHED-TTL:PT1H
BEGIN:VTIMEZONE
TZID:America/Los_Angeles
BEGIN:DAYLIGHT
TZOFFSETFROM:-0800
TZOFFSETTO:-0700
TZNAME:PDT
DTSTART:20210314T100000
END:DAYLIGHT
BEGIN:STANDARD
TZOFFSETFROM:-0700
TZOFFSETTO:-0800
TZNAME:PST
DTSTART:20211107T090000
END:STANDARD
BEGIN:DAYLIGHT
TZOFFSETFROM:-0800
TZOFFSETTO:-0700
TZNAME:PDT
DTSTART:20220313T100000
END:DAYLIGHT
BEGIN:STANDARD
TZOFFSETFROM:-0700
TZOFFSETTO:-0800
TZNAME:PST
DTSTART:20221106T090000
END:STANDARD
BEGIN:DAYLIGHT
TZOFFSETFROM:-0800
TZOFFSETTO:-0700
TZNAME:PDT
DTSTART:20230312T100000
END:DAYLIGHT
BEGIN:STANDARD
TZOFFSETFROM:-0700
TZOFFSETTO:-0800
TZNAME:PST
DTSTART:20231105T090000
END:STANDARD
END:VTIMEZONE
BEGIN:VEVENT
DTSTART;VALUE=DATE:20220724
DTEND;VALUE=DATE:20220725
DTSTAMP:20260423T120254
CREATED:20220523T232234Z
LAST-MODIFIED:20220523T232234Z
UID:10004783-1658620800-1658707199@parentingtogetherwc.org
SUMMARY:Summer Goal Setting: Online program helps parents-caregivers support their child's confidence\, attention\, and motivation.
DESCRIPTION:Summer Goal Setting Program flyer ENG
URL:https://parentingtogetherwc.org/event/summer-goal-setting-online-program-helps-parents-caregivers-support-their-childs-confidence-attention-and-motivation/
LOCATION:Virtual Connection\, OR\, United States
CATEGORIES:Virtual Activity
END:VEVENT
BEGIN:VEVENT
DTSTART;VALUE=DATE:20220724
DTEND;VALUE=DATE:20220725
DTSTAMP:20260423T120254
CREATED:20220523T231321Z
LAST-MODIFIED:20220523T232735Z
UID:10004781-1658620800-1658707199@parentingtogetherwc.org
SUMMARY:Fijación de metas de verano que ayuda a padres un programa en linea que ayuda a padres y cuidadores a apoyar a sus hijos/as para que desarrollen confianza\, atención y motivación.
DESCRIPTION:Summer Goal Setting Program Flyer SPAN
URL:https://parentingtogetherwc.org/event/summer-goal-setting-parenting-learning-and-support-series/
LOCATION:Virtual Connection\, OR\, United States
CATEGORIES:Virtual Activity
END:VEVENT
END:VCALENDAR