
BEGIN:VCALENDAR
VERSION:2.0
PRODID:-//Parenting Together Washington County - ECPv6.15.16.1//NONSGML v1.0//EN
CALSCALE:GREGORIAN
METHOD:PUBLISH
X-WR-CALNAME:Parenting Together Washington County
X-ORIGINAL-URL:https://parentingtogetherwc.org
X-WR-CALDESC:Events for Parenting Together Washington County
REFRESH-INTERVAL;VALUE=DURATION:PT1H
X-Robots-Tag:noindex
X-PUBLISHED-TTL:PT1H
BEGIN:VTIMEZONE
TZID:America/Los_Angeles
BEGIN:DAYLIGHT
TZOFFSETFROM:-0800
TZOFFSETTO:-0700
TZNAME:PDT
DTSTART:20170312T100000
END:DAYLIGHT
BEGIN:STANDARD
TZOFFSETFROM:-0700
TZOFFSETTO:-0800
TZNAME:PST
DTSTART:20171105T090000
END:STANDARD
BEGIN:DAYLIGHT
TZOFFSETFROM:-0800
TZOFFSETTO:-0700
TZNAME:PDT
DTSTART:20180311T100000
END:DAYLIGHT
BEGIN:STANDARD
TZOFFSETFROM:-0700
TZOFFSETTO:-0800
TZNAME:PST
DTSTART:20181104T090000
END:STANDARD
BEGIN:DAYLIGHT
TZOFFSETFROM:-0800
TZOFFSETTO:-0700
TZNAME:PDT
DTSTART:20190310T100000
END:DAYLIGHT
BEGIN:STANDARD
TZOFFSETFROM:-0700
TZOFFSETTO:-0800
TZNAME:PST
DTSTART:20191103T090000
END:STANDARD
END:VTIMEZONE
BEGIN:VEVENT
DTSTART;TZID=America/Los_Angeles:20180318T150000
DTEND;TZID=America/Los_Angeles:20180318T170000
DTSTAMP:20260422T211250
CREATED:20180220T211144Z
LAST-MODIFIED:20180220T211144Z
UID:10003098-1521385200-1521392400@parentingtogetherwc.org
SUMMARY:Family Flix Series presents The Little Rascals
DESCRIPTION:Join the Sherwood Center for the Arts this month as we enjoy one of America’s beloved family comedies\, The Little Rascals\, on the big screen. This adorable\, family fun show\, is the 1994 film version of the old “Our Gang” series. It contains all of the old favorites:\nSpanky and Alfalfa\, the He-Man Women Haters Club\, and a soap box derby. Doors open at 2:30 PM. Sweet treats and popcorn will be available for purchase. Tickets can be purchased online or at the door. \n 
URL:https://parentingtogetherwc.org/event/family-flix-series-presents-little-rascals/
LOCATION:Sherwood Center for the Arts\, 22689 SW Pine Street\, Sherwood\, 97140\, United States
CATEGORIES:Family-Friendly
ATTACH;FMTTYPE=image/jpeg:https://parentingtogetherwc.org/wp-content/uploads/2018/02/Little-Rascals.jpg
GEO:45.3556588;-122.8399971
X-APPLE-STRUCTURED-LOCATION;VALUE=URI;X-ADDRESS=Sherwood Center for the Arts 22689 SW Pine Street Sherwood 97140 United States;X-APPLE-RADIUS=500;X-TITLE=22689 SW Pine Street:geo:-122.8399971,45.3556588
END:VEVENT
BEGIN:VEVENT
DTSTART;TZID=America/Los_Angeles:20180317T140000
DTEND;TZID=America/Los_Angeles:20180317T150000
DTSTAMP:20260422T211250
CREATED:20180220T210928Z
LAST-MODIFIED:20180220T210928Z
UID:10003099-1521295200-1521298800@parentingtogetherwc.org
SUMMARY:Family Matinee Series: Murray Irish Dancers present An Irish Family Hooley
DESCRIPTION:The Sherwood Center for the Arts is excited to present An Irish Family Hooley by the Murray Irish Dancers\, on Saturday March 17 at 2 pm on the main stage. Celebrate this St. Patrick’s Day with Portland’s Top Irish Dance Performance Troupe\, accompanied by live Irish music and song. Well known for their high-energy performances and vividly attractive costumes\, get ready for toe tapping\, foot stomping and hand-clapping in the spirit of Irish culture\, music and tradition. Come early to participate in a fun craft before the show at 1 pm. Tickets are $5/all ages and can be purchased online or at the door. Doors open at 1:30 pm.
URL:https://parentingtogetherwc.org/event/family-matinee-series-murray-irish-dancers-present-irish-family-hooley/
LOCATION:Sherwood Center for the Arts\, 22689 SW Pine Street\, Sherwood\, 97140\, United States
CATEGORIES:Family-Friendly
ATTACH;FMTTYPE=image/jpeg:https://parentingtogetherwc.org/wp-content/uploads/2018/02/Murray-Irish-Dance_5.jpg
GEO:45.3556588;-122.8399971
X-APPLE-STRUCTURED-LOCATION;VALUE=URI;X-ADDRESS=Sherwood Center for the Arts 22689 SW Pine Street Sherwood 97140 United States;X-APPLE-RADIUS=500;X-TITLE=22689 SW Pine Street:geo:-122.8399971,45.3556588
END:VEVENT
END:VCALENDAR