
BEGIN:VCALENDAR
VERSION:2.0
PRODID:-//Parenting Together Washington County - ECPv6.15.16.1//NONSGML v1.0//EN
CALSCALE:GREGORIAN
METHOD:PUBLISH
X-WR-CALNAME:Parenting Together Washington County
X-ORIGINAL-URL:https://parentingtogetherwc.org
X-WR-CALDESC:Events for Parenting Together Washington County
REFRESH-INTERVAL;VALUE=DURATION:PT1H
X-Robots-Tag:noindex
X-PUBLISHED-TTL:PT1H
BEGIN:VTIMEZONE
TZID:America/Los_Angeles
BEGIN:DAYLIGHT
TZOFFSETFROM:-0800
TZOFFSETTO:-0700
TZNAME:PDT
DTSTART:20170312T100000
END:DAYLIGHT
BEGIN:STANDARD
TZOFFSETFROM:-0700
TZOFFSETTO:-0800
TZNAME:PST
DTSTART:20171105T090000
END:STANDARD
BEGIN:DAYLIGHT
TZOFFSETFROM:-0800
TZOFFSETTO:-0700
TZNAME:PDT
DTSTART:20180311T100000
END:DAYLIGHT
BEGIN:STANDARD
TZOFFSETFROM:-0700
TZOFFSETTO:-0800
TZNAME:PST
DTSTART:20181104T090000
END:STANDARD
BEGIN:DAYLIGHT
TZOFFSETFROM:-0800
TZOFFSETTO:-0700
TZNAME:PDT
DTSTART:20190310T100000
END:DAYLIGHT
BEGIN:STANDARD
TZOFFSETFROM:-0700
TZOFFSETTO:-0800
TZNAME:PST
DTSTART:20191103T090000
END:STANDARD
END:VTIMEZONE
BEGIN:VEVENT
DTSTART;TZID=America/Los_Angeles:20180907T083000
DTEND;TZID=America/Los_Angeles:20180907T163000
DTSTAMP:20260423T025128
CREATED:20180807T185233Z
LAST-MODIFIED:20180807T185233Z
UID:10003295-1536309000-1536337800@parentingtogetherwc.org
SUMMARY:2018 Latina Health Symposium: The Heart of the Family
DESCRIPTION:20180907 Latina Health Symposium Compressed
URL:https://parentingtogetherwc.org/event/2018-latina-health-symposium-heart-family/
LOCATION:Tuality Health Education Center\, 334 SE 8th Ave\, Hillsboro\, OR\, 97123\, United States
CATEGORIES:Adult Workshop
GEO:45.5195868;-122.9765017
X-APPLE-STRUCTURED-LOCATION;VALUE=URI;X-ADDRESS=Tuality Health Education Center 334 SE 8th Ave Hillsboro OR 97123 United States;X-APPLE-RADIUS=500;X-TITLE=334 SE 8th Ave:geo:-122.9765017,45.5195868
END:VEVENT
END:VCALENDAR