
BEGIN:VCALENDAR
VERSION:2.0
PRODID:-//Parenting Together Washington County - ECPv6.15.16.1//NONSGML v1.0//EN
CALSCALE:GREGORIAN
METHOD:PUBLISH
X-ORIGINAL-URL:https://parentingtogetherwc.org
X-WR-CALDESC:Events for Parenting Together Washington County
REFRESH-INTERVAL;VALUE=DURATION:PT1H
X-Robots-Tag:noindex
X-PUBLISHED-TTL:PT1H
BEGIN:VTIMEZONE
TZID:America/Los_Angeles
BEGIN:DAYLIGHT
TZOFFSETFROM:-0800
TZOFFSETTO:-0700
TZNAME:PDT
DTSTART:20170312T100000
END:DAYLIGHT
BEGIN:STANDARD
TZOFFSETFROM:-0700
TZOFFSETTO:-0800
TZNAME:PST
DTSTART:20171105T090000
END:STANDARD
BEGIN:DAYLIGHT
TZOFFSETFROM:-0800
TZOFFSETTO:-0700
TZNAME:PDT
DTSTART:20180311T100000
END:DAYLIGHT
BEGIN:STANDARD
TZOFFSETFROM:-0700
TZOFFSETTO:-0800
TZNAME:PST
DTSTART:20181104T090000
END:STANDARD
BEGIN:DAYLIGHT
TZOFFSETFROM:-0800
TZOFFSETTO:-0700
TZNAME:PDT
DTSTART:20190310T100000
END:DAYLIGHT
BEGIN:STANDARD
TZOFFSETFROM:-0700
TZOFFSETTO:-0800
TZNAME:PST
DTSTART:20191103T090000
END:STANDARD
BEGIN:DAYLIGHT
TZOFFSETFROM:-0800
TZOFFSETTO:-0700
TZNAME:PDT
DTSTART:20200308T100000
END:DAYLIGHT
BEGIN:STANDARD
TZOFFSETFROM:-0700
TZOFFSETTO:-0800
TZNAME:PST
DTSTART:20201101T090000
END:STANDARD
END:VTIMEZONE
BEGIN:VEVENT
DTSTART;TZID=America/Los_Angeles:20190302T103000
DTEND;TZID=America/Los_Angeles:20190302T233000
DTSTAMP:20260423T030006
CREATED:20181130T195525Z
LAST-MODIFIED:20190131T233227Z
UID:10003458-1551522600-1551569400@parentingtogetherwc.org
SUMMARY:Tiempo de Cuentos - Spanish Language Storytime
DESCRIPTION:AlohaSpanishStorytime
URL:https://parentingtogetherwc.org/event/tiempo-de-cuentos-spanish-language-storytime-2019-03-01/
LOCATION:Aloha Community Library
CATEGORIES:Family-Friendly,Kid Friendly
END:VEVENT
BEGIN:VEVENT
DTSTART;TZID=America/Los_Angeles:20190216T103000
DTEND;TZID=America/Los_Angeles:20190216T113000
DTSTAMP:20260423T030006
CREATED:20181130T192804Z
LAST-MODIFIED:20181130T195006Z
UID:10003090-1550313000-1550316600@parentingtogetherwc.org
SUMMARY:Hora del Cuentos - Spanish Language Storytime
DESCRIPTION:WestSlopeSpanishstorytime
URL:https://parentingtogetherwc.org/event/spanish-language-storytime/2019-02-16/
LOCATION:West Slope Community Library\, 3678 SW 78th Ave.\, Portland\, OR\, 97225\, United States
CATEGORIES:Family-Friendly,Kid Friendly
END:VEVENT
BEGIN:VEVENT
DTSTART;TZID=America/Los_Angeles:20190209T103000
DTEND;TZID=America/Los_Angeles:20190209T113000
DTSTAMP:20260423T030006
CREATED:20181130T192804Z
LAST-MODIFIED:20181130T195006Z
UID:10003089-1549708200-1549711800@parentingtogetherwc.org
SUMMARY:Hora del Cuentos - Spanish Language Storytime
DESCRIPTION:WestSlopeSpanishstorytime
URL:https://parentingtogetherwc.org/event/spanish-language-storytime/2019-02-09/
LOCATION:West Slope Community Library\, 3678 SW 78th Ave.\, Portland\, OR\, 97225\, United States
CATEGORIES:Family-Friendly,Kid Friendly
END:VEVENT
BEGIN:VEVENT
DTSTART;TZID=America/Los_Angeles:20190202T103000
DTEND;TZID=America/Los_Angeles:20190203T233000
DTSTAMP:20260423T030006
CREATED:20181130T195525Z
LAST-MODIFIED:20190131T233809Z
UID:10003095-1549103400-1549236600@parentingtogetherwc.org
SUMMARY:Tiempo de Cuentos - Spanish Language Storytime
DESCRIPTION:AlohaSpanishStorytime
URL:https://parentingtogetherwc.org/event/tiempo-de-cuentos-spanish-language-storytime-2019-02-01/
LOCATION:Aloha Community Library
CATEGORIES:Family-Friendly,Kid Friendly
END:VEVENT
BEGIN:VEVENT
DTSTART;TZID=America/Los_Angeles:20190126T103000
DTEND;TZID=America/Los_Angeles:20190126T113000
DTSTAMP:20260423T030006
CREATED:20181130T192804Z
LAST-MODIFIED:20181130T195006Z
UID:10003088-1548498600-1548502200@parentingtogetherwc.org
SUMMARY:Hora del Cuentos - Spanish Language Storytime
DESCRIPTION:WestSlopeSpanishstorytime
URL:https://parentingtogetherwc.org/event/spanish-language-storytime/2019-01-26/
LOCATION:West Slope Community Library\, 3678 SW 78th Ave.\, Portland\, OR\, 97225\, United States
CATEGORIES:Family-Friendly,Kid Friendly
END:VEVENT
BEGIN:VEVENT
DTSTART;TZID=America/Los_Angeles:20190119T103000
DTEND;TZID=America/Los_Angeles:20190119T113000
DTSTAMP:20260423T030006
CREATED:20181130T192804Z
LAST-MODIFIED:20181130T195006Z
UID:10003087-1547893800-1547897400@parentingtogetherwc.org
SUMMARY:Hora del Cuentos - Spanish Language Storytime
DESCRIPTION:WestSlopeSpanishstorytime
URL:https://parentingtogetherwc.org/event/spanish-language-storytime/2019-01-19/
LOCATION:West Slope Community Library\, 3678 SW 78th Ave.\, Portland\, OR\, 97225\, United States
CATEGORIES:Family-Friendly,Kid Friendly
END:VEVENT
BEGIN:VEVENT
DTSTART;TZID=America/Los_Angeles:20190112T103000
DTEND;TZID=America/Los_Angeles:20190112T113000
DTSTAMP:20260423T030007
CREATED:20181130T192804Z
LAST-MODIFIED:20181130T195006Z
UID:10003086-1547289000-1547292600@parentingtogetherwc.org
SUMMARY:Hora del Cuentos - Spanish Language Storytime
DESCRIPTION:WestSlopeSpanishstorytime
URL:https://parentingtogetherwc.org/event/spanish-language-storytime/2019-01-12/
LOCATION:West Slope Community Library\, 3678 SW 78th Ave.\, Portland\, OR\, 97225\, United States
CATEGORIES:Family-Friendly,Kid Friendly
END:VEVENT
BEGIN:VEVENT
DTSTART;TZID=America/Los_Angeles:20190109T163000
DTEND;TZID=America/Los_Angeles:20190109T173000
DTSTAMP:20260423T030007
CREATED:20181130T193717Z
LAST-MODIFIED:20181130T193717Z
UID:10003092-1547051400-1547055000@parentingtogetherwc.org
SUMMARY:La Marvilla de la Lectura
DESCRIPTION:ForestGroveSpanishStorytime
URL:https://parentingtogetherwc.org/event/la-marvilla-de-la-lectura/2019-01-09/
LOCATION:Forst Grove Library\, 2114 Pacific Ave\, Forest Grove\, OR\, 97116\, United States
CATEGORIES:Family-Friendly,Kid Friendly
END:VEVENT
BEGIN:VEVENT
DTSTART;TZID=America/Los_Angeles:20190101T103000
DTEND;TZID=America/Los_Angeles:20190101T233000
DTSTAMP:20260423T030007
CREATED:20181130T195525Z
LAST-MODIFIED:20190131T233113Z
UID:10003094-1546338600-1546385400@parentingtogetherwc.org
SUMMARY:Tiempo de Cuentos - Spanish Language Storytime
DESCRIPTION:AlohaSpanishStorytime
URL:https://parentingtogetherwc.org/event/tiempo-de-cuentos-spanish-language-storytime/2019-01-01/
LOCATION:Aloha Community Library
CATEGORIES:Family-Friendly,Kid Friendly
END:VEVENT
BEGIN:VEVENT
DTSTART;TZID=America/Los_Angeles:20181222T103000
DTEND;TZID=America/Los_Angeles:20181222T113000
DTSTAMP:20260423T030007
CREATED:20181130T192804Z
LAST-MODIFIED:20181130T195006Z
UID:10003085-1545474600-1545478200@parentingtogetherwc.org
SUMMARY:Hora del Cuentos - Spanish Language Storytime
DESCRIPTION:WestSlopeSpanishstorytime
URL:https://parentingtogetherwc.org/event/spanish-language-storytime/2018-12-22/
LOCATION:West Slope Community Library\, 3678 SW 78th Ave.\, Portland\, OR\, 97225\, United States
CATEGORIES:Family-Friendly,Kid Friendly
END:VEVENT
BEGIN:VEVENT
DTSTART;TZID=America/Los_Angeles:20181215T103000
DTEND;TZID=America/Los_Angeles:20181215T113000
DTSTAMP:20260423T030007
CREATED:20181130T192804Z
LAST-MODIFIED:20181130T195006Z
UID:10003084-1544869800-1544873400@parentingtogetherwc.org
SUMMARY:Hora del Cuentos - Spanish Language Storytime
DESCRIPTION:WestSlopeSpanishstorytime
URL:https://parentingtogetherwc.org/event/spanish-language-storytime/2018-12-15/
LOCATION:West Slope Community Library\, 3678 SW 78th Ave.\, Portland\, OR\, 97225\, United States
CATEGORIES:Family-Friendly,Kid Friendly
END:VEVENT
BEGIN:VEVENT
DTSTART;TZID=America/Los_Angeles:20181212T163000
DTEND;TZID=America/Los_Angeles:20181212T173000
DTSTAMP:20260423T030007
CREATED:20181130T193717Z
LAST-MODIFIED:20181130T193717Z
UID:10003091-1544632200-1544635800@parentingtogetherwc.org
SUMMARY:La Marvilla de la Lectura
DESCRIPTION:ForestGroveSpanishStorytime
URL:https://parentingtogetherwc.org/event/la-marvilla-de-la-lectura/2018-12-12/
LOCATION:Forst Grove Library\, 2114 Pacific Ave\, Forest Grove\, OR\, 97116\, United States
CATEGORIES:Family-Friendly,Kid Friendly
END:VEVENT
BEGIN:VEVENT
DTSTART;TZID=America/Los_Angeles:20181208T103000
DTEND;TZID=America/Los_Angeles:20181208T113000
DTSTAMP:20260423T030007
CREATED:20181130T192804Z
LAST-MODIFIED:20181130T195006Z
UID:10003083-1544265000-1544268600@parentingtogetherwc.org
SUMMARY:Hora del Cuentos - Spanish Language Storytime
DESCRIPTION:WestSlopeSpanishstorytime
URL:https://parentingtogetherwc.org/event/spanish-language-storytime/2018-12-08/
LOCATION:West Slope Community Library\, 3678 SW 78th Ave.\, Portland\, OR\, 97225\, United States
CATEGORIES:Family-Friendly,Kid Friendly
END:VEVENT
BEGIN:VEVENT
DTSTART;TZID=America/Los_Angeles:20181201T103000
DTEND;TZID=America/Los_Angeles:20181201T233000
DTSTAMP:20260423T030007
CREATED:20181130T195525Z
LAST-MODIFIED:20190131T233113Z
UID:10003093-1543660200-1543707000@parentingtogetherwc.org
SUMMARY:Tiempo de Cuentos - Spanish Language Storytime
DESCRIPTION:AlohaSpanishStorytime
URL:https://parentingtogetherwc.org/event/tiempo-de-cuentos-spanish-language-storytime/2018-12-01/
LOCATION:Aloha Community Library
CATEGORIES:Family-Friendly,Kid Friendly
END:VEVENT
BEGIN:VEVENT
DTSTART;TZID=America/Los_Angeles:20181106T163000
DTEND;TZID=America/Los_Angeles:20181106T173000
DTSTAMP:20260423T030007
CREATED:20181130T200014Z
LAST-MODIFIED:20181130T200014Z
UID:10003402-1541521800-1541525400@parentingtogetherwc.org
SUMMARY:La Marvilla de la Lectura - Spanish Language Storytime
DESCRIPTION:BanksSpanishStorytime (2)
URL:https://parentingtogetherwc.org/event/la-marvilla-de-la-lectura-spanish-language-storytime/
LOCATION:Banks Library\, 42461 NW Market Street\, Banks\, OR\, 97106\, United States
CATEGORIES:Family-Friendly,Kid Friendly
END:VEVENT
END:VCALENDAR