
BEGIN:VCALENDAR
VERSION:2.0
PRODID:-//Parenting Together Washington County - ECPv6.15.16.1//NONSGML v1.0//EN
CALSCALE:GREGORIAN
METHOD:PUBLISH
X-WR-CALNAME:Parenting Together Washington County
X-ORIGINAL-URL:https://parentingtogetherwc.org
X-WR-CALDESC:Events for Parenting Together Washington County
REFRESH-INTERVAL;VALUE=DURATION:PT1H
X-Robots-Tag:noindex
X-PUBLISHED-TTL:PT1H
BEGIN:VTIMEZONE
TZID:America/Los_Angeles
BEGIN:DAYLIGHT
TZOFFSETFROM:-0800
TZOFFSETTO:-0700
TZNAME:PDT
DTSTART:20160313T100000
END:DAYLIGHT
BEGIN:STANDARD
TZOFFSETFROM:-0700
TZOFFSETTO:-0800
TZNAME:PST
DTSTART:20161106T090000
END:STANDARD
BEGIN:DAYLIGHT
TZOFFSETFROM:-0800
TZOFFSETTO:-0700
TZNAME:PDT
DTSTART:20170312T100000
END:DAYLIGHT
BEGIN:STANDARD
TZOFFSETFROM:-0700
TZOFFSETTO:-0800
TZNAME:PST
DTSTART:20171105T090000
END:STANDARD
BEGIN:DAYLIGHT
TZOFFSETFROM:-0800
TZOFFSETTO:-0700
TZNAME:PDT
DTSTART:20180311T100000
END:DAYLIGHT
BEGIN:STANDARD
TZOFFSETFROM:-0700
TZOFFSETTO:-0800
TZNAME:PST
DTSTART:20181104T090000
END:STANDARD
BEGIN:DAYLIGHT
TZOFFSETFROM:-0800
TZOFFSETTO:-0700
TZNAME:PDT
DTSTART:20190310T100000
END:DAYLIGHT
BEGIN:STANDARD
TZOFFSETFROM:-0700
TZOFFSETTO:-0800
TZNAME:PST
DTSTART:20191103T090000
END:STANDARD
BEGIN:DAYLIGHT
TZOFFSETFROM:-0800
TZOFFSETTO:-0700
TZNAME:PDT
DTSTART:20200308T100000
END:DAYLIGHT
BEGIN:STANDARD
TZOFFSETFROM:-0700
TZOFFSETTO:-0800
TZNAME:PST
DTSTART:20201101T090000
END:STANDARD
END:VTIMEZONE
BEGIN:VEVENT
DTSTART;TZID=America/Los_Angeles:20190207T170000
DTEND;TZID=America/Los_Angeles:20190207T183000
DTSTAMP:20260422T210239
CREATED:20190118T221748Z
LAST-MODIFIED:20190118T222015Z
UID:10003520-1549558800-1549564200@parentingtogetherwc.org
SUMMARY:Años Incredibles (Incredible Years)
DESCRIPTION:Incredible Years AM
URL:https://parentingtogetherwc.org/event/anos-incredibles-incredible-years/
LOCATION:OCDC Jose Pedro Center\, 1389 South Dogwood Street\, Cornelius\, 97113\, United States
CATEGORIES:Parenting Classes
GEO:45.5164531;-123.0549602
X-APPLE-STRUCTURED-LOCATION;VALUE=URI;X-ADDRESS=OCDC Jose Pedro Center 1389 South Dogwood Street Cornelius 97113 United States;X-APPLE-RADIUS=500;X-TITLE=1389 South Dogwood Street:geo:-123.0549602,45.5164531
END:VEVENT
BEGIN:VEVENT
DTSTART;TZID=America/Los_Angeles:20181219T080000
DTEND;TZID=America/Los_Angeles:20181219T170000
DTSTAMP:20260422T210239
CREATED:20181130T205631Z
LAST-MODIFIED:20181130T205631Z
UID:10003450-1545206400-1545238800@parentingtogetherwc.org
SUMMARY:Ven y disfruta una mañana educative con tus hijos
DESCRIPTION:Beaverton Early learning workshops
URL:https://parentingtogetherwc.org/event/ven-y-disfruta-una-manana-educative-con-tus-hijos/2018-12-19/
LOCATION:Barnes Elementary School\, 13730 Walker Road\, Beaverton\, 97005
CATEGORIES:Family-Friendly,Kid Friendly,School Readiness Workshop
GEO:45.5061738;-122.8185206
X-APPLE-STRUCTURED-LOCATION;VALUE=URI;X-ADDRESS=Barnes Elementary School 13730 Walker Road Beaverton 97005;X-APPLE-RADIUS=500;X-TITLE=13730 Walker Road:geo:-122.8185206,45.5061738
END:VEVENT
BEGIN:VEVENT
DTSTART;TZID=America/Los_Angeles:20181212T080000
DTEND;TZID=America/Los_Angeles:20181212T170000
DTSTAMP:20260422T210239
CREATED:20181130T205631Z
LAST-MODIFIED:20181130T205631Z
UID:10003449-1544601600-1544634000@parentingtogetherwc.org
SUMMARY:Ven y disfruta una mañana educative con tus hijos
DESCRIPTION:Beaverton Early learning workshops
URL:https://parentingtogetherwc.org/event/ven-y-disfruta-una-manana-educative-con-tus-hijos/2018-12-12/
LOCATION:Barnes Elementary School\, 13730 Walker Road\, Beaverton\, 97005
CATEGORIES:Family-Friendly,Kid Friendly,School Readiness Workshop
GEO:45.5061738;-122.8185206
X-APPLE-STRUCTURED-LOCATION;VALUE=URI;X-ADDRESS=Barnes Elementary School 13730 Walker Road Beaverton 97005;X-APPLE-RADIUS=500;X-TITLE=13730 Walker Road:geo:-122.8185206,45.5061738
END:VEVENT
BEGIN:VEVENT
DTSTART;TZID=America/Los_Angeles:20181205T080000
DTEND;TZID=America/Los_Angeles:20181205T170000
DTSTAMP:20260422T210239
CREATED:20181130T205631Z
LAST-MODIFIED:20181130T205631Z
UID:10003448-1543996800-1544029200@parentingtogetherwc.org
SUMMARY:Ven y disfruta una mañana educative con tus hijos
DESCRIPTION:Beaverton Early learning workshops
URL:https://parentingtogetherwc.org/event/ven-y-disfruta-una-manana-educative-con-tus-hijos/2018-12-05/
LOCATION:Barnes Elementary School\, 13730 Walker Road\, Beaverton\, 97005
CATEGORIES:Family-Friendly,Kid Friendly,School Readiness Workshop
GEO:45.5061738;-122.8185206
X-APPLE-STRUCTURED-LOCATION;VALUE=URI;X-ADDRESS=Barnes Elementary School 13730 Walker Road Beaverton 97005;X-APPLE-RADIUS=500;X-TITLE=13730 Walker Road:geo:-122.8185206,45.5061738
END:VEVENT
BEGIN:VEVENT
DTSTART;TZID=America/Los_Angeles:20181128T080000
DTEND;TZID=America/Los_Angeles:20181128T170000
DTSTAMP:20260422T210239
CREATED:20181130T205631Z
LAST-MODIFIED:20181130T205631Z
UID:10003447-1543392000-1543424400@parentingtogetherwc.org
SUMMARY:Ven y disfruta una mañana educative con tus hijos
DESCRIPTION:Beaverton Early learning workshops
URL:https://parentingtogetherwc.org/event/ven-y-disfruta-una-manana-educative-con-tus-hijos/2018-11-28/
LOCATION:Barnes Elementary School\, 13730 Walker Road\, Beaverton\, 97005
CATEGORIES:Family-Friendly,Kid Friendly,School Readiness Workshop
GEO:45.5061738;-122.8185206
X-APPLE-STRUCTURED-LOCATION;VALUE=URI;X-ADDRESS=Barnes Elementary School 13730 Walker Road Beaverton 97005;X-APPLE-RADIUS=500;X-TITLE=13730 Walker Road:geo:-122.8185206,45.5061738
END:VEVENT
BEGIN:VEVENT
DTSTART;TZID=America/Los_Angeles:20181121T080000
DTEND;TZID=America/Los_Angeles:20181121T170000
DTSTAMP:20260422T210239
CREATED:20181130T205631Z
LAST-MODIFIED:20181130T205631Z
UID:10003446-1542787200-1542819600@parentingtogetherwc.org
SUMMARY:Ven y disfruta una mañana educative con tus hijos
DESCRIPTION:Beaverton Early learning workshops
URL:https://parentingtogetherwc.org/event/ven-y-disfruta-una-manana-educative-con-tus-hijos/2018-11-21/
LOCATION:Barnes Elementary School\, 13730 Walker Road\, Beaverton\, 97005
CATEGORIES:Family-Friendly,Kid Friendly,School Readiness Workshop
GEO:45.5061738;-122.8185206
X-APPLE-STRUCTURED-LOCATION;VALUE=URI;X-ADDRESS=Barnes Elementary School 13730 Walker Road Beaverton 97005;X-APPLE-RADIUS=500;X-TITLE=13730 Walker Road:geo:-122.8185206,45.5061738
END:VEVENT
BEGIN:VEVENT
DTSTART;TZID=America/Los_Angeles:20181114T080000
DTEND;TZID=America/Los_Angeles:20181114T170000
DTSTAMP:20260422T210239
CREATED:20181130T205631Z
LAST-MODIFIED:20181130T205631Z
UID:10003445-1542182400-1542214800@parentingtogetherwc.org
SUMMARY:Ven y disfruta una mañana educative con tus hijos
DESCRIPTION:Beaverton Early learning workshops
URL:https://parentingtogetherwc.org/event/ven-y-disfruta-una-manana-educative-con-tus-hijos/2018-11-14/
LOCATION:Barnes Elementary School\, 13730 Walker Road\, Beaverton\, 97005
CATEGORIES:Family-Friendly,Kid Friendly,School Readiness Workshop
GEO:45.5061738;-122.8185206
X-APPLE-STRUCTURED-LOCATION;VALUE=URI;X-ADDRESS=Barnes Elementary School 13730 Walker Road Beaverton 97005;X-APPLE-RADIUS=500;X-TITLE=13730 Walker Road:geo:-122.8185206,45.5061738
END:VEVENT
BEGIN:VEVENT
DTSTART;TZID=America/Los_Angeles:20181107T080000
DTEND;TZID=America/Los_Angeles:20181107T170000
DTSTAMP:20260422T210239
CREATED:20181130T205631Z
LAST-MODIFIED:20181130T205631Z
UID:10003444-1541577600-1541610000@parentingtogetherwc.org
SUMMARY:Ven y disfruta una mañana educative con tus hijos
DESCRIPTION:Beaverton Early learning workshops
URL:https://parentingtogetherwc.org/event/ven-y-disfruta-una-manana-educative-con-tus-hijos/2018-11-07/
LOCATION:Barnes Elementary School\, 13730 Walker Road\, Beaverton\, 97005
CATEGORIES:Family-Friendly,Kid Friendly,School Readiness Workshop
GEO:45.5061738;-122.8185206
X-APPLE-STRUCTURED-LOCATION;VALUE=URI;X-ADDRESS=Barnes Elementary School 13730 Walker Road Beaverton 97005;X-APPLE-RADIUS=500;X-TITLE=13730 Walker Road:geo:-122.8185206,45.5061738
END:VEVENT
BEGIN:VEVENT
DTSTART;TZID=America/Los_Angeles:20180411T123000
DTEND;TZID=America/Los_Angeles:20180411T143000
DTSTAMP:20260422T210240
CREATED:20180404T205738Z
LAST-MODIFIED:20180404T205738Z
UID:10002808-1523449800-1523457000@parentingtogetherwc.org
SUMMARY:Abriendo Puertas
DESCRIPTION:AP AM- WL Henry 2018
URL:https://parentingtogetherwc.org/event/abriendo-puertas-2/
LOCATION:WL Henry Elementary School\, 1060 SE 24th Ave\, Hillsboro\, OR\, 97123\, United States
CATEGORIES:Parenting Classes
GEO:45.5122432;-122.9567401
X-APPLE-STRUCTURED-LOCATION;VALUE=URI;X-ADDRESS=WL Henry Elementary School 1060 SE 24th Ave Hillsboro OR 97123 United States;X-APPLE-RADIUS=500;X-TITLE=1060 SE 24th Ave:geo:-122.9567401,45.5122432
END:VEVENT
BEGIN:VEVENT
DTSTART;TZID=America/Los_Angeles:20180118T173000
DTEND;TZID=America/Los_Angeles:20180118T203000
DTSTAMP:20260422T210240
CREATED:20180106T003151Z
LAST-MODIFIED:20180106T003303Z
UID:10002989-1516296600-1516307400@parentingtogetherwc.org
SUMMARY:Abriendo Puertas – Clases para Padres e Hijos Juntos
DESCRIPTION:pact and parenting flyer9-1-2\nEn este curso aprenderá actividades divertidas usando materiales reciclados\, con esto apoyará el aprendizaje de su hijo(a). Tendremos una clase para Padres en donde se le dará información para que se convierta en el Primer y más importante maestro de su hijo(a). \n  \n 
URL:https://parentingtogetherwc.org/event/abriendo-puertas-clases-para-padres-e-hijos-juntos/
LOCATION:OCDC Jose Pedro Center\, 1389 South Dogwood Street\, Cornelius\, 97113\, United States
CATEGORIES:Family-Friendly,Kid Friendly,Parenting Classes
GEO:45.5164531;-123.0549602
X-APPLE-STRUCTURED-LOCATION;VALUE=URI;X-ADDRESS=OCDC Jose Pedro Center 1389 South Dogwood Street Cornelius 97113 United States;X-APPLE-RADIUS=500;X-TITLE=1389 South Dogwood Street:geo:-123.0549602,45.5164531
END:VEVENT
BEGIN:VEVENT
DTSTART;TZID=America/Los_Angeles:20171030T173000
DTEND;TZID=America/Los_Angeles:20171030T193000
DTSTAMP:20260422T210240
CREATED:20171018T183903Z
LAST-MODIFIED:20171018T183903Z
UID:10002420-1509384600-1509391800@parentingtogetherwc.org
SUMMARY:Abriendo Puertas (Opening Doors)
DESCRIPTION:AbriendoPuertas_103017
URL:https://parentingtogetherwc.org/event/abriendo-puertas-opening-doors/
LOCATION:Free Orchards Elementary School\, 2499 S Beech St\, Cornelius\, OR\, 97113\, United States
CATEGORIES:Parenting Classes
GEO:45.5175621;-123.0415047
X-APPLE-STRUCTURED-LOCATION;VALUE=URI;X-ADDRESS=Free Orchards Elementary School 2499 S Beech St Cornelius OR 97113 United States;X-APPLE-RADIUS=500;X-TITLE=2499 S Beech St:geo:-123.0415047,45.5175621
END:VEVENT
BEGIN:VEVENT
DTSTART;TZID=America/Los_Angeles:20170406T180000
DTEND;TZID=America/Los_Angeles:20170406T200000
DTSTAMP:20260422T210240
CREATED:20170316T161431Z
LAST-MODIFIED:20170803T203827Z
UID:10002616-1491501600-1491508800@parentingtogetherwc.org
SUMMARY:Abriendo Puertas
DESCRIPTION:AP AM-PTWC-Henry2017_April\n¡Conviértase en un mejor abogador de sus hijos!\nVenga a aprender sobre el currí culo de “Abriendo Puertas” y como estos temas le\nayudan a ser mejor padre cuidando de usted y de su familia.\nLos talleres son proveídos en Español.
URL:https://parentingtogetherwc.org/event/abriendo-puertas/
LOCATION:WL Henry Elementary School\, 1060 SE 24th Ave\, Hillsboro\, OR\, 97123\, United States
CATEGORIES:Parenting Classes
GEO:45.5122432;-122.9567401
X-APPLE-STRUCTURED-LOCATION;VALUE=URI;X-ADDRESS=WL Henry Elementary School 1060 SE 24th Ave Hillsboro OR 97123 United States;X-APPLE-RADIUS=500;X-TITLE=1060 SE 24th Ave:geo:-122.9567401,45.5122432
END:VEVENT
END:VCALENDAR