
BEGIN:VCALENDAR
VERSION:2.0
PRODID:-//Parenting Together Washington County - ECPv6.15.16.1//NONSGML v1.0//EN
CALSCALE:GREGORIAN
METHOD:PUBLISH
X-ORIGINAL-URL:https://parentingtogetherwc.org
X-WR-CALDESC:Events for Parenting Together Washington County
REFRESH-INTERVAL;VALUE=DURATION:PT1H
X-Robots-Tag:noindex
X-PUBLISHED-TTL:PT1H
BEGIN:VTIMEZONE
TZID:America/Los_Angeles
BEGIN:DAYLIGHT
TZOFFSETFROM:-0800
TZOFFSETTO:-0700
TZNAME:PDT
DTSTART:20170312T100000
END:DAYLIGHT
BEGIN:STANDARD
TZOFFSETFROM:-0700
TZOFFSETTO:-0800
TZNAME:PST
DTSTART:20171105T090000
END:STANDARD
BEGIN:DAYLIGHT
TZOFFSETFROM:-0800
TZOFFSETTO:-0700
TZNAME:PDT
DTSTART:20180311T100000
END:DAYLIGHT
BEGIN:STANDARD
TZOFFSETFROM:-0700
TZOFFSETTO:-0800
TZNAME:PST
DTSTART:20181104T090000
END:STANDARD
BEGIN:DAYLIGHT
TZOFFSETFROM:-0800
TZOFFSETTO:-0700
TZNAME:PDT
DTSTART:20190310T100000
END:DAYLIGHT
BEGIN:STANDARD
TZOFFSETFROM:-0700
TZOFFSETTO:-0800
TZNAME:PST
DTSTART:20191103T090000
END:STANDARD
BEGIN:DAYLIGHT
TZOFFSETFROM:-0800
TZOFFSETTO:-0700
TZNAME:PDT
DTSTART:20200308T100000
END:DAYLIGHT
BEGIN:STANDARD
TZOFFSETFROM:-0700
TZOFFSETTO:-0800
TZNAME:PST
DTSTART:20201101T090000
END:STANDARD
BEGIN:DAYLIGHT
TZOFFSETFROM:-0800
TZOFFSETTO:-0700
TZNAME:PDT
DTSTART:20210314T100000
END:DAYLIGHT
BEGIN:STANDARD
TZOFFSETFROM:-0700
TZOFFSETTO:-0800
TZNAME:PST
DTSTART:20211107T090000
END:STANDARD
END:VTIMEZONE
BEGIN:VEVENT
DTSTART;TZID=America/Los_Angeles:20201027T183000
DTEND;TZID=America/Los_Angeles:20201027T193000
DTSTAMP:20260423T004344
CREATED:20201008T181546Z
LAST-MODIFIED:20201008T212419Z
UID:10003879-1603823400-1603827000@parentingtogetherwc.org
SUMMARY:El ABCs de la crianza de los hijos
DESCRIPTION:ABCs Flyer SP 10.27.20
URL:https://parentingtogetherwc.org/event/el-abcs-de-la-crianza-de-los-hijos/
LOCATION:Virtual Parenting Series\, Zoom Link\, OR\, United States
CATEGORIES:Virtual Parenting Series
END:VEVENT
BEGIN:VEVENT
DTSTART;TZID=America/Los_Angeles:20200309T180000
DTEND;TZID=America/Los_Angeles:20200309T200000
DTSTAMP:20260423T004344
CREATED:20200214T162635Z
LAST-MODIFIED:20200214T162635Z
UID:10004438-1583776800-1583784000@parentingtogetherwc.org
SUMMARY:Nutriendo la esperanza - clases para padres y hijos
DESCRIPTION:NH Fir Grove 2020 (SP)
URL:https://parentingtogetherwc.org/event/nutriendo-la-esperanza-clases-para-padres-y-hijos/
LOCATION:Beaverton Christian Church\, 13600 SW Allen Blvd\,\, Beaverton\, OR\, 97005\, United States
CATEGORIES:Parenting Classes
END:VEVENT
BEGIN:VEVENT
DTSTART;TZID=America/Los_Angeles:20190925T180000
DTEND;TZID=America/Los_Angeles:20190925T200000
DTSTAMP:20260423T004344
CREATED:20190805T162630Z
LAST-MODIFIED:20190805T163134Z
UID:10003427-1569434400-1569441600@parentingtogetherwc.org
SUMMARY:Nurturing Hope - Nutriendo la esperanza
DESCRIPTION:NH Tuality 2019 FALL\nNH at Tuality 2019 FALL(SP) 3
URL:https://parentingtogetherwc.org/event/5545/
LOCATION:Tuality Health Education Center\, 334 SE 8th Ave\, Hillsboro\, OR\, 97123\, United States
CATEGORIES:Family-Friendly,Parenting Classes
ORGANIZER;CN="Youth Contact/Vicki Ball":MAILTO:vball@youthcontact.org
GEO:45.5195868;-122.9765017
X-APPLE-STRUCTURED-LOCATION;VALUE=URI;X-ADDRESS=Tuality Health Education Center 334 SE 8th Ave Hillsboro OR 97123 United States;X-APPLE-RADIUS=500;X-TITLE=334 SE 8th Ave:geo:-122.9765017,45.5195868
END:VEVENT
BEGIN:VEVENT
DTSTART;TZID=America/Los_Angeles:20190515T180000
DTEND;TZID=America/Los_Angeles:20190515T200000
DTSTAMP:20260423T004344
CREATED:20190502T180516Z
LAST-MODIFIED:20190502T180516Z
UID:10004013-1557943200-1557950400@parentingtogetherwc.org
SUMMARY:Support Your Child's Summer Learning - Prevent the Summer Slide
DESCRIPTION:CFT Workshop Flyer
URL:https://parentingtogetherwc.org/event/support-your-childs-summer-learning-prevent-the-summer-slide/
LOCATION:Charles E Tigard Elementary\, 12855 SW Grant Ave.\, Tigard\, OR\, 97223\, United States
CATEGORIES:Parenting Workshop
ORGANIZER;CN="Youth Contact/Vicki Ball":MAILTO:vball@youthcontact.org
END:VEVENT
BEGIN:VEVENT
DTSTART;TZID=America/Los_Angeles:20181127T180000
DTEND;TZID=America/Los_Angeles:20181127T200000
DTSTAMP:20260423T004344
CREATED:20181105T212920Z
LAST-MODIFIED:20181105T212937Z
UID:10003081-1543341600-1543348800@parentingtogetherwc.org
SUMMARY:Entiendo Disciplina - Understanding Discipline
DESCRIPTION:Workshop Flyer Metzger 11.27.18
URL:https://parentingtogetherwc.org/event/entiendo-disciplina-understanding-discipline/
CATEGORIES:Parenting Workshop
ORGANIZER;CN="Youth Contact/Vicki Ball":MAILTO:vball@youthcontact.org
END:VEVENT
BEGIN:VEVENT
DTSTART;TZID=America/Los_Angeles:20181024T180000
DTEND;TZID=America/Los_Angeles:20181024T200000
DTSTAMP:20260423T004344
CREATED:20181010T222608Z
LAST-MODIFIED:20181010T222608Z
UID:10003486-1540404000-1540411200@parentingtogetherwc.org
SUMMARY:El ABC de crianza de los hijos
DESCRIPTION:NP Reedville Spn (F)\nABC_Parenting_English -BECC
URL:https://parentingtogetherwc.org/event/el-abc-de-crianza-de-los-hijos-2/
CATEGORIES:Parenting Classes
END:VEVENT
END:VCALENDAR