
BEGIN:VCALENDAR
VERSION:2.0
PRODID:-//Parenting Together Washington County - ECPv6.15.16.1//NONSGML v1.0//EN
CALSCALE:GREGORIAN
METHOD:PUBLISH
X-ORIGINAL-URL:https://parentingtogetherwc.org
X-WR-CALDESC:Events for Parenting Together Washington County
REFRESH-INTERVAL;VALUE=DURATION:PT1H
X-Robots-Tag:noindex
X-PUBLISHED-TTL:PT1H
BEGIN:VTIMEZONE
TZID:America/Los_Angeles
BEGIN:DAYLIGHT
TZOFFSETFROM:-0800
TZOFFSETTO:-0700
TZNAME:PDT
DTSTART:20170312T100000
END:DAYLIGHT
BEGIN:STANDARD
TZOFFSETFROM:-0700
TZOFFSETTO:-0800
TZNAME:PST
DTSTART:20171105T090000
END:STANDARD
BEGIN:DAYLIGHT
TZOFFSETFROM:-0800
TZOFFSETTO:-0700
TZNAME:PDT
DTSTART:20180311T100000
END:DAYLIGHT
BEGIN:STANDARD
TZOFFSETFROM:-0700
TZOFFSETTO:-0800
TZNAME:PST
DTSTART:20181104T090000
END:STANDARD
BEGIN:DAYLIGHT
TZOFFSETFROM:-0800
TZOFFSETTO:-0700
TZNAME:PDT
DTSTART:20190310T100000
END:DAYLIGHT
BEGIN:STANDARD
TZOFFSETFROM:-0700
TZOFFSETTO:-0800
TZNAME:PST
DTSTART:20191103T090000
END:STANDARD
END:VTIMEZONE
BEGIN:VEVENT
DTSTART;TZID=America/Los_Angeles:20180125T183000
DTEND;TZID=America/Los_Angeles:20180125T200000
DTSTAMP:20260423T025127
CREATED:20180103T214808Z
LAST-MODIFIED:20180103T214808Z
UID:10002994-1516905000-1516910400@parentingtogetherwc.org
SUMMARY:2018 Sherwood Early Learning Fair
DESCRIPTION:Sherwood Families with Children ages 0-5 years are invited to join us at Edy Ridge Elementary school on Thursday Jan 25th for our 3rd annual Sherwood Early Learning Fair.  Refreshments\, educational freebies\, and raffle tickets provided at no cost.  This is an open house style event with over 20 exhibitors in attendance.  Children welcome!
URL:https://parentingtogetherwc.org/event/2018-sherwood-early-learning-fair/
LOCATION:Edy Ridge Elementary School\, 21472 SW Copper Terrace\, Sherwood\, OR\, 97140\, United States
CATEGORIES:Family-Friendly,Kid Friendly
ATTACH;FMTTYPE=image/jpeg:https://parentingtogetherwc.org/wp-content/uploads/2018/01/2018EarlyLearningFairFlyer.jpg
END:VEVENT
END:VCALENDAR