
BEGIN:VCALENDAR
VERSION:2.0
PRODID:-//Parenting Together Washington County - ECPv6.15.16.1//NONSGML v1.0//EN
CALSCALE:GREGORIAN
METHOD:PUBLISH
X-WR-CALNAME:Parenting Together Washington County
X-ORIGINAL-URL:https://parentingtogetherwc.org
X-WR-CALDESC:Events for Parenting Together Washington County
REFRESH-INTERVAL;VALUE=DURATION:PT1H
X-Robots-Tag:noindex
X-PUBLISHED-TTL:PT1H
BEGIN:VTIMEZONE
TZID:America/Los_Angeles
BEGIN:DAYLIGHT
TZOFFSETFROM:-0800
TZOFFSETTO:-0700
TZNAME:PDT
DTSTART:20180311T100000
END:DAYLIGHT
BEGIN:STANDARD
TZOFFSETFROM:-0700
TZOFFSETTO:-0800
TZNAME:PST
DTSTART:20181104T090000
END:STANDARD
BEGIN:DAYLIGHT
TZOFFSETFROM:-0800
TZOFFSETTO:-0700
TZNAME:PDT
DTSTART:20190310T100000
END:DAYLIGHT
BEGIN:STANDARD
TZOFFSETFROM:-0700
TZOFFSETTO:-0800
TZNAME:PST
DTSTART:20191103T090000
END:STANDARD
BEGIN:DAYLIGHT
TZOFFSETFROM:-0800
TZOFFSETTO:-0700
TZNAME:PDT
DTSTART:20200308T100000
END:DAYLIGHT
BEGIN:STANDARD
TZOFFSETFROM:-0700
TZOFFSETTO:-0800
TZNAME:PST
DTSTART:20201101T090000
END:STANDARD
END:VTIMEZONE
BEGIN:VEVENT
DTSTART;TZID=America/Los_Angeles:20191125T000000
DTEND;TZID=America/Los_Angeles:20191125T000000
DTSTAMP:20260423T050328
CREATED:20190829T224713Z
LAST-MODIFIED:20190829T224713Z
UID:10004243-1574640000-1574640000@parentingtogetherwc.org
SUMMARY:Free Food Market
DESCRIPTION:Pacific UniversityMarket08.2019
URL:https://parentingtogetherwc.org/event/free-food-market/2019-11-25/
LOCATION:OR\, United States
CATEGORIES:Family-Friendly
END:VEVENT
BEGIN:VEVENT
DTSTART;TZID=America/Los_Angeles:20191028T000000
DTEND;TZID=America/Los_Angeles:20191028T000000
DTSTAMP:20260423T050329
CREATED:20190829T224713Z
LAST-MODIFIED:20190829T224713Z
UID:10004242-1572220800-1572220800@parentingtogetherwc.org
SUMMARY:Free Food Market
DESCRIPTION:Pacific UniversityMarket08.2019
URL:https://parentingtogetherwc.org/event/free-food-market/2019-10-28/
LOCATION:OR\, United States
CATEGORIES:Family-Friendly
END:VEVENT
BEGIN:VEVENT
DTSTART;TZID=America/Los_Angeles:20190923T000000
DTEND;TZID=America/Los_Angeles:20190923T000000
DTSTAMP:20260423T050329
CREATED:20190829T224713Z
LAST-MODIFIED:20190829T224713Z
UID:10004241-1569196800-1569196800@parentingtogetherwc.org
SUMMARY:Free Food Market
DESCRIPTION:Pacific UniversityMarket08.2019
URL:https://parentingtogetherwc.org/event/free-food-market/2019-09-23/
LOCATION:OR\, United States
CATEGORIES:Family-Friendly
END:VEVENT
BEGIN:VEVENT
DTSTART;TZID=America/Los_Angeles:20190829T000000
DTEND;TZID=America/Los_Angeles:20190829T000000
DTSTAMP:20260423T050329
CREATED:20190829T224713Z
LAST-MODIFIED:20190829T224713Z
UID:10004240-1567036800-1567036800@parentingtogetherwc.org
SUMMARY:Free Food Market
DESCRIPTION:Pacific UniversityMarket08.2019
URL:https://parentingtogetherwc.org/event/free-food-market/2019-08-29/
LOCATION:OR\, United States
CATEGORIES:Family-Friendly
END:VEVENT
END:VCALENDAR