
BEGIN:VCALENDAR
VERSION:2.0
PRODID:-//Parenting Together Washington County - ECPv6.15.16.1//NONSGML v1.0//EN
CALSCALE:GREGORIAN
METHOD:PUBLISH
X-WR-CALNAME:Parenting Together Washington County
X-ORIGINAL-URL:https://parentingtogetherwc.org
X-WR-CALDESC:Events for Parenting Together Washington County
REFRESH-INTERVAL;VALUE=DURATION:PT1H
X-Robots-Tag:noindex
X-PUBLISHED-TTL:PT1H
BEGIN:VTIMEZONE
TZID:America/Los_Angeles
BEGIN:DAYLIGHT
TZOFFSETFROM:-0800
TZOFFSETTO:-0700
TZNAME:PDT
DTSTART:20170312T100000
END:DAYLIGHT
BEGIN:STANDARD
TZOFFSETFROM:-0700
TZOFFSETTO:-0800
TZNAME:PST
DTSTART:20171105T090000
END:STANDARD
BEGIN:DAYLIGHT
TZOFFSETFROM:-0800
TZOFFSETTO:-0700
TZNAME:PDT
DTSTART:20180311T100000
END:DAYLIGHT
BEGIN:STANDARD
TZOFFSETFROM:-0700
TZOFFSETTO:-0800
TZNAME:PST
DTSTART:20181104T090000
END:STANDARD
BEGIN:DAYLIGHT
TZOFFSETFROM:-0800
TZOFFSETTO:-0700
TZNAME:PDT
DTSTART:20190310T100000
END:DAYLIGHT
BEGIN:STANDARD
TZOFFSETFROM:-0700
TZOFFSETTO:-0800
TZNAME:PST
DTSTART:20191103T090000
END:STANDARD
BEGIN:DAYLIGHT
TZOFFSETFROM:-0800
TZOFFSETTO:-0700
TZNAME:PDT
DTSTART:20200308T100000
END:DAYLIGHT
BEGIN:STANDARD
TZOFFSETFROM:-0700
TZOFFSETTO:-0800
TZNAME:PST
DTSTART:20201101T090000
END:STANDARD
BEGIN:DAYLIGHT
TZOFFSETFROM:-0800
TZOFFSETTO:-0700
TZNAME:PDT
DTSTART:20210314T100000
END:DAYLIGHT
BEGIN:STANDARD
TZOFFSETFROM:-0700
TZOFFSETTO:-0800
TZNAME:PST
DTSTART:20211107T090000
END:STANDARD
BEGIN:DAYLIGHT
TZOFFSETFROM:-0800
TZOFFSETTO:-0700
TZNAME:PDT
DTSTART:20220313T100000
END:DAYLIGHT
BEGIN:STANDARD
TZOFFSETFROM:-0700
TZOFFSETTO:-0800
TZNAME:PST
DTSTART:20221106T090000
END:STANDARD
BEGIN:DAYLIGHT
TZOFFSETFROM:-0800
TZOFFSETTO:-0700
TZNAME:PDT
DTSTART:20230312T100000
END:DAYLIGHT
BEGIN:STANDARD
TZOFFSETFROM:-0700
TZOFFSETTO:-0800
TZNAME:PST
DTSTART:20231105T090000
END:STANDARD
BEGIN:DAYLIGHT
TZOFFSETFROM:-0800
TZOFFSETTO:-0700
TZNAME:PDT
DTSTART:20240310T100000
END:DAYLIGHT
BEGIN:STANDARD
TZOFFSETFROM:-0700
TZOFFSETTO:-0800
TZNAME:PST
DTSTART:20241103T090000
END:STANDARD
BEGIN:DAYLIGHT
TZOFFSETFROM:-0800
TZOFFSETTO:-0700
TZNAME:PDT
DTSTART:20250309T100000
END:DAYLIGHT
BEGIN:STANDARD
TZOFFSETFROM:-0700
TZOFFSETTO:-0800
TZNAME:PST
DTSTART:20251102T090000
END:STANDARD
BEGIN:DAYLIGHT
TZOFFSETFROM:-0800
TZOFFSETTO:-0700
TZNAME:PDT
DTSTART:20260308T100000
END:DAYLIGHT
BEGIN:STANDARD
TZOFFSETFROM:-0700
TZOFFSETTO:-0800
TZNAME:PST
DTSTART:20261101T090000
END:STANDARD
END:VTIMEZONE
BEGIN:VEVENT
DTSTART;TZID=America/Los_Angeles:20250426T100000
DTEND;TZID=America/Los_Angeles:20250426T130000
DTSTAMP:20260423T031404
CREATED:20250415T225412Z
LAST-MODIFIED:20250415T225422Z
UID:10006464-1745661600-1745672400@parentingtogetherwc.org
SUMMARY:STEAM Kids Wonderland – Engaging Science\, Tech\, Engineering\, Arts and Math Fun for Families and Preschool Age Children
DESCRIPTION:April.SKW.VG.Beaverton.ENG\nApril.SKW.VG.Beaverton.SPA\nApril.SKW.VG.Beaverton.Simplified.Chinese\nApril.SKW.VG.Beaverton.Traditional.Chinese
URL:https://parentingtogetherwc.org/event/steam-kids-wonderland-engaging-science-tech-engineering-arts-and-math-fun-for-families-and-preschool-age-children-3/
LOCATION:Virginia Garcia Beaverton Wellness Center\, 2725 SW Cedar Hills Blvd\, Suite 200\, Beaverton\, 97005
CATEGORIES:Family-Friendly,Kid Friendly
END:VEVENT
BEGIN:VEVENT
DTSTART;TZID=America/Los_Angeles:20191021T170000
DTEND;TZID=America/Los_Angeles:20191021T190000
DTSTAMP:20260423T031404
CREATED:20190924T231106Z
LAST-MODIFIED:20190924T231157Z
UID:10004269-1571677200-1571684400@parentingtogetherwc.org
SUMMARY:Haga de la paternidad - Making Parenting a Pleasure
DESCRIPTION:Haga de la Paternidad un Placer_BWC
URL:https://parentingtogetherwc.org/event/5843/
LOCATION:Virginia Garcia Beaverton Wellness Center\, 2725 SW Cedar Hills Blvd\, Suite 200\, Beaverton\, 97005
CATEGORIES:Parenting Classes
ORGANIZER;CN="Virginia Garcia/Veronica Garcia":MAILTO:vgarcia2@vgmhc.org
END:VEVENT
BEGIN:VEVENT
DTSTART;TZID=America/Los_Angeles:20190218T100000
DTEND;TZID=America/Los_Angeles:20190218T120000
DTSTAMP:20260423T031404
CREATED:20181221T195905Z
LAST-MODIFIED:20190110T003216Z
UID:10003405-1550484000-1550491200@parentingtogetherwc.org
SUMMARY:Abriendo Puertas
DESCRIPTION:El programa Padres Con Iniciativa los invita a tomar un curso con herramientas para comprender el desarrollo infantil\, disciplina positiva\, nutrición y autoestima.Abriendo Puertas_2_BWC\n  \n 
URL:https://parentingtogetherwc.org/event/abriendo-puertas-4/2019-02-18/
LOCATION:Virginia Garcia Beaverton Wellness Center\, 2725 SW Cedar Hills Blvd\, Suite 200\, Beaverton\, 97005
CATEGORIES:Parenting Classes
ORGANIZER;CN="Virginia Garcia/Veronica Garcia":MAILTO:vgarcia2@vgmhc.org
END:VEVENT
BEGIN:VEVENT
DTSTART;TZID=America/Los_Angeles:20190211T100000
DTEND;TZID=America/Los_Angeles:20190211T120000
DTSTAMP:20260423T031404
CREATED:20181221T195905Z
LAST-MODIFIED:20190110T003216Z
UID:10003404-1549879200-1549886400@parentingtogetherwc.org
SUMMARY:Abriendo Puertas
DESCRIPTION:El programa Padres Con Iniciativa los invita a tomar un curso con herramientas para comprender el desarrollo infantil\, disciplina positiva\, nutrición y autoestima.Abriendo Puertas_2_BWC\n  \n 
URL:https://parentingtogetherwc.org/event/abriendo-puertas-4/2019-02-11/
LOCATION:Virginia Garcia Beaverton Wellness Center\, 2725 SW Cedar Hills Blvd\, Suite 200\, Beaverton\, 97005
CATEGORIES:Parenting Classes
ORGANIZER;CN="Virginia Garcia/Veronica Garcia":MAILTO:vgarcia2@vgmhc.org
END:VEVENT
BEGIN:VEVENT
DTSTART;TZID=America/Los_Angeles:20190204T100000
DTEND;TZID=America/Los_Angeles:20190204T120000
DTSTAMP:20260423T031404
CREATED:20181221T195905Z
LAST-MODIFIED:20190110T003216Z
UID:10003403-1549274400-1549281600@parentingtogetherwc.org
SUMMARY:Abriendo Puertas
DESCRIPTION:El programa Padres Con Iniciativa los invita a tomar un curso con herramientas para comprender el desarrollo infantil\, disciplina positiva\, nutrición y autoestima.Abriendo Puertas_2_BWC\n  \n 
URL:https://parentingtogetherwc.org/event/abriendo-puertas-4/2019-02-04/
LOCATION:Virginia Garcia Beaverton Wellness Center\, 2725 SW Cedar Hills Blvd\, Suite 200\, Beaverton\, 97005
CATEGORIES:Parenting Classes
ORGANIZER;CN="Virginia Garcia/Veronica Garcia":MAILTO:vgarcia2@vgmhc.org
END:VEVENT
BEGIN:VEVENT
DTSTART;TZID=America/Los_Angeles:20181102T110000
DTEND;TZID=America/Los_Angeles:20181102T130000
DTSTAMP:20260423T031404
CREATED:20181010T182402Z
LAST-MODIFIED:20181010T182402Z
UID:10003559-1541156400-1541163600@parentingtogetherwc.org
SUMMARY:Active Parenting: The First Five Years
DESCRIPTION:Active Parenting The First Five Years_BWC
URL:https://parentingtogetherwc.org/event/active-parenting-first-five-years-2/
LOCATION:Virginia Garcia Beaverton Wellness Center\, 2725 SW Cedar Hills Blvd\, Suite 200\, Beaverton\, 97005
CATEGORIES:Parenting Classes
ORGANIZER;CN="Virginia Garcia/Veronica Garcia":MAILTO:vgarcia2@vgmhc.org
END:VEVENT
END:VCALENDAR