
BEGIN:VCALENDAR
VERSION:2.0
PRODID:-//Parenting Together Washington County - ECPv6.15.16.1//NONSGML v1.0//EN
CALSCALE:GREGORIAN
METHOD:PUBLISH
X-ORIGINAL-URL:https://parentingtogetherwc.org
X-WR-CALDESC:Events for Parenting Together Washington County
REFRESH-INTERVAL;VALUE=DURATION:PT1H
X-Robots-Tag:noindex
X-PUBLISHED-TTL:PT1H
BEGIN:VTIMEZONE
TZID:America/Los_Angeles
BEGIN:DAYLIGHT
TZOFFSETFROM:-0800
TZOFFSETTO:-0700
TZNAME:PDT
DTSTART:20230312T100000
END:DAYLIGHT
BEGIN:STANDARD
TZOFFSETFROM:-0700
TZOFFSETTO:-0800
TZNAME:PST
DTSTART:20231105T090000
END:STANDARD
BEGIN:DAYLIGHT
TZOFFSETFROM:-0800
TZOFFSETTO:-0700
TZNAME:PDT
DTSTART:20240310T100000
END:DAYLIGHT
BEGIN:STANDARD
TZOFFSETFROM:-0700
TZOFFSETTO:-0800
TZNAME:PST
DTSTART:20241103T090000
END:STANDARD
BEGIN:DAYLIGHT
TZOFFSETFROM:-0800
TZOFFSETTO:-0700
TZNAME:PDT
DTSTART:20250309T100000
END:DAYLIGHT
BEGIN:STANDARD
TZOFFSETFROM:-0700
TZOFFSETTO:-0800
TZNAME:PST
DTSTART:20251102T090000
END:STANDARD
END:VTIMEZONE
BEGIN:VEVENT
DTSTART;TZID=America/Los_Angeles:20241210T170000
DTEND;TZID=America/Los_Angeles:20241210T190000
DTSTAMP:20260423T101418
CREATED:20240909T201034Z
LAST-MODIFIED:20241118T025226Z
UID:10005240-1733850000-1733857200@parentingtogetherwc.org
SUMMARY:"Me cuido\, Te cuido" - Taller "I take care of me\, I take care of you" Workshop
DESCRIPTION:Me cuido\, Te cuido
URL:https://parentingtogetherwc.org/event/me-cuido-te-cuido-taller-i-take-care-of-me-i-take-care-of-you-workshop/
LOCATION:Aloha Huber Park\, 5000 SW 173rd Ave\, Beaverton\, OR\, 97123\, United States
ORGANIZER;CN="Adelante Gracie":MAILTO:gchavez@adelantemujeres.org
GEO:45.483953;-122.8538441
X-APPLE-STRUCTURED-LOCATION;VALUE=URI;X-ADDRESS=Aloha Huber Park 5000 SW 173rd Ave Beaverton OR 97123 United States;X-APPLE-RADIUS=500;X-TITLE=5000 SW 173rd Ave:geo:-122.8538441,45.483953
END:VEVENT
BEGIN:VEVENT
DTSTART;TZID=America/Los_Angeles:20240927T080000
DTEND;TZID=America/Los_Angeles:20240927T100000
DTSTAMP:20260423T101418
CREATED:20240909T202623Z
LAST-MODIFIED:20240909T202623Z
UID:10006341-1727424000-1727431200@parentingtogetherwc.org
SUMMARY:Años Increíbles - Serie de aprendizaje\, apoyo y conexión para padres
DESCRIPTION:The Incredible Years
URL:https://parentingtogetherwc.org/event/anos-increibles-serie-de-aprendizaje-apoyo-y-conexion-para-padres/
LOCATION:Aloha Huber Park\, 5000 SW 173rd Ave\, Beaverton\, OR\, 97123\, United States
CATEGORIES:Parenting Series
ORGANIZER;CN="Adelante Mujeres -":MAILTO:lhernandez@adelantemujeres.org
GEO:45.483953;-122.8538441
X-APPLE-STRUCTURED-LOCATION;VALUE=URI;X-ADDRESS=Aloha Huber Park 5000 SW 173rd Ave Beaverton OR 97123 United States;X-APPLE-RADIUS=500;X-TITLE=5000 SW 173rd Ave:geo:-122.8538441,45.483953
END:VEVENT
BEGIN:VEVENT
DTSTART;TZID=America/Los_Angeles:20240214T170000
DTEND;TZID=America/Los_Angeles:20240214T190000
DTSTAMP:20260423T101418
CREATED:20231130T191233Z
LAST-MODIFIED:20231130T193200Z
UID:10004872-1707930000-1707937200@parentingtogetherwc.org
SUMMARY:Fortaleciendo Familias una serie de aprendizaje\, conexión y apoyo para padres y jóvenes de 10 a 14 años
DESCRIPTION:Fortaleceindo Familias 10-14 Aloha Hubert Park Winter 01.24 SP SF Adelante 10-14 Aloha Hubert Park
URL:https://parentingtogetherwc.org/event/10018/
LOCATION:Aloha Huber Park\, 5000 SW 173rd Ave\, Beaverton\, OR\, 97123\, United States
CATEGORIES:Parenting and Youth Series
ORGANIZER;CN="Adelante Mujeres -":MAILTO:lhernandez@adelantemujeres.org
GEO:45.483953;-122.8538441
X-APPLE-STRUCTURED-LOCATION;VALUE=URI;X-ADDRESS=Aloha Huber Park 5000 SW 173rd Ave Beaverton OR 97123 United States;X-APPLE-RADIUS=500;X-TITLE=5000 SW 173rd Ave:geo:-122.8538441,45.483953
END:VEVENT
END:VCALENDAR