
BEGIN:VCALENDAR
VERSION:2.0
PRODID:-//Parenting Together Washington County - ECPv6.15.16.1//NONSGML v1.0//EN
CALSCALE:GREGORIAN
METHOD:PUBLISH
X-ORIGINAL-URL:https://parentingtogetherwc.org
X-WR-CALDESC:Events for Parenting Together Washington County
REFRESH-INTERVAL;VALUE=DURATION:PT1H
X-Robots-Tag:noindex
X-PUBLISHED-TTL:PT1H
BEGIN:VTIMEZONE
TZID:America/Los_Angeles
BEGIN:DAYLIGHT
TZOFFSETFROM:-0800
TZOFFSETTO:-0700
TZNAME:PDT
DTSTART:20160313T100000
END:DAYLIGHT
BEGIN:STANDARD
TZOFFSETFROM:-0700
TZOFFSETTO:-0800
TZNAME:PST
DTSTART:20161106T090000
END:STANDARD
BEGIN:DAYLIGHT
TZOFFSETFROM:-0800
TZOFFSETTO:-0700
TZNAME:PDT
DTSTART:20170312T100000
END:DAYLIGHT
BEGIN:STANDARD
TZOFFSETFROM:-0700
TZOFFSETTO:-0800
TZNAME:PST
DTSTART:20171105T090000
END:STANDARD
BEGIN:DAYLIGHT
TZOFFSETFROM:-0800
TZOFFSETTO:-0700
TZNAME:PDT
DTSTART:20180311T100000
END:DAYLIGHT
BEGIN:STANDARD
TZOFFSETFROM:-0700
TZOFFSETTO:-0800
TZNAME:PST
DTSTART:20181104T090000
END:STANDARD
BEGIN:DAYLIGHT
TZOFFSETFROM:-0800
TZOFFSETTO:-0700
TZNAME:PDT
DTSTART:20190310T100000
END:DAYLIGHT
BEGIN:STANDARD
TZOFFSETFROM:-0700
TZOFFSETTO:-0800
TZNAME:PST
DTSTART:20191103T090000
END:STANDARD
END:VTIMEZONE
BEGIN:VEVENT
DTSTART;TZID=America/Los_Angeles:20180818T110000
DTEND;TZID=America/Los_Angeles:20180818T160000
DTSTAMP:20260423T050529
CREATED:20180807T183945Z
LAST-MODIFIED:20180807T192623Z
UID:10003296-1534590000-1534608000@parentingtogetherwc.org
SUMMARY:17th Annual Asian Community Health Fair
DESCRIPTION:免費 健康檢查和醫療諮詢相關資訊將以中文\, 韓文和越南文提供! \n무료 건강 검진\, 상담\, 정보 등을 중국어\, 한국어\, 베트남어로 제공합니다! \nMiễn Phí khám sức khỏe\, dịch vụ tư vấn\, và những thông tin sức khỏe bằng tiếng Anh\, tiếng Hoa\, tiếng Hàn và tiếng Việt! \nSaturday\, August 18\, 2018\, 11am – 4pm\nThe 17th Annual Asian Community Health Fair is coming again! This year\, we are going to have the Health Fair at our NEW BUILDING!! \n**SATURDAY AUGUST 11\, 2018 (Vision Screening Only) \n**SATURDAY AUGUST 18\, 2018 (General Health Fair) \nFREE health screenings\, consultations\, and information available in English\, Cantonese\, Mandarin\, Korean\, and Vietnamese! \nFor more information: healthfair@ahscpdx.org \n 
URL:https://parentingtogetherwc.org/event/16th-annual-asian-community-health-fair-trung-tam-y-te-dich-vu-chau/
LOCATION:Asian Health and Service Center\, 9035 SE Foster Road\, Portland\, 97226\, United States
CATEGORIES:Family-Friendly
GEO:45.4962521;-122.6288384
X-APPLE-STRUCTURED-LOCATION;VALUE=URI;X-ADDRESS=Asian Health and Service Center 9035 SE Foster Road Portland 97226 United States;X-APPLE-RADIUS=500;X-TITLE=9035 SE Foster Road:geo:-122.6288384,45.4962521
END:VEVENT
BEGIN:VEVENT
DTSTART;TZID=America/Los_Angeles:20170812T110000
DTEND;TZID=America/Los_Angeles:20170812T160000
DTSTAMP:20260423T050529
CREATED:20170809T190133Z
LAST-MODIFIED:20170809T190133Z
UID:10002811-1502535600-1502553600@parentingtogetherwc.org
SUMMARY:Asian Community Health Fair
DESCRIPTION:Information to navigate the health care system. Health Education. Disease prevention and more.  See the attached fliers for English\, Korean\, Chinese\, and Vietnamese. \n \n \n 
URL:https://parentingtogetherwc.org/event/asian-community-health-fair/
LOCATION:Asian Health and Service Center\, 9035 SE Foster Road\, Portland\, 97226\, United States
CATEGORIES:Family-Friendly
ATTACH;FMTTYPE=image/jpeg:https://parentingtogetherwc.org/wp-content/uploads/2017/08/2017-AHSC-Main-HealthFair-Flyer_English.jpg
GEO:45.4962521;-122.6288384
X-APPLE-STRUCTURED-LOCATION;VALUE=URI;X-ADDRESS=Asian Health and Service Center 9035 SE Foster Road Portland 97226 United States;X-APPLE-RADIUS=500;X-TITLE=9035 SE Foster Road:geo:-122.6288384,45.4962521
END:VEVENT
END:VCALENDAR