
BEGIN:VCALENDAR
VERSION:2.0
PRODID:-//Parenting Together Washington County - ECPv6.15.16.1//NONSGML v1.0//EN
CALSCALE:GREGORIAN
METHOD:PUBLISH
X-WR-CALNAME:Parenting Together Washington County
X-ORIGINAL-URL:https://parentingtogetherwc.org
X-WR-CALDESC:Events for Parenting Together Washington County
REFRESH-INTERVAL;VALUE=DURATION:PT1H
X-Robots-Tag:noindex
X-PUBLISHED-TTL:PT1H
BEGIN:VTIMEZONE
TZID:America/Los_Angeles
BEGIN:DAYLIGHT
TZOFFSETFROM:-0800
TZOFFSETTO:-0700
TZNAME:PDT
DTSTART:20180311T100000
END:DAYLIGHT
BEGIN:STANDARD
TZOFFSETFROM:-0700
TZOFFSETTO:-0800
TZNAME:PST
DTSTART:20181104T090000
END:STANDARD
BEGIN:DAYLIGHT
TZOFFSETFROM:-0800
TZOFFSETTO:-0700
TZNAME:PDT
DTSTART:20190310T100000
END:DAYLIGHT
BEGIN:STANDARD
TZOFFSETFROM:-0700
TZOFFSETTO:-0800
TZNAME:PST
DTSTART:20191103T090000
END:STANDARD
BEGIN:DAYLIGHT
TZOFFSETFROM:-0800
TZOFFSETTO:-0700
TZNAME:PDT
DTSTART:20200308T100000
END:DAYLIGHT
BEGIN:STANDARD
TZOFFSETFROM:-0700
TZOFFSETTO:-0800
TZNAME:PST
DTSTART:20201101T090000
END:STANDARD
END:VTIMEZONE
BEGIN:VEVENT
DTSTART;TZID=America/Los_Angeles:20190515T170000
DTEND;TZID=America/Los_Angeles:20190515T203000
DTSTAMP:20260422T231257
CREATED:20190507T000617Z
LAST-MODIFIED:20190507T000617Z
UID:10004012-1557939600-1557952200@parentingtogetherwc.org
SUMMARY:Building Resiliency in Families/ Construyendo resiliencia en las familias
DESCRIPTION:Beaverton Building resilient families Event Flyer (1)\nBeaverton Spanish Event Flyer
URL:https://parentingtogetherwc.org/event/building-resiliency-in-families-construyendo-resiliencia-en-las-familias/
LOCATION:Beaverton High School\, 1300 SW 2nd Street\, Beaverton\, OR\, 97005\, United States
CATEGORIES:Adult Workshop,Parenting Workshop
END:VEVENT
END:VCALENDAR