
BEGIN:VCALENDAR
VERSION:2.0
PRODID:-//Parenting Together Washington County - ECPv6.15.16.1//NONSGML v1.0//EN
CALSCALE:GREGORIAN
METHOD:PUBLISH
X-ORIGINAL-URL:https://parentingtogetherwc.org
X-WR-CALDESC:Events for Parenting Together Washington County
REFRESH-INTERVAL;VALUE=DURATION:PT1H
X-Robots-Tag:noindex
X-PUBLISHED-TTL:PT1H
BEGIN:VTIMEZONE
TZID:America/Los_Angeles
BEGIN:DAYLIGHT
TZOFFSETFROM:-0800
TZOFFSETTO:-0700
TZNAME:PDT
DTSTART:20160313T100000
END:DAYLIGHT
BEGIN:STANDARD
TZOFFSETFROM:-0700
TZOFFSETTO:-0800
TZNAME:PST
DTSTART:20161106T090000
END:STANDARD
BEGIN:DAYLIGHT
TZOFFSETFROM:-0800
TZOFFSETTO:-0700
TZNAME:PDT
DTSTART:20170312T100000
END:DAYLIGHT
BEGIN:STANDARD
TZOFFSETFROM:-0700
TZOFFSETTO:-0800
TZNAME:PST
DTSTART:20171105T090000
END:STANDARD
BEGIN:DAYLIGHT
TZOFFSETFROM:-0800
TZOFFSETTO:-0700
TZNAME:PDT
DTSTART:20180311T100000
END:DAYLIGHT
BEGIN:STANDARD
TZOFFSETFROM:-0700
TZOFFSETTO:-0800
TZNAME:PST
DTSTART:20181104T090000
END:STANDARD
BEGIN:DAYLIGHT
TZOFFSETFROM:-0800
TZOFFSETTO:-0700
TZNAME:PDT
DTSTART:20190310T100000
END:DAYLIGHT
BEGIN:STANDARD
TZOFFSETFROM:-0700
TZOFFSETTO:-0800
TZNAME:PST
DTSTART:20191103T090000
END:STANDARD
BEGIN:DAYLIGHT
TZOFFSETFROM:-0800
TZOFFSETTO:-0700
TZNAME:PDT
DTSTART:20200308T100000
END:DAYLIGHT
BEGIN:STANDARD
TZOFFSETFROM:-0700
TZOFFSETTO:-0800
TZNAME:PST
DTSTART:20201101T090000
END:STANDARD
END:VTIMEZONE
BEGIN:VEVENT
DTSTART;TZID=America/Los_Angeles:20190825T133000
DTEND;TZID=America/Los_Angeles:20190825T143000
DTSTAMP:20260423T021602
CREATED:20190329T160603Z
LAST-MODIFIED:20190329T160603Z
UID:10003892-1566739800-1566743400@parentingtogetherwc.org
SUMMARY:Family Storytime (all ages)
DESCRIPTION:30 – 40 minutes of age-appropriate stories\, finger plays\, and other activities.
URL:https://parentingtogetherwc.org/event/family-storytime-all-ages-5/
LOCATION:Hillsboro Brookwood Library Community Room (1st floor)\, 2850 NE Brookwood Parkway\, Hillsboro\, OR\, 97124\, United States
CATEGORIES:Family-Friendly,Kid Friendly
GEO:45.5428783;-122.9359812
X-APPLE-STRUCTURED-LOCATION;VALUE=URI;X-ADDRESS=Hillsboro Brookwood Library Community Room (1st floor) 2850 NE Brookwood Parkway Hillsboro OR 97124 United States;X-APPLE-RADIUS=500;X-TITLE=2850 NE Brookwood Parkway:geo:-122.9359812,45.5428783
END:VEVENT
BEGIN:VEVENT
DTSTART;TZID=America/Los_Angeles:20190823T100000
DTEND;TZID=America/Los_Angeles:20190823T110000
DTSTAMP:20260423T021602
CREATED:20190329T163101Z
LAST-MODIFIED:20190329T163101Z
UID:10003774-1566554400-1566558000@parentingtogetherwc.org
SUMMARY:Inclusive Storytime (ages 3-5 years)
DESCRIPTION:Limited to 15 children\, ages 3-5\, and their parents and caregivers. Kids with varying learning styles and abilities come together in a safe and supportive environment. Children who may need visual/communication supports\, a more predictable routine\, or adapted materials due to a motor impairment are welcome. Pre-register at mpebly@pdx.edu; we can send materials home ahead of time.
URL:https://parentingtogetherwc.org/event/inclusive-storytime-ages-3-5-years/
LOCATION:Hillsboro Brookwood Library Community Room (1st floor)\, 2850 NE Brookwood Parkway\, Hillsboro\, OR\, 97124\, United States
CATEGORIES:Family-Friendly,Kid Friendly
GEO:45.5428783;-122.9359812
X-APPLE-STRUCTURED-LOCATION;VALUE=URI;X-ADDRESS=Hillsboro Brookwood Library Community Room (1st floor) 2850 NE Brookwood Parkway Hillsboro OR 97124 United States;X-APPLE-RADIUS=500;X-TITLE=2850 NE Brookwood Parkway:geo:-122.9359812,45.5428783
END:VEVENT
BEGIN:VEVENT
DTSTART;TZID=America/Los_Angeles:20190818T133000
DTEND;TZID=America/Los_Angeles:20190818T143000
DTSTAMP:20260423T021602
CREATED:20190329T160636Z
LAST-MODIFIED:20190329T160636Z
UID:10003930-1566135000-1566138600@parentingtogetherwc.org
SUMMARY:Family Storytime (all ages)
DESCRIPTION:30 – 40 minutes of age-appropriate stories\, finger plays\, and other activities.
URL:https://parentingtogetherwc.org/event/family-storytime-all-ages-6/
LOCATION:Hillsboro Brookwood Library Community Room (1st floor)\, 2850 NE Brookwood Parkway\, Hillsboro\, OR\, 97124\, United States
CATEGORIES:Family-Friendly,Kid Friendly
GEO:45.5428783;-122.9359812
X-APPLE-STRUCTURED-LOCATION;VALUE=URI;X-ADDRESS=Hillsboro Brookwood Library Community Room (1st floor) 2850 NE Brookwood Parkway Hillsboro OR 97124 United States;X-APPLE-RADIUS=500;X-TITLE=2850 NE Brookwood Parkway:geo:-122.9359812,45.5428783
END:VEVENT
BEGIN:VEVENT
DTSTART;TZID=America/Los_Angeles:20190811T133000
DTEND;TZID=America/Los_Angeles:20190811T143000
DTSTAMP:20260423T021602
CREATED:20190329T160719Z
LAST-MODIFIED:20190329T160719Z
UID:10003932-1565530200-1565533800@parentingtogetherwc.org
SUMMARY:Family Storytime (all ages)
DESCRIPTION:30 – 40 minutes of age-appropriate stories\, finger plays\, and other activities.
URL:https://parentingtogetherwc.org/event/family-storytime-all-ages-7/
LOCATION:Hillsboro Brookwood Library Community Room (1st floor)\, 2850 NE Brookwood Parkway\, Hillsboro\, OR\, 97124\, United States
CATEGORIES:Family-Friendly,Kid Friendly
GEO:45.5428783;-122.9359812
X-APPLE-STRUCTURED-LOCATION;VALUE=URI;X-ADDRESS=Hillsboro Brookwood Library Community Room (1st floor) 2850 NE Brookwood Parkway Hillsboro OR 97124 United States;X-APPLE-RADIUS=500;X-TITLE=2850 NE Brookwood Parkway:geo:-122.9359812,45.5428783
END:VEVENT
BEGIN:VEVENT
DTSTART;TZID=America/Los_Angeles:20190809T100000
DTEND;TZID=America/Los_Angeles:20190809T110000
DTSTAMP:20260423T021602
CREATED:20190329T163137Z
LAST-MODIFIED:20190329T163137Z
UID:10003775-1565344800-1565348400@parentingtogetherwc.org
SUMMARY:Inclusive Storytime (ages 3-5 years)
DESCRIPTION:Limited to 15 children\, ages 3-5\, and their parents and caregivers. Kids with varying learning styles and abilities come together in a safe and supportive environment. Children who may need visual/communication supports\, a more predictable routine\, or adapted materials due to a motor impairment are welcome. Pre-register at mpebly@pdx.edu; we can send materials home ahead of time.
URL:https://parentingtogetherwc.org/event/inclusive-storytime-ages-3-5-years-2/
LOCATION:Hillsboro Brookwood Library Community Room (1st floor)\, 2850 NE Brookwood Parkway\, Hillsboro\, OR\, 97124\, United States
CATEGORIES:Family-Friendly,Kid Friendly
GEO:45.5428783;-122.9359812
X-APPLE-STRUCTURED-LOCATION;VALUE=URI;X-ADDRESS=Hillsboro Brookwood Library Community Room (1st floor) 2850 NE Brookwood Parkway Hillsboro OR 97124 United States;X-APPLE-RADIUS=500;X-TITLE=2850 NE Brookwood Parkway:geo:-122.9359812,45.5428783
END:VEVENT
BEGIN:VEVENT
DTSTART;TZID=America/Los_Angeles:20190804T133000
DTEND;TZID=America/Los_Angeles:20190804T143000
DTSTAMP:20260423T021602
CREATED:20190329T160759Z
LAST-MODIFIED:20190329T160759Z
UID:10003934-1564925400-1564929000@parentingtogetherwc.org
SUMMARY:Family Storytime (all ages)
DESCRIPTION:30 – 40 minutes of age-appropriate stories\, finger plays\, and other activities.
URL:https://parentingtogetherwc.org/event/family-storytime-all-ages-8/
LOCATION:Hillsboro Brookwood Library Community Room (1st floor)\, 2850 NE Brookwood Parkway\, Hillsboro\, OR\, 97124\, United States
CATEGORIES:Family-Friendly,Kid Friendly
GEO:45.5428783;-122.9359812
X-APPLE-STRUCTURED-LOCATION;VALUE=URI;X-ADDRESS=Hillsboro Brookwood Library Community Room (1st floor) 2850 NE Brookwood Parkway Hillsboro OR 97124 United States;X-APPLE-RADIUS=500;X-TITLE=2850 NE Brookwood Parkway:geo:-122.9359812,45.5428783
END:VEVENT
BEGIN:VEVENT
DTSTART;TZID=America/Los_Angeles:20190728T133000
DTEND;TZID=America/Los_Angeles:20190728T143000
DTSTAMP:20260423T021602
CREATED:20190329T161120Z
LAST-MODIFIED:20190329T161120Z
UID:10003218-1564320600-1564324200@parentingtogetherwc.org
SUMMARY:Family Storytime (all ages)
DESCRIPTION:30 – 40 minutes of age-appropriate stories\, finger plays\, and other activities.
URL:https://parentingtogetherwc.org/event/family-storytime-all-ages-13/
LOCATION:Hillsboro Brookwood Library Community Room (1st floor)\, 2850 NE Brookwood Parkway\, Hillsboro\, OR\, 97124\, United States
CATEGORIES:Family-Friendly,Kid Friendly
GEO:45.5428783;-122.9359812
X-APPLE-STRUCTURED-LOCATION;VALUE=URI;X-ADDRESS=Hillsboro Brookwood Library Community Room (1st floor) 2850 NE Brookwood Parkway Hillsboro OR 97124 United States;X-APPLE-RADIUS=500;X-TITLE=2850 NE Brookwood Parkway:geo:-122.9359812,45.5428783
END:VEVENT
BEGIN:VEVENT
DTSTART;TZID=America/Los_Angeles:20190726T100000
DTEND;TZID=America/Los_Angeles:20190726T110000
DTSTAMP:20260423T021602
CREATED:20190329T163227Z
LAST-MODIFIED:20190329T163227Z
UID:10003776-1564135200-1564138800@parentingtogetherwc.org
SUMMARY:Inclusive Storytime (ages 3-5 years)
DESCRIPTION:Limited to 15 children\, ages 3-5\, and their parents and caregivers. Kids with varying learning styles and abilities come together in a safe and supportive environment. Children who may need visual/communication supports\, a more predictable routine\, or adapted materials due to a motor impairment are welcome. Pre-register at mpebly@pdx.edu; we can send materials home ahead of time.
URL:https://parentingtogetherwc.org/event/inclusive-storytime-ages-3-5-years-3/
LOCATION:Hillsboro Brookwood Library Community Room (1st floor)\, 2850 NE Brookwood Parkway\, Hillsboro\, OR\, 97124\, United States
CATEGORIES:Family-Friendly,Kid Friendly
GEO:45.5428783;-122.9359812
X-APPLE-STRUCTURED-LOCATION;VALUE=URI;X-ADDRESS=Hillsboro Brookwood Library Community Room (1st floor) 2850 NE Brookwood Parkway Hillsboro OR 97124 United States;X-APPLE-RADIUS=500;X-TITLE=2850 NE Brookwood Parkway:geo:-122.9359812,45.5428783
END:VEVENT
BEGIN:VEVENT
DTSTART;TZID=America/Los_Angeles:20190721T133000
DTEND;TZID=America/Los_Angeles:20190721T143000
DTSTAMP:20260423T021602
CREATED:20190329T161208Z
LAST-MODIFIED:20190329T161208Z
UID:10003216-1563715800-1563719400@parentingtogetherwc.org
SUMMARY:Family Storytime (all ages)
DESCRIPTION:30 – 40 minutes of age-appropriate stories\, finger plays\, and other activities.
URL:https://parentingtogetherwc.org/event/family-storytime-all-ages-14/
LOCATION:Hillsboro Brookwood Library Community Room (1st floor)\, 2850 NE Brookwood Parkway\, Hillsboro\, OR\, 97124\, United States
CATEGORIES:Family-Friendly,Kid Friendly
GEO:45.5428783;-122.9359812
X-APPLE-STRUCTURED-LOCATION;VALUE=URI;X-ADDRESS=Hillsboro Brookwood Library Community Room (1st floor) 2850 NE Brookwood Parkway Hillsboro OR 97124 United States;X-APPLE-RADIUS=500;X-TITLE=2850 NE Brookwood Parkway:geo:-122.9359812,45.5428783
END:VEVENT
BEGIN:VEVENT
DTSTART;TZID=America/Los_Angeles:20190714T133000
DTEND;TZID=America/Los_Angeles:20190714T143000
DTSTAMP:20260423T021602
CREATED:20190329T161240Z
LAST-MODIFIED:20190329T161240Z
UID:10003214-1563111000-1563114600@parentingtogetherwc.org
SUMMARY:Family Storytime (all ages)
DESCRIPTION:30 – 40 minutes of age-appropriate stories\, finger plays\, and other activities.
URL:https://parentingtogetherwc.org/event/family-storytime-all-ages-15/
LOCATION:Hillsboro Brookwood Library Community Room (1st floor)\, 2850 NE Brookwood Parkway\, Hillsboro\, OR\, 97124\, United States
CATEGORIES:Family-Friendly,Kid Friendly
GEO:45.5428783;-122.9359812
X-APPLE-STRUCTURED-LOCATION;VALUE=URI;X-ADDRESS=Hillsboro Brookwood Library Community Room (1st floor) 2850 NE Brookwood Parkway Hillsboro OR 97124 United States;X-APPLE-RADIUS=500;X-TITLE=2850 NE Brookwood Parkway:geo:-122.9359812,45.5428783
END:VEVENT
BEGIN:VEVENT
DTSTART;TZID=America/Los_Angeles:20190712T100000
DTEND;TZID=America/Los_Angeles:20190712T110000
DTSTAMP:20260423T021602
CREATED:20190329T163254Z
LAST-MODIFIED:20190329T163254Z
UID:10003777-1562925600-1562929200@parentingtogetherwc.org
SUMMARY:Inclusive Storytime (ages 3-5 years)
DESCRIPTION:Limited to 15 children\, ages 3-5\, and their parents and caregivers. Kids with varying learning styles and abilities come together in a safe and supportive environment. Children who may need visual/communication supports\, a more predictable routine\, or adapted materials due to a motor impairment are welcome. Pre-register at mpebly@pdx.edu; we can send materials home ahead of time.
URL:https://parentingtogetherwc.org/event/inclusive-storytime-ages-3-5-years-4/
LOCATION:Hillsboro Brookwood Library Community Room (1st floor)\, 2850 NE Brookwood Parkway\, Hillsboro\, OR\, 97124\, United States
CATEGORIES:Family-Friendly,Kid Friendly
GEO:45.5428783;-122.9359812
X-APPLE-STRUCTURED-LOCATION;VALUE=URI;X-ADDRESS=Hillsboro Brookwood Library Community Room (1st floor) 2850 NE Brookwood Parkway Hillsboro OR 97124 United States;X-APPLE-RADIUS=500;X-TITLE=2850 NE Brookwood Parkway:geo:-122.9359812,45.5428783
END:VEVENT
BEGIN:VEVENT
DTSTART;TZID=America/Los_Angeles:20190707T133000
DTEND;TZID=America/Los_Angeles:20190707T143000
DTSTAMP:20260423T021602
CREATED:20190329T161330Z
LAST-MODIFIED:20190329T161330Z
UID:10003208-1562506200-1562509800@parentingtogetherwc.org
SUMMARY:Family Storytime (all ages)
DESCRIPTION:30 – 40 minutes of age-appropriate stories\, finger plays\, and other activities.
URL:https://parentingtogetherwc.org/event/family-storytime-all-ages-16/
LOCATION:Hillsboro Brookwood Library Community Room (1st floor)\, 2850 NE Brookwood Parkway\, Hillsboro\, OR\, 97124\, United States
CATEGORIES:Family-Friendly,Kid Friendly
GEO:45.5428783;-122.9359812
X-APPLE-STRUCTURED-LOCATION;VALUE=URI;X-ADDRESS=Hillsboro Brookwood Library Community Room (1st floor) 2850 NE Brookwood Parkway Hillsboro OR 97124 United States;X-APPLE-RADIUS=500;X-TITLE=2850 NE Brookwood Parkway:geo:-122.9359812,45.5428783
END:VEVENT
BEGIN:VEVENT
DTSTART;TZID=America/Los_Angeles:20190628T100000
DTEND;TZID=America/Los_Angeles:20190628T110000
DTSTAMP:20260423T021602
CREATED:20190329T163332Z
LAST-MODIFIED:20190329T163332Z
UID:10003783-1561716000-1561719600@parentingtogetherwc.org
SUMMARY:Inclusive Storytime (ages 3-5 years)
DESCRIPTION:Limited to 15 children\, ages 3-5\, and their parents and caregivers. Kids with varying learning styles and abilities come together in a safe and supportive environment. Children who may need visual/communication supports\, a more predictable routine\, or adapted materials due to a motor impairment are welcome. Pre-register at mpebly@pdx.edu; we can send materials home ahead of time.
URL:https://parentingtogetherwc.org/event/inclusive-storytime-ages-3-5-years-5/
LOCATION:Hillsboro Brookwood Library Community Room (1st floor)\, 2850 NE Brookwood Parkway\, Hillsboro\, OR\, 97124\, United States
CATEGORIES:Family-Friendly,Kid Friendly
GEO:45.5428783;-122.9359812
X-APPLE-STRUCTURED-LOCATION;VALUE=URI;X-ADDRESS=Hillsboro Brookwood Library Community Room (1st floor) 2850 NE Brookwood Parkway Hillsboro OR 97124 United States;X-APPLE-RADIUS=500;X-TITLE=2850 NE Brookwood Parkway:geo:-122.9359812,45.5428783
END:VEVENT
BEGIN:VEVENT
DTSTART;TZID=America/Los_Angeles:20190614T100000
DTEND;TZID=America/Los_Angeles:20190614T110000
DTSTAMP:20260423T021602
CREATED:20190329T163412Z
LAST-MODIFIED:20190329T163412Z
UID:10003787-1560506400-1560510000@parentingtogetherwc.org
SUMMARY:Inclusive Storytime (ages 3-5 years)
DESCRIPTION:Limited to 15 children\, ages 3-5\, and their parents and caregivers. Kids with varying learning styles and abilities come together in a safe and supportive environment. Children who may need visual/communication supports\, a more predictable routine\, or adapted materials due to a motor impairment are welcome. Pre-register at mpebly@pdx.edu; we can send materials home ahead of time.
URL:https://parentingtogetherwc.org/event/inclusive-storytime-ages-3-5-years-6/
LOCATION:Hillsboro Brookwood Library Community Room (1st floor)\, 2850 NE Brookwood Parkway\, Hillsboro\, OR\, 97124\, United States
CATEGORIES:Family-Friendly,Kid Friendly
GEO:45.5428783;-122.9359812
X-APPLE-STRUCTURED-LOCATION;VALUE=URI;X-ADDRESS=Hillsboro Brookwood Library Community Room (1st floor) 2850 NE Brookwood Parkway Hillsboro OR 97124 United States;X-APPLE-RADIUS=500;X-TITLE=2850 NE Brookwood Parkway:geo:-122.9359812,45.5428783
END:VEVENT
BEGIN:VEVENT
DTSTART;TZID=America/Los_Angeles:20170502T180000
DTEND;TZID=America/Los_Angeles:20170502T193000
DTSTAMP:20260423T021603
CREATED:20170413T231552Z
LAST-MODIFIED:20170803T202902Z
UID:10002592-1493748000-1493753400@parentingtogetherwc.org
SUMMARY:Helping Children Heal
DESCRIPTION:This workshop is open to parents and other family members/caregivers who are seeking tools to help the children in their lives heal from domestic violence. \nTopics include: \n  \n\nEffects of domestic violence on children and adolescents\nHow to talk about Domestic Violence\nHow to support children in the healing process\nParenting strategies that are effective with children who have experienced domestic violence\nFamily activities that promote healing\n\nWhen: Tuesday May 2\, 2017; 6-7:30PM \nWhere: Brookwood Library Community Room (1st Floor) \n2850 NE Brookwood Parkway\, Hillsboro\, Oregon 97124 \n  \nRegistration is encouraged but not required. To register or for more information\, please contact: \nEvanna Bradley-Tschirgi\, Child and Youth Counselor \nEmail: Evannab@dvrc-or.org \nPhone: (503) 521-7997×11
URL:https://parentingtogetherwc.org/event/helping-children-heal/
LOCATION:Hillsboro Brookwood Library Community Room (1st floor)\, 2850 NE Brookwood Parkway\, Hillsboro\, OR\, 97124\, United States
CATEGORIES:Parenting Classes
ORGANIZER;CN="Domestic Violence Resource Center/Evanna Bradley-Tschirgi":MAILTO:Evannab@dvrc-or.org
GEO:45.5428783;-122.9359812
X-APPLE-STRUCTURED-LOCATION;VALUE=URI;X-ADDRESS=Hillsboro Brookwood Library Community Room (1st floor) 2850 NE Brookwood Parkway Hillsboro OR 97124 United States;X-APPLE-RADIUS=500;X-TITLE=2850 NE Brookwood Parkway:geo:-122.9359812,45.5428783
END:VEVENT
END:VCALENDAR