
BEGIN:VCALENDAR
VERSION:2.0
PRODID:-//Parenting Together Washington County - ECPv6.15.16.1//NONSGML v1.0//EN
CALSCALE:GREGORIAN
METHOD:PUBLISH
X-WR-CALNAME:Parenting Together Washington County
X-ORIGINAL-URL:https://parentingtogetherwc.org
X-WR-CALDESC:Events for Parenting Together Washington County
REFRESH-INTERVAL;VALUE=DURATION:PT1H
X-Robots-Tag:noindex
X-PUBLISHED-TTL:PT1H
BEGIN:VTIMEZONE
TZID:America/Los_Angeles
BEGIN:DAYLIGHT
TZOFFSETFROM:-0800
TZOFFSETTO:-0700
TZNAME:PDT
DTSTART:20160313T100000
END:DAYLIGHT
BEGIN:STANDARD
TZOFFSETFROM:-0700
TZOFFSETTO:-0800
TZNAME:PST
DTSTART:20161106T090000
END:STANDARD
BEGIN:DAYLIGHT
TZOFFSETFROM:-0800
TZOFFSETTO:-0700
TZNAME:PDT
DTSTART:20170312T100000
END:DAYLIGHT
BEGIN:STANDARD
TZOFFSETFROM:-0700
TZOFFSETTO:-0800
TZNAME:PST
DTSTART:20171105T090000
END:STANDARD
BEGIN:DAYLIGHT
TZOFFSETFROM:-0800
TZOFFSETTO:-0700
TZNAME:PDT
DTSTART:20180311T100000
END:DAYLIGHT
BEGIN:STANDARD
TZOFFSETFROM:-0700
TZOFFSETTO:-0800
TZNAME:PST
DTSTART:20181104T090000
END:STANDARD
BEGIN:DAYLIGHT
TZOFFSETFROM:-0800
TZOFFSETTO:-0700
TZNAME:PDT
DTSTART:20190310T100000
END:DAYLIGHT
BEGIN:STANDARD
TZOFFSETFROM:-0700
TZOFFSETTO:-0800
TZNAME:PST
DTSTART:20191103T090000
END:STANDARD
BEGIN:DAYLIGHT
TZOFFSETFROM:-0800
TZOFFSETTO:-0700
TZNAME:PDT
DTSTART:20200308T100000
END:DAYLIGHT
BEGIN:STANDARD
TZOFFSETFROM:-0700
TZOFFSETTO:-0800
TZNAME:PST
DTSTART:20201101T090000
END:STANDARD
BEGIN:DAYLIGHT
TZOFFSETFROM:-0800
TZOFFSETTO:-0700
TZNAME:PDT
DTSTART:20210314T100000
END:DAYLIGHT
BEGIN:STANDARD
TZOFFSETFROM:-0700
TZOFFSETTO:-0800
TZNAME:PST
DTSTART:20211107T090000
END:STANDARD
BEGIN:DAYLIGHT
TZOFFSETFROM:-0800
TZOFFSETTO:-0700
TZNAME:PDT
DTSTART:20220313T100000
END:DAYLIGHT
BEGIN:STANDARD
TZOFFSETFROM:-0700
TZOFFSETTO:-0800
TZNAME:PST
DTSTART:20221106T090000
END:STANDARD
BEGIN:DAYLIGHT
TZOFFSETFROM:-0800
TZOFFSETTO:-0700
TZNAME:PDT
DTSTART:20230312T100000
END:DAYLIGHT
BEGIN:STANDARD
TZOFFSETFROM:-0700
TZOFFSETTO:-0800
TZNAME:PST
DTSTART:20231105T090000
END:STANDARD
BEGIN:DAYLIGHT
TZOFFSETFROM:-0800
TZOFFSETTO:-0700
TZNAME:PDT
DTSTART:20240310T100000
END:DAYLIGHT
BEGIN:STANDARD
TZOFFSETFROM:-0700
TZOFFSETTO:-0800
TZNAME:PST
DTSTART:20241103T090000
END:STANDARD
END:VTIMEZONE
BEGIN:VEVENT
DTSTART;TZID=America/Los_Angeles:20230418T183000
DTEND;TZID=America/Los_Angeles:20230418T193000
DTSTAMP:20260422T210139
CREATED:20230404T214057Z
LAST-MODIFIED:20230404T214057Z
UID:10004215-1681842600-1681846200@parentingtogetherwc.org
SUMMARY:The Impact of Technology on the Child/Teen Brain
DESCRIPTION:Examine the current mental health of our children/teenagers in connection with the influence of technology and gaming. Discuss simple tips that parents can implement to help offset the challenges of technology. \nPresenter: Shawn Marshall\, Children’s Program
URL:https://parentingtogetherwc.org/event/the-impact-of-technology-on-the-child-teen-brain/
LOCATION:Cedar Mill Library\, 12505 NW Cornell Rd\, Suite 13\, Portland\, 97229\, United States
CATEGORIES:Adult Workshop,Parenting and Youth Series,Parenting Workshop
GEO:45.5264418;-122.8060203
X-APPLE-STRUCTURED-LOCATION;VALUE=URI;X-ADDRESS=Cedar Mill Library 12505 NW Cornell Rd Suite 13 Portland 97229 United States;X-APPLE-RADIUS=500;X-TITLE=12505 NW Cornell Rd\, Suite 13:geo:-122.8060203,45.5264418
END:VEVENT
BEGIN:VEVENT
DTSTART;TZID=America/Los_Angeles:20180321T190000
DTEND;TZID=America/Los_Angeles:20180321T203000
DTSTAMP:20260422T210139
CREATED:20180205T175443Z
LAST-MODIFIED:20180205T175443Z
UID:10003141-1521658800-1521664200@parentingtogetherwc.org
SUMMARY:Mindfulness for Parents of Tweens & Teens
DESCRIPTION:Who doesn’t feel the impact of stress in daily life? We love and prioritize the needs of our children\, yet it’s easy for stress to limit our best intentions while parenting. Mindfulness practices offer a way to connect with our best intentions\, and approach discipline and communication from a place of love and wisdom. You’ll learn about brain science regarding teen cognition and development and stress reduction tools. Experience a sampling of science-based mindfulness practices that will help you and your tween/teen reduce daily stress.\nPresenter Denise Gour is a licensed clinical social worker with 20 years experience supporting the health and well-being of children and families in the Portland area. As a certified mindfulness educator\, her approach is proven to help parents reduce their stress and navigate challenges with more self-compassion\, clarity\, and ease.
URL:https://parentingtogetherwc.org/event/mindfulness-parents-tweens-teens/
LOCATION:Cedar Mill Library\, 12505 NW Cornell Rd\, Suite 13\, Portland\, 97229\, United States
CATEGORIES:Adult Workshop
ATTACH;FMTTYPE=image/png:https://parentingtogetherwc.org/wp-content/uploads/2018/02/Denise-Gour-pic.png
GEO:45.5264418;-122.8060203
X-APPLE-STRUCTURED-LOCATION;VALUE=URI;X-ADDRESS=Cedar Mill Library 12505 NW Cornell Rd Suite 13 Portland 97229 United States;X-APPLE-RADIUS=500;X-TITLE=12505 NW Cornell Rd\, Suite 13:geo:-122.8060203,45.5264418
END:VEVENT
BEGIN:VEVENT
DTSTART;TZID=America/Los_Angeles:20180306T183000
DTEND;TZID=America/Los_Angeles:20180306T203000
DTSTAMP:20260422T210139
CREATED:20180205T175311Z
LAST-MODIFIED:20260225T181230Z
UID:10003145-1520361000-1520368200@parentingtogetherwc.org
SUMMARY:Face Time: Parenting in an Age of Digital Attachment
DESCRIPTION:Technology is here to stay and is a part of all of our lives. Come for a far-from-anti-technology talk geared toward what your child is facing and how to help them face it with their health and wellbeing intact. Information on how technology impacts physiology\, brain function\, relationships\, and sense of self will be center stage.\nPresenter Doreen Dodgen-Magee is a psychologist and nationally recognized presenter and author in the area of technology and its impact on humans.
URL:https://parentingtogetherwc.org/event/face-time-parenting-age-digital-attachment/
LOCATION:Cedar Mill Library\, 12505 NW Cornell Rd\, Suite 13\, Portland\, 97229\, United States
CATEGORIES:Adult Workshop
ATTACH;FMTTYPE=image/png:https://parentingtogetherwc.org/wp-content/uploads/2018/02/Doreen-Dodgen-Magee.png
GEO:45.5264418;-122.8060203
X-APPLE-STRUCTURED-LOCATION;VALUE=URI;X-ADDRESS=Cedar Mill Library 12505 NW Cornell Rd Suite 13 Portland 97229 United States;X-APPLE-RADIUS=500;X-TITLE=12505 NW Cornell Rd\, Suite 13:geo:-122.8060203,45.5264418
END:VEVENT
BEGIN:VEVENT
DTSTART;TZID=America/Los_Angeles:20180206T183000
DTEND;TZID=America/Los_Angeles:20180206T203000
DTSTAMP:20260422T210139
CREATED:20180205T175032Z
LAST-MODIFIED:20180205T175032Z
UID:10002615-1517941800-1517949000@parentingtogetherwc.org
SUMMARY:Helping Your Child Learn Two Languages
DESCRIPTION:Parents of children who are dual language learners often have questions about how to support their children’s bilingual development. Come find answers to common questions and hands-on strategies to help promote your children learning and loving two or more languages! \nPresenter Dr. Dawn Hendricks co-wrote the country’s first bilingual Early Reading First project\, leading a team that established 20 model bilingual classrooms that received national recognition.
URL:https://parentingtogetherwc.org/event/helping-child-learn-two-languages/
LOCATION:Cedar Mill Library\, 12505 NW Cornell Rd\, Suite 13\, Portland\, 97229\, United States
CATEGORIES:Adult Workshop
ATTACH;FMTTYPE=image/png:https://parentingtogetherwc.org/wp-content/uploads/2018/02/Parent-Info-Series-Hands.png
GEO:45.5264418;-122.8060203
X-APPLE-STRUCTURED-LOCATION;VALUE=URI;X-ADDRESS=Cedar Mill Library 12505 NW Cornell Rd Suite 13 Portland 97229 United States;X-APPLE-RADIUS=500;X-TITLE=12505 NW Cornell Rd\, Suite 13:geo:-122.8060203,45.5264418
END:VEVENT
BEGIN:VEVENT
DTSTART;TZID=America/Los_Angeles:20170926T080000
DTEND;TZID=America/Los_Angeles:20170926T170000
DTSTAMP:20260422T210139
CREATED:20170927T203330Z
LAST-MODIFIED:20170927T203330Z
UID:10002769-1506412800-1506445200@parentingtogetherwc.org
SUMMARY:Language and Literacy Development- Babies and Toddlers
DESCRIPTION:Pre-reading skills begin early. Learn how to support and encourage your child’s development. Held in upstairs meeting rooms\, for adults only.
URL:https://parentingtogetherwc.org/event/language-literacy-development-babies-toddlers/
LOCATION:Cedar Mill Library\, 12505 NW Cornell Rd\, Suite 13\, Portland\, 97229\, United States
CATEGORIES:Adult Workshop,Parenting Classes
ATTACH;FMTTYPE=image/jpeg:https://parentingtogetherwc.org/wp-content/uploads/2017/09/baby-724895_640Pixabay.jpg
GEO:45.5264418;-122.8060203
X-APPLE-STRUCTURED-LOCATION;VALUE=URI;X-ADDRESS=Cedar Mill Library 12505 NW Cornell Rd Suite 13 Portland 97229 United States;X-APPLE-RADIUS=500;X-TITLE=12505 NW Cornell Rd\, Suite 13:geo:-122.8060203,45.5264418
END:VEVENT
END:VCALENDAR