
BEGIN:VCALENDAR
VERSION:2.0
PRODID:-//Parenting Together Washington County - ECPv6.15.16.1//NONSGML v1.0//EN
CALSCALE:GREGORIAN
METHOD:PUBLISH
X-WR-CALNAME:Parenting Together Washington County
X-ORIGINAL-URL:https://parentingtogetherwc.org
X-WR-CALDESC:Events for Parenting Together Washington County
REFRESH-INTERVAL;VALUE=DURATION:PT1H
X-Robots-Tag:noindex
X-PUBLISHED-TTL:PT1H
BEGIN:VTIMEZONE
TZID:America/Los_Angeles
BEGIN:DAYLIGHT
TZOFFSETFROM:-0800
TZOFFSETTO:-0700
TZNAME:PDT
DTSTART:20180311T100000
END:DAYLIGHT
BEGIN:STANDARD
TZOFFSETFROM:-0700
TZOFFSETTO:-0800
TZNAME:PST
DTSTART:20181104T090000
END:STANDARD
BEGIN:DAYLIGHT
TZOFFSETFROM:-0800
TZOFFSETTO:-0700
TZNAME:PDT
DTSTART:20190310T100000
END:DAYLIGHT
BEGIN:STANDARD
TZOFFSETFROM:-0700
TZOFFSETTO:-0800
TZNAME:PST
DTSTART:20191103T090000
END:STANDARD
BEGIN:DAYLIGHT
TZOFFSETFROM:-0800
TZOFFSETTO:-0700
TZNAME:PDT
DTSTART:20200308T100000
END:DAYLIGHT
BEGIN:STANDARD
TZOFFSETFROM:-0700
TZOFFSETTO:-0800
TZNAME:PST
DTSTART:20201101T090000
END:STANDARD
END:VTIMEZONE
BEGIN:VEVENT
DTSTART;TZID=America/Los_Angeles:20190228T180000
DTEND;TZID=America/Los_Angeles:20190228T200000
DTSTAMP:20260423T095017
CREATED:20190208T222042Z
LAST-MODIFIED:20190208T222042Z
UID:10003503-1551376800-1551384000@parentingtogetherwc.org
SUMMARY:The ABC's of Parenting - welcoming Somali families
DESCRIPTION:NP Somali families 2019
URL:https://parentingtogetherwc.org/event/the-abcs-of-parenting-welcoming-somali-families/
LOCATION:Child Care Center\, 4125 SW 185th Avenue\, Aloha\, OR\, 97078\, United States
CATEGORIES:Parenting Classes
ORGANIZER;CN="Youth Contact/Vicki Ball":MAILTO:vball@youthcontact.org
END:VEVENT
END:VCALENDAR