
BEGIN:VCALENDAR
VERSION:2.0
PRODID:-//Parenting Together Washington County - ECPv6.15.16.1//NONSGML v1.0//EN
CALSCALE:GREGORIAN
METHOD:PUBLISH
X-WR-CALNAME:Parenting Together Washington County
X-ORIGINAL-URL:https://parentingtogetherwc.org
X-WR-CALDESC:Events for Parenting Together Washington County
REFRESH-INTERVAL;VALUE=DURATION:PT1H
X-Robots-Tag:noindex
X-PUBLISHED-TTL:PT1H
BEGIN:VTIMEZONE
TZID:America/Los_Angeles
BEGIN:DAYLIGHT
TZOFFSETFROM:-0800
TZOFFSETTO:-0700
TZNAME:PDT
DTSTART:20230312T100000
END:DAYLIGHT
BEGIN:STANDARD
TZOFFSETFROM:-0700
TZOFFSETTO:-0800
TZNAME:PST
DTSTART:20231105T090000
END:STANDARD
BEGIN:DAYLIGHT
TZOFFSETFROM:-0800
TZOFFSETTO:-0700
TZNAME:PDT
DTSTART:20240310T100000
END:DAYLIGHT
BEGIN:STANDARD
TZOFFSETFROM:-0700
TZOFFSETTO:-0800
TZNAME:PST
DTSTART:20241103T090000
END:STANDARD
BEGIN:DAYLIGHT
TZOFFSETFROM:-0800
TZOFFSETTO:-0700
TZNAME:PDT
DTSTART:20250309T100000
END:DAYLIGHT
BEGIN:STANDARD
TZOFFSETFROM:-0700
TZOFFSETTO:-0800
TZNAME:PST
DTSTART:20251102T090000
END:STANDARD
END:VTIMEZONE
BEGIN:VEVENT
DTSTART;TZID=America/Los_Angeles:20241010T170000
DTEND;TZID=America/Los_Angeles:20241010T190000
DTSTAMP:20260423T102258
CREATED:20240909T203443Z
LAST-MODIFIED:20240909T203443Z
UID:10006342-1728579600-1728586800@parentingtogetherwc.org
SUMMARY:Fortaleciendo Familias - Serie de aprendizaje\, apoyo y conexión para padres e hijos de 10 a 14 años
DESCRIPTION:Strengthening Families_Part2
URL:https://parentingtogetherwc.org/event/fortaleciendo-familias-serie-de-aprendizaje-apoyo-y-conexion-para-padres-e-hijos-de-10-a-14-anos/
LOCATION:Clinica Esperanza\, 265 SE OAK ST C\,\, Hillsboro\, WA\, 97124\, United States
CATEGORIES:Parenting and Youth Series
ORGANIZER;CN="Adelante Gracie":MAILTO:gchavez@adelantemujeres.org
END:VEVENT
END:VCALENDAR