
BEGIN:VCALENDAR
VERSION:2.0
PRODID:-//Parenting Together Washington County - ECPv6.15.16.1//NONSGML v1.0//EN
CALSCALE:GREGORIAN
METHOD:PUBLISH
X-ORIGINAL-URL:https://parentingtogetherwc.org
X-WR-CALDESC:Events for Parenting Together Washington County
REFRESH-INTERVAL;VALUE=DURATION:PT1H
X-Robots-Tag:noindex
X-PUBLISHED-TTL:PT1H
BEGIN:VTIMEZONE
TZID:America/Los_Angeles
BEGIN:DAYLIGHT
TZOFFSETFROM:-0800
TZOFFSETTO:-0700
TZNAME:PDT
DTSTART:20170312T100000
END:DAYLIGHT
BEGIN:STANDARD
TZOFFSETFROM:-0700
TZOFFSETTO:-0800
TZNAME:PST
DTSTART:20171105T090000
END:STANDARD
BEGIN:DAYLIGHT
TZOFFSETFROM:-0800
TZOFFSETTO:-0700
TZNAME:PDT
DTSTART:20180311T100000
END:DAYLIGHT
BEGIN:STANDARD
TZOFFSETFROM:-0700
TZOFFSETTO:-0800
TZNAME:PST
DTSTART:20181104T090000
END:STANDARD
BEGIN:DAYLIGHT
TZOFFSETFROM:-0800
TZOFFSETTO:-0700
TZNAME:PDT
DTSTART:20190310T100000
END:DAYLIGHT
BEGIN:STANDARD
TZOFFSETFROM:-0700
TZOFFSETTO:-0800
TZNAME:PST
DTSTART:20191103T090000
END:STANDARD
END:VTIMEZONE
BEGIN:VEVENT
DTSTART;TZID=America/Los_Angeles:20180623T110000
DTEND;TZID=America/Los_Angeles:20180623T140000
DTSTAMP:20260423T034628
CREATED:20180601T210118Z
LAST-MODIFIED:20180601T210118Z
UID:10003199-1529751600-1529762400@parentingtogetherwc.org
SUMMARY:Community Recycling Event  Recicla\, intercambia y diviértete
DESCRIPTION:8.5x11PlanetCon 2018 June SpanishPoster 8.5x11PlanetCon 2018 June EnglishPosterCome to this fun summer’s environmental event! – ¡No te pierdas este evento ecológico para estar Con el Planeta! \n 
URL:https://parentingtogetherwc.org/event/community-recycling-event-recicla-intercambia-y-diviertete/
LOCATION:St. Alexander’s Catholic Church\, 170 N 10th Avenue\, Cornelius\, 97113
CATEGORIES:Adult Workshop,Family-Friendly,Kid Friendly
ATTACH;FMTTYPE=image/jpeg:https://parentingtogetherwc.org/wp-content/uploads/2018/06/PlanetCon-2018-June-Poster-English.jpeg
ORGANIZER;CN="Westside Master Recyclers":MAILTO:planetconWXCO@gmail.com
END:VEVENT
END:VCALENDAR