
BEGIN:VCALENDAR
VERSION:2.0
PRODID:-//Parenting Together Washington County - ECPv6.15.16.1//NONSGML v1.0//EN
CALSCALE:GREGORIAN
METHOD:PUBLISH
X-ORIGINAL-URL:https://parentingtogetherwc.org
X-WR-CALDESC:Events for Parenting Together Washington County
REFRESH-INTERVAL;VALUE=DURATION:PT1H
X-Robots-Tag:noindex
X-PUBLISHED-TTL:PT1H
BEGIN:VTIMEZONE
TZID:America/Los_Angeles
BEGIN:DAYLIGHT
TZOFFSETFROM:-0800
TZOFFSETTO:-0700
TZNAME:PDT
DTSTART:20180311T100000
END:DAYLIGHT
BEGIN:STANDARD
TZOFFSETFROM:-0700
TZOFFSETTO:-0800
TZNAME:PST
DTSTART:20181104T090000
END:STANDARD
BEGIN:DAYLIGHT
TZOFFSETFROM:-0800
TZOFFSETTO:-0700
TZNAME:PDT
DTSTART:20190310T100000
END:DAYLIGHT
BEGIN:STANDARD
TZOFFSETFROM:-0700
TZOFFSETTO:-0800
TZNAME:PST
DTSTART:20191103T090000
END:STANDARD
BEGIN:DAYLIGHT
TZOFFSETFROM:-0800
TZOFFSETTO:-0700
TZNAME:PDT
DTSTART:20200308T100000
END:DAYLIGHT
BEGIN:STANDARD
TZOFFSETFROM:-0700
TZOFFSETTO:-0800
TZNAME:PST
DTSTART:20201101T090000
END:STANDARD
END:VTIMEZONE
BEGIN:VEVENT
DTSTART;TZID=America/Los_Angeles:20190426T083000
DTEND;TZID=America/Los_Angeles:20190426T163000
DTSTAMP:20260423T034633
CREATED:20190320T001959Z
LAST-MODIFIED:20190320T001959Z
UID:10003176-1556267400-1556296200@parentingtogetherwc.org
SUMMARY:Empowered To Connect Conference
DESCRIPTION:Empowered To Connect Conf_2019_Handout 2-up flattened
URL:https://parentingtogetherwc.org/event/empowered-to-connect-conference/
LOCATION:Countryside Community Church\, 18810 SW Kruger Rd\, Sherwood\, OR\, 97140\, United States
CATEGORIES:Adult Workshop,Family Engagement Training,Parenting Workshop
ORGANIZER;CN="Countryside Community Church":MAILTO:BuddyBreak@countrysidechurch.com
END:VEVENT
BEGIN:VEVENT
DTSTART;TZID=America/Los_Angeles:20190413T100000
DTEND;TZID=America/Los_Angeles:20190413T130000
DTSTAMP:20260423T034633
CREATED:20190110T001146Z
LAST-MODIFIED:20190110T001421Z
UID:10003527-1555149600-1555160400@parentingtogetherwc.org
SUMMARY:Buddy Break Family Respite (Registration requested)
DESCRIPTION:CCC Buddy Break Sherwood TriFold 2018_19
URL:https://parentingtogetherwc.org/event/buddy-break-family-respite-registration-requested-4/
LOCATION:Countryside Community Church\, 18810 SW Kruger Rd\, Sherwood\, OR\, 97140\, United States
CATEGORIES:Family-Friendly,Kid Friendly,Teen Friendly
ORGANIZER;CN="Countryside Community Church":MAILTO:BuddyBreak@countrysidechurch.com
END:VEVENT
BEGIN:VEVENT
DTSTART;TZID=America/Los_Angeles:20190409T090000
DTEND;TZID=America/Los_Angeles:20190409T223000
DTSTAMP:20260423T034633
CREATED:20190110T002035Z
LAST-MODIFIED:20190110T002035Z
UID:10003526-1554800400-1554849000@parentingtogetherwc.org
SUMMARY:Sherwood Community Play Date
DESCRIPTION:2018 Playdate Sherwood Community
URL:https://parentingtogetherwc.org/event/sherwood-community-play-date/2019-04-09/
LOCATION:Countryside Community Church\, 18810 SW Kruger Rd\, Sherwood\, OR\, 97140\, United States
ORGANIZER;CN="Countryside Community Church":MAILTO:BuddyBreak@countrysidechurch.com
END:VEVENT
BEGIN:VEVENT
DTSTART;TZID=America/Los_Angeles:20190316T100000
DTEND;TZID=America/Los_Angeles:20190316T130000
DTSTAMP:20260423T034633
CREATED:20190110T000948Z
LAST-MODIFIED:20190110T000948Z
UID:10003528-1552730400-1552741200@parentingtogetherwc.org
SUMMARY:Buddy Break Family Respite (Registration requested)
DESCRIPTION:CCC Buddy Break Sherwood TriFold 2018_19
URL:https://parentingtogetherwc.org/event/buddy-break-family-respite-registration-requested-3/
LOCATION:Countryside Community Church\, 18810 SW Kruger Rd\, Sherwood\, OR\, 97140\, United States
CATEGORIES:Family-Friendly,Kid Friendly,Teen Friendly
ORGANIZER;CN="Countryside Community Church":MAILTO:BuddyBreak@countrysidechurch.com
END:VEVENT
BEGIN:VEVENT
DTSTART;TZID=America/Los_Angeles:20190312T090000
DTEND;TZID=America/Los_Angeles:20190312T223000
DTSTAMP:20260423T034633
CREATED:20190110T002035Z
LAST-MODIFIED:20190110T002035Z
UID:10003525-1552381200-1552429800@parentingtogetherwc.org
SUMMARY:Sherwood Community Play Date
DESCRIPTION:2018 Playdate Sherwood Community
URL:https://parentingtogetherwc.org/event/sherwood-community-play-date/2019-03-12/
LOCATION:Countryside Community Church\, 18810 SW Kruger Rd\, Sherwood\, OR\, 97140\, United States
ORGANIZER;CN="Countryside Community Church":MAILTO:BuddyBreak@countrysidechurch.com
END:VEVENT
BEGIN:VEVENT
DTSTART;TZID=America/Los_Angeles:20190216T100000
DTEND;TZID=America/Los_Angeles:20190216T130000
DTSTAMP:20260423T034633
CREATED:20190110T000812Z
LAST-MODIFIED:20190110T000812Z
UID:10003530-1550311200-1550322000@parentingtogetherwc.org
SUMMARY:Buddy Break Family Respite (Registration requested)
DESCRIPTION:CCC Buddy Break Sherwood TriFold 2018_19
URL:https://parentingtogetherwc.org/event/buddy-break-family-respite-registration-requested-2/
LOCATION:Countryside Community Church\, 18810 SW Kruger Rd\, Sherwood\, OR\, 97140\, United States
CATEGORIES:Family-Friendly,Kid Friendly,Teen Friendly
ORGANIZER;CN="Countryside Community Church":MAILTO:BuddyBreak@countrysidechurch.com
END:VEVENT
BEGIN:VEVENT
DTSTART;TZID=America/Los_Angeles:20190212T090000
DTEND;TZID=America/Los_Angeles:20190212T223000
DTSTAMP:20260423T034633
CREATED:20190110T002035Z
LAST-MODIFIED:20190110T002035Z
UID:10003524-1549962000-1550010600@parentingtogetherwc.org
SUMMARY:Sherwood Community Play Date
DESCRIPTION:2018 Playdate Sherwood Community
URL:https://parentingtogetherwc.org/event/sherwood-community-play-date/2019-02-12/
LOCATION:Countryside Community Church\, 18810 SW Kruger Rd\, Sherwood\, OR\, 97140\, United States
ORGANIZER;CN="Countryside Community Church":MAILTO:BuddyBreak@countrysidechurch.com
END:VEVENT
BEGIN:VEVENT
DTSTART;TZID=America/Los_Angeles:20190112T100000
DTEND;TZID=America/Los_Angeles:20190112T130000
DTSTAMP:20260423T034633
CREATED:20190110T000554Z
LAST-MODIFIED:20190110T005354Z
UID:10003532-1547287200-1547298000@parentingtogetherwc.org
SUMMARY:Buddy Break Family Respite (Registration requested)
DESCRIPTION:CCC Buddy Break Sherwood TriFold 2018_19
URL:https://parentingtogetherwc.org/event/buddy-break-family-respite-registration-requested/
LOCATION:Countryside Community Church\, 18810 SW Kruger Rd\, Sherwood\, OR\, 97140\, United States
CATEGORIES:Family-Friendly,Kid Friendly,Teen Friendly
ORGANIZER;CN="Countryside Community Church":MAILTO:BuddyBreak@countrysidechurch.com
END:VEVENT
END:VCALENDAR