
BEGIN:VCALENDAR
VERSION:2.0
PRODID:-//Parenting Together Washington County - ECPv6.15.16.1//NONSGML v1.0//EN
CALSCALE:GREGORIAN
METHOD:PUBLISH
X-WR-CALNAME:Parenting Together Washington County
X-ORIGINAL-URL:https://parentingtogetherwc.org
X-WR-CALDESC:Events for Parenting Together Washington County
REFRESH-INTERVAL;VALUE=DURATION:PT1H
X-Robots-Tag:noindex
X-PUBLISHED-TTL:PT1H
BEGIN:VTIMEZONE
TZID:America/Los_Angeles
BEGIN:DAYLIGHT
TZOFFSETFROM:-0800
TZOFFSETTO:-0700
TZNAME:PDT
DTSTART:20170312T100000
END:DAYLIGHT
BEGIN:STANDARD
TZOFFSETFROM:-0700
TZOFFSETTO:-0800
TZNAME:PST
DTSTART:20171105T090000
END:STANDARD
BEGIN:DAYLIGHT
TZOFFSETFROM:-0800
TZOFFSETTO:-0700
TZNAME:PDT
DTSTART:20180311T100000
END:DAYLIGHT
BEGIN:STANDARD
TZOFFSETFROM:-0700
TZOFFSETTO:-0800
TZNAME:PST
DTSTART:20181104T090000
END:STANDARD
BEGIN:DAYLIGHT
TZOFFSETFROM:-0800
TZOFFSETTO:-0700
TZNAME:PDT
DTSTART:20190310T100000
END:DAYLIGHT
BEGIN:STANDARD
TZOFFSETFROM:-0700
TZOFFSETTO:-0800
TZNAME:PST
DTSTART:20191103T090000
END:STANDARD
BEGIN:DAYLIGHT
TZOFFSETFROM:-0800
TZOFFSETTO:-0700
TZNAME:PDT
DTSTART:20200308T100000
END:DAYLIGHT
BEGIN:STANDARD
TZOFFSETFROM:-0700
TZOFFSETTO:-0800
TZNAME:PST
DTSTART:20201101T090000
END:STANDARD
END:VTIMEZONE
BEGIN:VEVENT
DTSTART;TZID=America/Los_Angeles:20190423T180000
DTEND;TZID=America/Los_Angeles:20190423T200000
DTSTAMP:20260423T003336
CREATED:20190410T221740Z
LAST-MODIFIED:20190410T221740Z
UID:10003339-1556042400-1556049600@parentingtogetherwc.org
SUMMARY:Communicating Clearly: Building Relationships and Avoiding Breakdowns
DESCRIPTION:Swindellls Resource Center invites you to a FREE presentation by Erica Steele\, MS\, CCC-SLP\, Speech Language Pathologist at Providence Children’s Development Institute\, who will explore: \n\nIdentifying key areas of miscommunication\nStrategies to communicate effectively for all ages\nWhat your child’s behavior maybe communicating\nPower of saying yes (even if you mean “no”)\n\nSe dispone de servicios de inscripción e interpretación en español llamando a 503-574-6595 antes del 15 de abril.
URL:https://parentingtogetherwc.org/event/communicating-clearly-building-relationships-and-avoiding-breakdowns/
LOCATION:Providence St. Vincent Medical Center\, 9135 SW Barnes Road\, Portland\, 97225\, United States
CATEGORIES:Parenting Workshop
ATTACH;FMTTYPE=image/png:https://parentingtogetherwc.org/wp-content/uploads/2019/04/Graphic_FinalFlyer_2019-0423_CommunicatingClearly.png
GEO:45.5107147;-122.7701502
X-APPLE-STRUCTURED-LOCATION;VALUE=URI;X-ADDRESS=Providence St. Vincent Medical Center 9135 SW Barnes Road Portland 97225 United States;X-APPLE-RADIUS=500;X-TITLE=9135 SW Barnes Road:geo:-122.7701502,45.5107147
END:VEVENT
BEGIN:VEVENT
DTSTART;TZID=America/Los_Angeles:20180709T100000
DTEND;TZID=America/Los_Angeles:20180709T120000
DTSTAMP:20260423T003336
CREATED:20180706T180800Z
LAST-MODIFIED:20180706T180918Z
UID:10003310-1531130400-1531137600@parentingtogetherwc.org
SUMMARY:Developing Young Children’s Skills: Parenting Classes for Families of Children with Challenging Behaviors
DESCRIPTION:Developing Young Children's Skills July-September 2018
URL:https://parentingtogetherwc.org/event/developing-young-childrens-skills-parenting-classes-families-children-challenging-behaviors/2018-07-09/
LOCATION:Providence St. Vincent Medical Center\, 9135 SW Barnes Road\, Portland\, 97225\, United States
CATEGORIES:Parenting Classes
GEO:45.5107147;-122.7701502
X-APPLE-STRUCTURED-LOCATION;VALUE=URI;X-ADDRESS=Providence St. Vincent Medical Center 9135 SW Barnes Road Portland 97225 United States;X-APPLE-RADIUS=500;X-TITLE=9135 SW Barnes Road:geo:-122.7701502,45.5107147
END:VEVENT
BEGIN:VEVENT
DTSTART;TZID=America/Los_Angeles:20180213T100000
DTEND;TZID=America/Los_Angeles:20180213T120000
DTSTAMP:20260423T003336
CREATED:20171213T213920Z
LAST-MODIFIED:20171213T213920Z
UID:10002485-1518516000-1518523200@parentingtogetherwc.org
SUMMARY:For Families of Children with Challenging Behaviors: Developing our Children's Skills
DESCRIPTION:Join us for this six-week parenting class for families and caregivers of children with special needs. Instructor Linda Sinclair\, is internationally certified autism specialist\, and has more than 20 years’ experience as a special educator\, family advocate and parent trainer. She is trained as a master trainer in  HOT DOCS*\, a program developed by the University Of Southern Florida’s Department of Pediatrics to help parents address difficult behaviors in children with special needs\, including autism spectrum disorders.  The program provides parenting strategies in a highly interactive group setting. \nClass topics include: \n\nearly childhood development\nroutines\, rituals and development\ndevelopment and behavior\nprevention tools for challenging behaviors\nnew parenting skills and stress reduction techniques
URL:https://parentingtogetherwc.org/event/families-children-challenging-behaviors-developing-childrens-skills/2018-02-13/
LOCATION:Providence St. Vincent Medical Center\, 9135 SW Barnes Road\, Portland\, 97225\, United States
CATEGORIES:Parenting Classes
ATTACH;FMTTYPE=image/png:https://parentingtogetherwc.org/wp-content/uploads/2017/12/HOTDOCS-JanWestside.png
ORGANIZER;CN="Swindells Resource Center":MAILTO:swindells@providence.org
GEO:45.5107147;-122.7701502
X-APPLE-STRUCTURED-LOCATION;VALUE=URI;X-ADDRESS=Providence St. Vincent Medical Center 9135 SW Barnes Road Portland 97225 United States;X-APPLE-RADIUS=500;X-TITLE=9135 SW Barnes Road:geo:-122.7701502,45.5107147
END:VEVENT
BEGIN:VEVENT
DTSTART;TZID=America/Los_Angeles:20180206T100000
DTEND;TZID=America/Los_Angeles:20180206T120000
DTSTAMP:20260423T003336
CREATED:20171213T213920Z
LAST-MODIFIED:20171213T213920Z
UID:10002484-1517911200-1517918400@parentingtogetherwc.org
SUMMARY:For Families of Children with Challenging Behaviors: Developing our Children's Skills
DESCRIPTION:Join us for this six-week parenting class for families and caregivers of children with special needs. Instructor Linda Sinclair\, is internationally certified autism specialist\, and has more than 20 years’ experience as a special educator\, family advocate and parent trainer. She is trained as a master trainer in  HOT DOCS*\, a program developed by the University Of Southern Florida’s Department of Pediatrics to help parents address difficult behaviors in children with special needs\, including autism spectrum disorders.  The program provides parenting strategies in a highly interactive group setting. \nClass topics include: \n\nearly childhood development\nroutines\, rituals and development\ndevelopment and behavior\nprevention tools for challenging behaviors\nnew parenting skills and stress reduction techniques
URL:https://parentingtogetherwc.org/event/families-children-challenging-behaviors-developing-childrens-skills/2018-02-06/
LOCATION:Providence St. Vincent Medical Center\, 9135 SW Barnes Road\, Portland\, 97225\, United States
CATEGORIES:Parenting Classes
ATTACH;FMTTYPE=image/png:https://parentingtogetherwc.org/wp-content/uploads/2017/12/HOTDOCS-JanWestside.png
ORGANIZER;CN="Swindells Resource Center":MAILTO:swindells@providence.org
GEO:45.5107147;-122.7701502
X-APPLE-STRUCTURED-LOCATION;VALUE=URI;X-ADDRESS=Providence St. Vincent Medical Center 9135 SW Barnes Road Portland 97225 United States;X-APPLE-RADIUS=500;X-TITLE=9135 SW Barnes Road:geo:-122.7701502,45.5107147
END:VEVENT
BEGIN:VEVENT
DTSTART;TZID=America/Los_Angeles:20180130T100000
DTEND;TZID=America/Los_Angeles:20180130T120000
DTSTAMP:20260423T003336
CREATED:20171213T213920Z
LAST-MODIFIED:20171213T213920Z
UID:10002483-1517306400-1517313600@parentingtogetherwc.org
SUMMARY:For Families of Children with Challenging Behaviors: Developing our Children's Skills
DESCRIPTION:Join us for this six-week parenting class for families and caregivers of children with special needs. Instructor Linda Sinclair\, is internationally certified autism specialist\, and has more than 20 years’ experience as a special educator\, family advocate and parent trainer. She is trained as a master trainer in  HOT DOCS*\, a program developed by the University Of Southern Florida’s Department of Pediatrics to help parents address difficult behaviors in children with special needs\, including autism spectrum disorders.  The program provides parenting strategies in a highly interactive group setting. \nClass topics include: \n\nearly childhood development\nroutines\, rituals and development\ndevelopment and behavior\nprevention tools for challenging behaviors\nnew parenting skills and stress reduction techniques
URL:https://parentingtogetherwc.org/event/families-children-challenging-behaviors-developing-childrens-skills/2018-01-30/
LOCATION:Providence St. Vincent Medical Center\, 9135 SW Barnes Road\, Portland\, 97225\, United States
CATEGORIES:Parenting Classes
ATTACH;FMTTYPE=image/png:https://parentingtogetherwc.org/wp-content/uploads/2017/12/HOTDOCS-JanWestside.png
ORGANIZER;CN="Swindells Resource Center":MAILTO:swindells@providence.org
GEO:45.5107147;-122.7701502
X-APPLE-STRUCTURED-LOCATION;VALUE=URI;X-ADDRESS=Providence St. Vincent Medical Center 9135 SW Barnes Road Portland 97225 United States;X-APPLE-RADIUS=500;X-TITLE=9135 SW Barnes Road:geo:-122.7701502,45.5107147
END:VEVENT
BEGIN:VEVENT
DTSTART;TZID=America/Los_Angeles:20180125T183000
DTEND;TZID=America/Los_Angeles:20180125T203000
DTSTAMP:20260423T003336
CREATED:20171205T183233Z
LAST-MODIFIED:20171205T183233Z
UID:10002947-1516905000-1516912200@parentingtogetherwc.org
SUMMARY:Developmental Disability (DD) Services: Understanding & Accessing Benefits
DESCRIPTION:Please join the Swindells Resource Center and Washington County Developmental Disabilities Program Coordinator Josh Fulgham for a free introduction to Developmental Disability Services. The presentation will cover: \n\nAn overview of the I/DD service system\nEligibility criteria\nHow to apply (including required paperwork)\nAvailable services\, including in-home “K-Plan” services\n\n  \nJosh Fulgham\, Program Coordinator for Washington County Developmental Disabilities Program\, has worked in the field of Intellectual and Developmental Disabilities for over 20 years\, including 15 years with the Washington County Developmental Disabilities Program. He has extensive knowledge and experience with case management and crisis services for children and adults\, and is currently responsible for the program’s quality assurance.
URL:https://parentingtogetherwc.org/event/developmental-disability-dd-services-understanding-accessing-benefits/
LOCATION:Providence St. Vincent Medical Center\, 9135 SW Barnes Road\, Portland\, 97225\, United States
CATEGORIES:Adult Workshop
ATTACH;FMTTYPE=image/jpeg:https://parentingtogetherwc.org/wp-content/uploads/2017/12/DD-Services-Jan-2018-Eng.jpg
GEO:45.5107147;-122.7701502
X-APPLE-STRUCTURED-LOCATION;VALUE=URI;X-ADDRESS=Providence St. Vincent Medical Center 9135 SW Barnes Road Portland 97225 United States;X-APPLE-RADIUS=500;X-TITLE=9135 SW Barnes Road:geo:-122.7701502,45.5107147
END:VEVENT
BEGIN:VEVENT
DTSTART;TZID=America/Los_Angeles:20180123T100000
DTEND;TZID=America/Los_Angeles:20180123T120000
DTSTAMP:20260423T003336
CREATED:20171213T213920Z
LAST-MODIFIED:20171213T213920Z
UID:10002482-1516701600-1516708800@parentingtogetherwc.org
SUMMARY:For Families of Children with Challenging Behaviors: Developing our Children's Skills
DESCRIPTION:Join us for this six-week parenting class for families and caregivers of children with special needs. Instructor Linda Sinclair\, is internationally certified autism specialist\, and has more than 20 years’ experience as a special educator\, family advocate and parent trainer. She is trained as a master trainer in  HOT DOCS*\, a program developed by the University Of Southern Florida’s Department of Pediatrics to help parents address difficult behaviors in children with special needs\, including autism spectrum disorders.  The program provides parenting strategies in a highly interactive group setting. \nClass topics include: \n\nearly childhood development\nroutines\, rituals and development\ndevelopment and behavior\nprevention tools for challenging behaviors\nnew parenting skills and stress reduction techniques
URL:https://parentingtogetherwc.org/event/families-children-challenging-behaviors-developing-childrens-skills/2018-01-23/
LOCATION:Providence St. Vincent Medical Center\, 9135 SW Barnes Road\, Portland\, 97225\, United States
CATEGORIES:Parenting Classes
ATTACH;FMTTYPE=image/png:https://parentingtogetherwc.org/wp-content/uploads/2017/12/HOTDOCS-JanWestside.png
ORGANIZER;CN="Swindells Resource Center":MAILTO:swindells@providence.org
GEO:45.5107147;-122.7701502
X-APPLE-STRUCTURED-LOCATION;VALUE=URI;X-ADDRESS=Providence St. Vincent Medical Center 9135 SW Barnes Road Portland 97225 United States;X-APPLE-RADIUS=500;X-TITLE=9135 SW Barnes Road:geo:-122.7701502,45.5107147
END:VEVENT
BEGIN:VEVENT
DTSTART;TZID=America/Los_Angeles:20180116T100000
DTEND;TZID=America/Los_Angeles:20180116T120000
DTSTAMP:20260423T003336
CREATED:20171213T213920Z
LAST-MODIFIED:20171213T213920Z
UID:10002481-1516096800-1516104000@parentingtogetherwc.org
SUMMARY:For Families of Children with Challenging Behaviors: Developing our Children's Skills
DESCRIPTION:Join us for this six-week parenting class for families and caregivers of children with special needs. Instructor Linda Sinclair\, is internationally certified autism specialist\, and has more than 20 years’ experience as a special educator\, family advocate and parent trainer. She is trained as a master trainer in  HOT DOCS*\, a program developed by the University Of Southern Florida’s Department of Pediatrics to help parents address difficult behaviors in children with special needs\, including autism spectrum disorders.  The program provides parenting strategies in a highly interactive group setting. \nClass topics include: \n\nearly childhood development\nroutines\, rituals and development\ndevelopment and behavior\nprevention tools for challenging behaviors\nnew parenting skills and stress reduction techniques
URL:https://parentingtogetherwc.org/event/families-children-challenging-behaviors-developing-childrens-skills/2018-01-16/
LOCATION:Providence St. Vincent Medical Center\, 9135 SW Barnes Road\, Portland\, 97225\, United States
CATEGORIES:Parenting Classes
ATTACH;FMTTYPE=image/png:https://parentingtogetherwc.org/wp-content/uploads/2017/12/HOTDOCS-JanWestside.png
ORGANIZER;CN="Swindells Resource Center":MAILTO:swindells@providence.org
GEO:45.5107147;-122.7701502
X-APPLE-STRUCTURED-LOCATION;VALUE=URI;X-ADDRESS=Providence St. Vincent Medical Center 9135 SW Barnes Road Portland 97225 United States;X-APPLE-RADIUS=500;X-TITLE=9135 SW Barnes Road:geo:-122.7701502,45.5107147
END:VEVENT
BEGIN:VEVENT
DTSTART;TZID=America/Los_Angeles:20180109T100000
DTEND;TZID=America/Los_Angeles:20180109T120000
DTSTAMP:20260423T003336
CREATED:20171213T213920Z
LAST-MODIFIED:20171213T213920Z
UID:10002480-1515492000-1515499200@parentingtogetherwc.org
SUMMARY:For Families of Children with Challenging Behaviors: Developing our Children's Skills
DESCRIPTION:Join us for this six-week parenting class for families and caregivers of children with special needs. Instructor Linda Sinclair\, is internationally certified autism specialist\, and has more than 20 years’ experience as a special educator\, family advocate and parent trainer. She is trained as a master trainer in  HOT DOCS*\, a program developed by the University Of Southern Florida’s Department of Pediatrics to help parents address difficult behaviors in children with special needs\, including autism spectrum disorders.  The program provides parenting strategies in a highly interactive group setting. \nClass topics include: \n\nearly childhood development\nroutines\, rituals and development\ndevelopment and behavior\nprevention tools for challenging behaviors\nnew parenting skills and stress reduction techniques
URL:https://parentingtogetherwc.org/event/families-children-challenging-behaviors-developing-childrens-skills/2018-01-09/
LOCATION:Providence St. Vincent Medical Center\, 9135 SW Barnes Road\, Portland\, 97225\, United States
CATEGORIES:Parenting Classes
ATTACH;FMTTYPE=image/png:https://parentingtogetherwc.org/wp-content/uploads/2017/12/HOTDOCS-JanWestside.png
ORGANIZER;CN="Swindells Resource Center":MAILTO:swindells@providence.org
GEO:45.5107147;-122.7701502
X-APPLE-STRUCTURED-LOCATION;VALUE=URI;X-ADDRESS=Providence St. Vincent Medical Center 9135 SW Barnes Road Portland 97225 United States;X-APPLE-RADIUS=500;X-TITLE=9135 SW Barnes Road:geo:-122.7701502,45.5107147
END:VEVENT
END:VCALENDAR