
BEGIN:VCALENDAR
VERSION:2.0
PRODID:-//Parenting Together Washington County - ECPv6.15.16.1//NONSGML v1.0//EN
CALSCALE:GREGORIAN
METHOD:PUBLISH
X-ORIGINAL-URL:https://parentingtogetherwc.org
X-WR-CALDESC:Events for Parenting Together Washington County
REFRESH-INTERVAL;VALUE=DURATION:PT1H
X-Robots-Tag:noindex
X-PUBLISHED-TTL:PT1H
BEGIN:VTIMEZONE
TZID:America/Los_Angeles
BEGIN:DAYLIGHT
TZOFFSETFROM:-0800
TZOFFSETTO:-0700
TZNAME:PDT
DTSTART:20170312T100000
END:DAYLIGHT
BEGIN:STANDARD
TZOFFSETFROM:-0700
TZOFFSETTO:-0800
TZNAME:PST
DTSTART:20171105T090000
END:STANDARD
BEGIN:DAYLIGHT
TZOFFSETFROM:-0800
TZOFFSETTO:-0700
TZNAME:PDT
DTSTART:20180311T100000
END:DAYLIGHT
BEGIN:STANDARD
TZOFFSETFROM:-0700
TZOFFSETTO:-0800
TZNAME:PST
DTSTART:20181104T090000
END:STANDARD
BEGIN:DAYLIGHT
TZOFFSETFROM:-0800
TZOFFSETTO:-0700
TZNAME:PDT
DTSTART:20190310T100000
END:DAYLIGHT
BEGIN:STANDARD
TZOFFSETFROM:-0700
TZOFFSETTO:-0800
TZNAME:PST
DTSTART:20191103T090000
END:STANDARD
END:VTIMEZONE
BEGIN:VEVENT
DTSTART;TZID=America/Los_Angeles:20180118T180000
DTEND;TZID=America/Los_Angeles:20180118T200000
DTSTAMP:20260423T045417
CREATED:20171221T200131Z
LAST-MODIFIED:20171221T200131Z
UID:10002497-1516298400-1516305600@parentingtogetherwc.org
SUMMARY:Disciplina y Critica Positiva
DESCRIPTION:Un taller de Crianza para padres con niños de 4 años de edad en adelante.                             \n¡Dara a sus habilidades de crianza un impulso y conectara con otros padres de su comunidad! \nA lo largo de este taller usted aprenderá: \n\nConsejos para ayudar a su niño a manejar comportamientos desafiantes.\nEstrategias positivas de disciplina para aplicar en casa.\nFormas de dar mensajes positivos por buen comportamiento y buenas opciones.\nSugerencias para satisfacer sus necesidades como padre de familia y las necesidades de su hijo.\n\n 
URL:https://parentingtogetherwc.org/event/disciplina-y-critica-positiva/
LOCATION:Metzger Elementary School\, 10350 Lincoln St\, Tigard\, 97223\, United States
CATEGORIES:Adult Workshop,Family-Friendly
ATTACH;FMTTYPE=image/jpeg:https://parentingtogetherwc.org/wp-content/uploads/2017/12/NPW-TTSD-2017-2018-JPG-SPN.jpg
ORGANIZER;CN="Youth Contact/Vicki Ball":MAILTO:vball@youthcontact.org
GEO:45.445704;-122.77081
X-APPLE-STRUCTURED-LOCATION;VALUE=URI;X-ADDRESS=Metzger Elementary School 10350 Lincoln St Tigard 97223 United States;X-APPLE-RADIUS=500;X-TITLE=10350 Lincoln St:geo:-122.77081,45.445704
END:VEVENT
END:VCALENDAR