
BEGIN:VCALENDAR
VERSION:2.0
PRODID:-//Parenting Together Washington County - ECPv6.15.16.1//NONSGML v1.0//EN
CALSCALE:GREGORIAN
METHOD:PUBLISH
X-WR-CALNAME:Parenting Together Washington County
X-ORIGINAL-URL:https://parentingtogetherwc.org
X-WR-CALDESC:Events for Parenting Together Washington County
REFRESH-INTERVAL;VALUE=DURATION:PT1H
X-Robots-Tag:noindex
X-PUBLISHED-TTL:PT1H
BEGIN:VTIMEZONE
TZID:America/Los_Angeles
BEGIN:DAYLIGHT
TZOFFSETFROM:-0800
TZOFFSETTO:-0700
TZNAME:PDT
DTSTART:20180311T100000
END:DAYLIGHT
BEGIN:STANDARD
TZOFFSETFROM:-0700
TZOFFSETTO:-0800
TZNAME:PST
DTSTART:20181104T090000
END:STANDARD
BEGIN:DAYLIGHT
TZOFFSETFROM:-0800
TZOFFSETTO:-0700
TZNAME:PDT
DTSTART:20190310T100000
END:DAYLIGHT
BEGIN:STANDARD
TZOFFSETFROM:-0700
TZOFFSETTO:-0800
TZNAME:PST
DTSTART:20191103T090000
END:STANDARD
BEGIN:DAYLIGHT
TZOFFSETFROM:-0800
TZOFFSETTO:-0700
TZNAME:PDT
DTSTART:20200308T100000
END:DAYLIGHT
BEGIN:STANDARD
TZOFFSETFROM:-0700
TZOFFSETTO:-0800
TZNAME:PST
DTSTART:20201101T090000
END:STANDARD
END:VTIMEZONE
BEGIN:VEVENT
DTSTART;TZID=America/Los_Angeles:20190424T174500
DTEND;TZID=America/Los_Angeles:20190424T201500
DTSTAMP:20260423T074103
CREATED:20190319T234725Z
LAST-MODIFIED:20190320T005646Z
UID:10003172-1556127900-1556136900@parentingtogetherwc.org
SUMMARY:Building Resilient Families
DESCRIPTION:Learn Positive Parenting Strategies! Strength Your Family! Improve Relationships! \nJoin other parents in building on your existing parenting strengths!
URL:https://parentingtogetherwc.org/event/building-resilient-families-2-2/
LOCATION:Edward Byrom Elementary\, 21800 SW 91st Avenue\, Tualatin\, OR\, 97062\, United States
CATEGORIES:Parenting Workshop
ATTACH;FMTTYPE=image/jpeg:https://parentingtogetherwc.org/wp-content/uploads/2019/03/Building-Resillient-Families-Workshops-3.jpg
END:VEVENT
BEGIN:VEVENT
DTSTART;TZID=America/Los_Angeles:20190220T183000
DTEND;TZID=America/Los_Angeles:20190220T200000
DTSTAMP:20260423T074103
CREATED:20190211T184823Z
LAST-MODIFIED:20190211T184943Z
UID:10003716-1550687400-1550692800@parentingtogetherwc.org
SUMMARY:Strong Voices Smart Choices - Parent Workshop
DESCRIPTION:
URL:https://parentingtogetherwc.org/event/strong-voices-smart-choices-parent-workshop-2/
LOCATION:Edward Byrom Elementary\, 21800 SW 91st Avenue\, Tualatin\, OR\, 97062\, United States
CATEGORIES:Parenting Workshop
END:VEVENT
END:VCALENDAR