
BEGIN:VCALENDAR
VERSION:2.0
PRODID:-//Parenting Together Washington County - ECPv6.15.16.1//NONSGML v1.0//EN
CALSCALE:GREGORIAN
METHOD:PUBLISH
X-ORIGINAL-URL:https://parentingtogetherwc.org
X-WR-CALDESC:Events for Parenting Together Washington County
REFRESH-INTERVAL;VALUE=DURATION:PT1H
X-Robots-Tag:noindex
X-PUBLISHED-TTL:PT1H
BEGIN:VTIMEZONE
TZID:America/Los_Angeles
BEGIN:DAYLIGHT
TZOFFSETFROM:-0800
TZOFFSETTO:-0700
TZNAME:PDT
DTSTART:20170312T100000
END:DAYLIGHT
BEGIN:STANDARD
TZOFFSETFROM:-0700
TZOFFSETTO:-0800
TZNAME:PST
DTSTART:20171105T090000
END:STANDARD
BEGIN:DAYLIGHT
TZOFFSETFROM:-0800
TZOFFSETTO:-0700
TZNAME:PDT
DTSTART:20180311T100000
END:DAYLIGHT
BEGIN:STANDARD
TZOFFSETFROM:-0700
TZOFFSETTO:-0800
TZNAME:PST
DTSTART:20181104T090000
END:STANDARD
BEGIN:DAYLIGHT
TZOFFSETFROM:-0800
TZOFFSETTO:-0700
TZNAME:PDT
DTSTART:20190310T100000
END:DAYLIGHT
BEGIN:STANDARD
TZOFFSETFROM:-0700
TZOFFSETTO:-0800
TZNAME:PST
DTSTART:20191103T090000
END:STANDARD
BEGIN:DAYLIGHT
TZOFFSETFROM:-0800
TZOFFSETTO:-0700
TZNAME:PDT
DTSTART:20200308T100000
END:DAYLIGHT
BEGIN:STANDARD
TZOFFSETFROM:-0700
TZOFFSETTO:-0800
TZNAME:PST
DTSTART:20201101T090000
END:STANDARD
END:VTIMEZONE
BEGIN:VEVENT
DTSTART;TZID=America/Los_Angeles:20190212T180000
DTEND;TZID=America/Los_Angeles:20190212T200000
DTSTAMP:20260423T024829
CREATED:20190125T010518Z
LAST-MODIFIED:20190125T011626Z
UID:10003518-1549994400-1550001600@parentingtogetherwc.org
SUMMARY:Los Años Increíbles
DESCRIPTION:Metzger IY Flyer SP Final
URL:https://parentingtogetherwc.org/event/los-anos-increibles-2/
LOCATION:Metzger Elementary School\, 10350 Lincoln St\, Tigard\, OR\, 97223\, United States
CATEGORIES:Parenting Classes
ORGANIZER;CN="Youth Contact/Vicki Ball":MAILTO:vball@youthcontact.org
GEO:45.445704;-122.77081
X-APPLE-STRUCTURED-LOCATION;VALUE=URI;X-ADDRESS=Metzger Elementary School 10350 Lincoln St Tigard OR 97223 United States;X-APPLE-RADIUS=500;X-TITLE=10350 Lincoln St:geo:-122.77081,45.445704
END:VEVENT
BEGIN:VEVENT
DTSTART;TZID=America/Los_Angeles:20180118T180000
DTEND;TZID=America/Los_Angeles:20180118T200000
DTSTAMP:20260423T024829
CREATED:20171220T232558Z
LAST-MODIFIED:20171220T232558Z
UID:10002495-1516298400-1516305600@parentingtogetherwc.org
SUMMARY:Free Nurturing Parenting Workshop
DESCRIPTION:Give your parenting skills a boost and connect with other parents in your community! \nThis two hour workshop is for parents with children ages 5-8. It includes dinner\, childcare (ages 2+)\, and a children’s class for the kids to engage in learning material with their peers. \nThroughout this one-time workshop\, you will learn:  \n\nTips for helping your child to manage challenging behaviors.\nPositive discipline strategies to implement at home.\nWays to praise your child for positive behaviors and choices.\nTips for meeting your needs as a parent\, and the needs of your child.\n\n 
URL:https://parentingtogetherwc.org/event/free-nurturing-parenting-workshop/
LOCATION:Metzger Elementary School\, 10350 Lincoln St\, Tigard\, OR\, 97223\, United States
ATTACH;FMTTYPE=image/jpeg:https://parentingtogetherwc.org/wp-content/uploads/2017/12/NPW-TTSD-2017-2018-JPG-ENG.jpg
ORGANIZER;CN="Youth Contact/Vicki Ball":MAILTO:vball@youthcontact.org
GEO:45.445704;-122.77081
X-APPLE-STRUCTURED-LOCATION;VALUE=URI;X-ADDRESS=Metzger Elementary School 10350 Lincoln St Tigard OR 97223 United States;X-APPLE-RADIUS=500;X-TITLE=10350 Lincoln St:geo:-122.77081,45.445704
END:VEVENT
END:VCALENDAR