
BEGIN:VCALENDAR
VERSION:2.0
PRODID:-//Parenting Together Washington County - ECPv6.15.16.1//NONSGML v1.0//EN
CALSCALE:GREGORIAN
METHOD:PUBLISH
X-ORIGINAL-URL:https://parentingtogetherwc.org
X-WR-CALDESC:Events for Parenting Together Washington County
REFRESH-INTERVAL;VALUE=DURATION:PT1H
X-Robots-Tag:noindex
X-PUBLISHED-TTL:PT1H
BEGIN:VTIMEZONE
TZID:America/Los_Angeles
BEGIN:DAYLIGHT
TZOFFSETFROM:-0800
TZOFFSETTO:-0700
TZNAME:PDT
DTSTART:20230312T100000
END:DAYLIGHT
BEGIN:STANDARD
TZOFFSETFROM:-0700
TZOFFSETTO:-0800
TZNAME:PST
DTSTART:20231105T090000
END:STANDARD
BEGIN:DAYLIGHT
TZOFFSETFROM:-0800
TZOFFSETTO:-0700
TZNAME:PDT
DTSTART:20240310T100000
END:DAYLIGHT
BEGIN:STANDARD
TZOFFSETFROM:-0700
TZOFFSETTO:-0800
TZNAME:PST
DTSTART:20241103T090000
END:STANDARD
BEGIN:DAYLIGHT
TZOFFSETFROM:-0800
TZOFFSETTO:-0700
TZNAME:PDT
DTSTART:20250309T100000
END:DAYLIGHT
BEGIN:STANDARD
TZOFFSETFROM:-0700
TZOFFSETTO:-0800
TZNAME:PST
DTSTART:20251102T090000
END:STANDARD
END:VTIMEZONE
BEGIN:VEVENT
DTSTART;TZID=America/Los_Angeles:20241012T090000
DTEND;TZID=America/Los_Angeles:20241012T130000
DTSTAMP:20260423T114202
CREATED:20240822T172928Z
LAST-MODIFIED:20240822T182429Z
UID:10005235-1728723600-1728738000@parentingtogetherwc.org
SUMMARY:Feria de Recursos para Discapacidades del Desarrollo - Bienvenido Familias - Gratis
DESCRIPTION:DD Resource Fair 2024 - Spanish DD Resource Fair 2024 - English
URL:https://parentingtogetherwc.org/event/feria-de-recursos-para-discapacidades-del-desarrollo/
LOCATION:Hidden Creek Community Center\, 5100 NE Hidden Creek Drive\, Hillsboro\, OR\, 97124
CATEGORIES:Family Resource Event,Family-Friendly,Resource Fair
ORGANIZER;CN="Washington County Developmental Disabilities":MAILTO:DevelopmentalDisabilities@washingtoncountyor.gov
END:VEVENT
BEGIN:VEVENT
DTSTART;TZID=America/Los_Angeles:20241012T090000
DTEND;TZID=America/Los_Angeles:20241012T130000
DTSTAMP:20260423T114202
CREATED:20240821T230542Z
LAST-MODIFIED:20240822T182223Z
UID:10005234-1728723600-1728738000@parentingtogetherwc.org
SUMMARY:Developmental Disabilities Fair - Free and Family Friendly
DESCRIPTION:DD Resource Fair 2024 - English DD Resource Fair 2024 - Spanish
URL:https://parentingtogetherwc.org/event/developmental-disabilities-fair-free/
LOCATION:Hidden Creek Community Center\, 5100 NE Hidden Creek Drive\, Hillsboro\, OR\, 97124
CATEGORIES:Resource Fair
ORGANIZER;CN="Washington County Developmental Disabilities":MAILTO:DevelopmentalDisabilities@washingtoncountyor.gov
END:VEVENT
END:VCALENDAR