
BEGIN:VCALENDAR
VERSION:2.0
PRODID:-//Parenting Together Washington County - ECPv6.15.16.1//NONSGML v1.0//EN
CALSCALE:GREGORIAN
METHOD:PUBLISH
X-ORIGINAL-URL:https://parentingtogetherwc.org
X-WR-CALDESC:Events for Parenting Together Washington County
REFRESH-INTERVAL;VALUE=DURATION:PT1H
X-Robots-Tag:noindex
X-PUBLISHED-TTL:PT1H
BEGIN:VTIMEZONE
TZID:America/Los_Angeles
BEGIN:DAYLIGHT
TZOFFSETFROM:-0800
TZOFFSETTO:-0700
TZNAME:PDT
DTSTART:20180311T100000
END:DAYLIGHT
BEGIN:STANDARD
TZOFFSETFROM:-0700
TZOFFSETTO:-0800
TZNAME:PST
DTSTART:20181104T090000
END:STANDARD
BEGIN:DAYLIGHT
TZOFFSETFROM:-0800
TZOFFSETTO:-0700
TZNAME:PDT
DTSTART:20190310T100000
END:DAYLIGHT
BEGIN:STANDARD
TZOFFSETFROM:-0700
TZOFFSETTO:-0800
TZNAME:PST
DTSTART:20191103T090000
END:STANDARD
BEGIN:DAYLIGHT
TZOFFSETFROM:-0800
TZOFFSETTO:-0700
TZNAME:PDT
DTSTART:20200308T100000
END:DAYLIGHT
BEGIN:STANDARD
TZOFFSETFROM:-0700
TZOFFSETTO:-0800
TZNAME:PST
DTSTART:20201101T090000
END:STANDARD
END:VTIMEZONE
BEGIN:VEVENT
DTSTART;TZID=America/Los_Angeles:20190829T100000
DTEND;TZID=America/Los_Angeles:20190829T110000
DTSTAMP:20260422T232342
CREATED:20190401T162925Z
LAST-MODIFIED:20190401T162925Z
UID:10003306-1567072800-1567076400@parentingtogetherwc.org
SUMMARY:Play and Learn (ages 0-6 years)
DESCRIPTION:Drop in\, hang out\, create\, and play! For ages 0-6 with an adult.
URL:https://parentingtogetherwc.org/event/play-and-learn-ages-0-6-years-6/
LOCATION:hillsboro shute park library\, 775 SE Tenth Avenue\, Hillsboro\, 97123
CATEGORIES:Family-Friendly,Kid Friendly
END:VEVENT
BEGIN:VEVENT
DTSTART;TZID=America/Los_Angeles:20190822T100000
DTEND;TZID=America/Los_Angeles:20190822T110000
DTSTAMP:20260422T232342
CREATED:20190401T162951Z
LAST-MODIFIED:20190401T162951Z
UID:10003304-1566468000-1566471600@parentingtogetherwc.org
SUMMARY:Play and Learn (ages 0-6 years)
DESCRIPTION:Drop in\, hang out\, create\, and play! For ages 0-6 with an adult.
URL:https://parentingtogetherwc.org/event/play-and-learn-ages-0-6-years-7/
LOCATION:hillsboro shute park library\, 775 SE Tenth Avenue\, Hillsboro\, 97123
CATEGORIES:Family-Friendly,Kid Friendly
END:VEVENT
BEGIN:VEVENT
DTSTART;TZID=America/Los_Angeles:20190609T160000
DTEND;TZID=America/Los_Angeles:20190609T170000
DTSTAMP:20260422T232342
CREATED:20190329T161903Z
LAST-MODIFIED:20190329T161903Z
UID:10003200-1560096000-1560099600@parentingtogetherwc.org
SUMMARY:Family Storytime (all ages)
DESCRIPTION:30 – 40 minutes of age-appropriate stories\, finger plays\, and other activities.
URL:https://parentingtogetherwc.org/event/family-storytime-all-ages-20/
LOCATION:hillsboro shute park library\, 775 SE Tenth Avenue\, Hillsboro\, 97123
CATEGORIES:Family-Friendly,Kid Friendly
END:VEVENT
END:VCALENDAR