
BEGIN:VCALENDAR
VERSION:2.0
PRODID:-//Parenting Together Washington County - ECPv6.15.16.1//NONSGML v1.0//EN
CALSCALE:GREGORIAN
METHOD:PUBLISH
X-ORIGINAL-URL:https://parentingtogetherwc.org
X-WR-CALDESC:Events for Parenting Together Washington County
REFRESH-INTERVAL;VALUE=DURATION:PT1H
X-Robots-Tag:noindex
X-PUBLISHED-TTL:PT1H
BEGIN:VTIMEZONE
TZID:America/Los_Angeles
BEGIN:DAYLIGHT
TZOFFSETFROM:-0800
TZOFFSETTO:-0700
TZNAME:PDT
DTSTART:20180311T100000
END:DAYLIGHT
BEGIN:STANDARD
TZOFFSETFROM:-0700
TZOFFSETTO:-0800
TZNAME:PST
DTSTART:20181104T090000
END:STANDARD
BEGIN:DAYLIGHT
TZOFFSETFROM:-0800
TZOFFSETTO:-0700
TZNAME:PDT
DTSTART:20190310T100000
END:DAYLIGHT
BEGIN:STANDARD
TZOFFSETFROM:-0700
TZOFFSETTO:-0800
TZNAME:PST
DTSTART:20191103T090000
END:STANDARD
BEGIN:DAYLIGHT
TZOFFSETFROM:-0800
TZOFFSETTO:-0700
TZNAME:PDT
DTSTART:20200308T100000
END:DAYLIGHT
BEGIN:STANDARD
TZOFFSETFROM:-0700
TZOFFSETTO:-0800
TZNAME:PST
DTSTART:20201101T090000
END:STANDARD
BEGIN:DAYLIGHT
TZOFFSETFROM:-0800
TZOFFSETTO:-0700
TZNAME:PDT
DTSTART:20210314T100000
END:DAYLIGHT
BEGIN:STANDARD
TZOFFSETFROM:-0700
TZOFFSETTO:-0800
TZNAME:PST
DTSTART:20211107T090000
END:STANDARD
BEGIN:DAYLIGHT
TZOFFSETFROM:-0800
TZOFFSETTO:-0700
TZNAME:PDT
DTSTART:20220313T100000
END:DAYLIGHT
BEGIN:STANDARD
TZOFFSETFROM:-0700
TZOFFSETTO:-0800
TZNAME:PST
DTSTART:20221106T090000
END:STANDARD
BEGIN:DAYLIGHT
TZOFFSETFROM:-0800
TZOFFSETTO:-0700
TZNAME:PDT
DTSTART:20230312T100000
END:DAYLIGHT
BEGIN:STANDARD
TZOFFSETFROM:-0700
TZOFFSETTO:-0800
TZNAME:PST
DTSTART:20231105T090000
END:STANDARD
BEGIN:DAYLIGHT
TZOFFSETFROM:-0800
TZOFFSETTO:-0700
TZNAME:PDT
DTSTART:20240310T100000
END:DAYLIGHT
BEGIN:STANDARD
TZOFFSETFROM:-0700
TZOFFSETTO:-0800
TZNAME:PST
DTSTART:20241103T090000
END:STANDARD
END:VTIMEZONE
BEGIN:VEVENT
DTSTART;TZID=America/Los_Angeles:20230304T143000
DTEND;TZID=America/Los_Angeles:20230304T163000
DTSTAMP:20260422T214534
CREATED:20230223T193353Z
LAST-MODIFIED:20230223T193353Z
UID:10004819-1677940200-1677947400@parentingtogetherwc.org
SUMMARY:Juega y Aprende para papás y sus hijos de 2 a 6 años
DESCRIPTION:Juego y Aprende para Papas Final
URL:https://parentingtogetherwc.org/event/juega-y-aprende-para-papas-y-sus-hijos-de-2-a-6-anos/
LOCATION:hillsboro shute park library\, 775 SE Tenth Avenue\, Hillsboro\, 97123
CATEGORIES:Family-Friendly,Father and father figure Connection and Learning,Kid Friendly
END:VEVENT
BEGIN:VEVENT
DTSTART;TZID=America/Los_Angeles:20230227T180000
DTEND;TZID=America/Los_Angeles:20230227T190000
DTSTAMP:20260422T214534
CREATED:20230223T192521Z
LAST-MODIFIED:20230223T192521Z
UID:10004757-1677520800-1677524400@parentingtogetherwc.org
SUMMARY:Comunidad de papás dedicados
DESCRIPTION:Communidad de Papas Dedicados Final
URL:https://parentingtogetherwc.org/event/comunidad-de-papas-dedicados/
LOCATION:hillsboro shute park library\, 775 SE Tenth Avenue\, Hillsboro\, 97123
CATEGORIES:Father and father figure Connection and Learning
END:VEVENT
BEGIN:VEVENT
DTSTART;TZID=America/Los_Angeles:20190831T133000
DTEND;TZID=America/Los_Angeles:20190831T143000
DTSTAMP:20260422T214534
CREATED:20190401T155215Z
LAST-MODIFIED:20190401T155215Z
UID:10003314-1567258200-1567261800@parentingtogetherwc.org
SUMMARY:Play and Learn (ages 0-6 years)
DESCRIPTION:Drop in\, hang out\, create\, and play! For ages 0-6 with an adult.
URL:https://parentingtogetherwc.org/event/play-and-learn-ages-0-6-years/
LOCATION:hillsboro shute park library\, 775 SE Tenth Avenue\, Hillsboro\, 97123
CATEGORIES:Family-Friendly,Kid Friendly
END:VEVENT
BEGIN:VEVENT
DTSTART;TZID=America/Los_Angeles:20190824T133000
DTEND;TZID=America/Los_Angeles:20190824T143000
DTSTAMP:20260422T214534
CREATED:20190401T155259Z
LAST-MODIFIED:20190401T155259Z
UID:10003313-1566653400-1566657000@parentingtogetherwc.org
SUMMARY:Play and Learn (ages 0-6 years)
DESCRIPTION:Drop in\, hang out\, create\, and play! For ages 0-6 with an adult.
URL:https://parentingtogetherwc.org/event/play-and-learn-ages-0-6-years-2/
LOCATION:hillsboro shute park library\, 775 SE Tenth Avenue\, Hillsboro\, 97123
CATEGORIES:Family-Friendly,Kid Friendly
END:VEVENT
BEGIN:VEVENT
DTSTART;TZID=America/Los_Angeles:20190817T133000
DTEND;TZID=America/Los_Angeles:20190817T143000
DTSTAMP:20260422T214534
CREATED:20190401T162046Z
LAST-MODIFIED:20190401T162046Z
UID:10003312-1566048600-1566052200@parentingtogetherwc.org
SUMMARY:Play and Learn (ages 0-6 years)
DESCRIPTION:Drop in\, hang out\, create\, and play! For ages 0-6 with an adult.
URL:https://parentingtogetherwc.org/event/play-and-learn-ages-0-6-years-3/
LOCATION:hillsboro shute park library\, 775 SE Tenth Avenue\, Hillsboro\, 97123
CATEGORIES:Family-Friendly,Kid Friendly
END:VEVENT
BEGIN:VEVENT
DTSTART;TZID=America/Los_Angeles:20190815T100000
DTEND;TZID=America/Los_Angeles:20190815T110000
DTSTAMP:20260422T214534
CREATED:20190401T163012Z
LAST-MODIFIED:20190401T163012Z
UID:10003969-1565863200-1565866800@parentingtogetherwc.org
SUMMARY:Play and Learn (ages 0-6 years)
DESCRIPTION:Drop in\, hang out\, create\, and play! For ages 0-6 with an adult.
URL:https://parentingtogetherwc.org/event/play-and-learn-ages-0-6-years-8/
LOCATION:hillsboro shute park library\, 775 SE Tenth Avenue\, Hillsboro\, 97123
CATEGORIES:Family-Friendly,Kid Friendly
END:VEVENT
BEGIN:VEVENT
DTSTART;TZID=America/Los_Angeles:20190810T133000
DTEND;TZID=America/Los_Angeles:20190810T143000
DTSTAMP:20260422T214534
CREATED:20190401T162811Z
LAST-MODIFIED:20190401T162811Z
UID:10003311-1565443800-1565447400@parentingtogetherwc.org
SUMMARY:Play and Learn (ages 0-6 years)
DESCRIPTION:Drop in\, hang out\, create\, and play! For ages 0-6 with an adult.
URL:https://parentingtogetherwc.org/event/play-and-learn-ages-0-6-years-4/
LOCATION:hillsboro shute park library\, 775 SE Tenth Avenue\, Hillsboro\, 97123
CATEGORIES:Family-Friendly,Kid Friendly
END:VEVENT
BEGIN:VEVENT
DTSTART;TZID=America/Los_Angeles:20190808T100000
DTEND;TZID=America/Los_Angeles:20190808T110000
DTSTAMP:20260422T214534
CREATED:20190401T163950Z
LAST-MODIFIED:20190401T163950Z
UID:10003971-1565258400-1565262000@parentingtogetherwc.org
SUMMARY:Play and Learn (ages 0-6 years)
DESCRIPTION:Drop in\, hang out\, create\, and play! For ages 0-6 with an adult.
URL:https://parentingtogetherwc.org/event/play-and-learn-ages-0-6-years-9/
LOCATION:hillsboro shute park library\, 775 SE Tenth Avenue\, Hillsboro\, 97123
CATEGORIES:Family-Friendly,Kid Friendly
END:VEVENT
BEGIN:VEVENT
DTSTART;TZID=America/Los_Angeles:20190803T133000
DTEND;TZID=America/Los_Angeles:20190803T143000
DTSTAMP:20260422T214534
CREATED:20190401T162851Z
LAST-MODIFIED:20190401T162851Z
UID:10003309-1564839000-1564842600@parentingtogetherwc.org
SUMMARY:Play and Learn (ages 0-6 years)
DESCRIPTION:Drop in\, hang out\, create\, and play! For ages 0-6 with an adult.
URL:https://parentingtogetherwc.org/event/play-and-learn-ages-0-6-years-5/
LOCATION:hillsboro shute park library\, 775 SE Tenth Avenue\, Hillsboro\, 97123
CATEGORIES:Family-Friendly,Kid Friendly
END:VEVENT
BEGIN:VEVENT
DTSTART;TZID=America/Los_Angeles:20190801T100000
DTEND;TZID=America/Los_Angeles:20190801T110000
DTSTAMP:20260422T214534
CREATED:20190401T164011Z
LAST-MODIFIED:20190401T164011Z
UID:10003972-1564653600-1564657200@parentingtogetherwc.org
SUMMARY:Play and Learn (ages 0-6 years)
DESCRIPTION:Drop in\, hang out\, create\, and play! For ages 0-6 with an adult.
URL:https://parentingtogetherwc.org/event/play-and-learn-ages-0-6-years-10/
LOCATION:hillsboro shute park library\, 775 SE Tenth Avenue\, Hillsboro\, 97123
CATEGORIES:Family-Friendly,Kid Friendly
END:VEVENT
BEGIN:VEVENT
DTSTART;TZID=America/Los_Angeles:20190727T133000
DTEND;TZID=America/Los_Angeles:20190727T143000
DTSTAMP:20260422T214534
CREATED:20190401T164238Z
LAST-MODIFIED:20190401T164238Z
UID:10004039-1564234200-1564237800@parentingtogetherwc.org
SUMMARY:Play and Learn (ages 0-6 years)
DESCRIPTION:Drop in\, hang out\, create\, and play! For ages 0-6 with an adult.
URL:https://parentingtogetherwc.org/event/play-and-learn-ages-0-6-years-16/
LOCATION:hillsboro shute park library\, 775 SE Tenth Avenue\, Hillsboro\, 97123
CATEGORIES:Family-Friendly,Kid Friendly
END:VEVENT
BEGIN:VEVENT
DTSTART;TZID=America/Los_Angeles:20190725T100000
DTEND;TZID=America/Los_Angeles:20190725T110000
DTSTAMP:20260422T214534
CREATED:20190401T164411Z
LAST-MODIFIED:20190401T164411Z
UID:10004044-1564048800-1564052400@parentingtogetherwc.org
SUMMARY:Play and Learn (ages 0-6 years)
DESCRIPTION:Drop in\, hang out\, create\, and play! For ages 0-6 with an adult.
URL:https://parentingtogetherwc.org/event/play-and-learn-ages-0-6-years-20/
LOCATION:hillsboro shute park library\, 775 SE Tenth Avenue\, Hillsboro\, 97123
CATEGORIES:Family-Friendly,Kid Friendly
END:VEVENT
BEGIN:VEVENT
DTSTART;TZID=America/Los_Angeles:20190720T133000
DTEND;TZID=America/Los_Angeles:20190720T143000
DTSTAMP:20260422T214534
CREATED:20190401T164307Z
LAST-MODIFIED:20190401T164307Z
UID:10004041-1563629400-1563633000@parentingtogetherwc.org
SUMMARY:Play and Learn (ages 0-6 years)
DESCRIPTION:Drop in\, hang out\, create\, and play! For ages 0-6 with an adult.
URL:https://parentingtogetherwc.org/event/play-and-learn-ages-0-6-years-17/
LOCATION:hillsboro shute park library\, 775 SE Tenth Avenue\, Hillsboro\, 97123
CATEGORIES:Family-Friendly,Kid Friendly
END:VEVENT
BEGIN:VEVENT
DTSTART;TZID=America/Los_Angeles:20190718T100000
DTEND;TZID=America/Los_Angeles:20190718T110000
DTSTAMP:20260422T214534
CREATED:20190401T164431Z
LAST-MODIFIED:20190401T164431Z
UID:10004045-1563444000-1563447600@parentingtogetherwc.org
SUMMARY:Play and Learn (ages 0-6 years)
DESCRIPTION:Drop in\, hang out\, create\, and play! For ages 0-6 with an adult.
URL:https://parentingtogetherwc.org/event/play-and-learn-ages-0-6-years-21/
LOCATION:hillsboro shute park library\, 775 SE Tenth Avenue\, Hillsboro\, 97123
CATEGORIES:Family-Friendly,Kid Friendly
END:VEVENT
BEGIN:VEVENT
DTSTART;TZID=America/Los_Angeles:20190713T133000
DTEND;TZID=America/Los_Angeles:20190713T143000
DTSTAMP:20260422T214534
CREATED:20190401T164329Z
LAST-MODIFIED:20190401T164329Z
UID:10004042-1563024600-1563028200@parentingtogetherwc.org
SUMMARY:Play and Learn (ages 0-6 years)
DESCRIPTION:Drop in\, hang out\, create\, and play! For ages 0-6 with an adult.
URL:https://parentingtogetherwc.org/event/play-and-learn-ages-0-6-years-18/
LOCATION:hillsboro shute park library\, 775 SE Tenth Avenue\, Hillsboro\, 97123
CATEGORIES:Family-Friendly,Kid Friendly
END:VEVENT
BEGIN:VEVENT
DTSTART;TZID=America/Los_Angeles:20190711T100000
DTEND;TZID=America/Los_Angeles:20190711T110000
DTSTAMP:20260422T214534
CREATED:20190401T164501Z
LAST-MODIFIED:20190401T164501Z
UID:10004046-1562839200-1562842800@parentingtogetherwc.org
SUMMARY:Play and Learn (ages 0-6 years)
DESCRIPTION:Drop in\, hang out\, create\, and play! For ages 0-6 with an adult.
URL:https://parentingtogetherwc.org/event/play-and-learn-ages-0-6-years-22/
LOCATION:hillsboro shute park library\, 775 SE Tenth Avenue\, Hillsboro\, 97123
CATEGORIES:Family-Friendly,Kid Friendly
END:VEVENT
BEGIN:VEVENT
DTSTART;TZID=America/Los_Angeles:20190706T133000
DTEND;TZID=America/Los_Angeles:20190706T143000
DTSTAMP:20260422T214534
CREATED:20190401T164351Z
LAST-MODIFIED:20190401T164351Z
UID:10004043-1562419800-1562423400@parentingtogetherwc.org
SUMMARY:Play and Learn (ages 0-6 years)
DESCRIPTION:Drop in\, hang out\, create\, and play! For ages 0-6 with an adult.
URL:https://parentingtogetherwc.org/event/play-and-learn-ages-0-6-years-19/
LOCATION:hillsboro shute park library\, 775 SE Tenth Avenue\, Hillsboro\, 97123
CATEGORIES:Family-Friendly,Kid Friendly
END:VEVENT
BEGIN:VEVENT
DTSTART;TZID=America/Los_Angeles:20190704T100000
DTEND;TZID=America/Los_Angeles:20190704T110000
DTSTAMP:20260422T214534
CREATED:20190401T164532Z
LAST-MODIFIED:20190401T164605Z
UID:10004028-1562234400-1562238000@parentingtogetherwc.org
SUMMARY:Play and Learn (ages 0-6 years)
DESCRIPTION:Drop in\, hang out\, create\, and play! For ages 0-6 with an adult.\n 
URL:https://parentingtogetherwc.org/event/play-and-learn-ages-0-6-years-23/
LOCATION:hillsboro shute park library\, 775 SE Tenth Avenue\, Hillsboro\, 97123
CATEGORIES:Family-Friendly,Kid Friendly
END:VEVENT
BEGIN:VEVENT
DTSTART;TZID=America/Los_Angeles:20190629T133000
DTEND;TZID=America/Los_Angeles:20190629T143000
DTSTAMP:20260422T214534
CREATED:20190401T164745Z
LAST-MODIFIED:20190401T164745Z
UID:10003904-1561815000-1561818600@parentingtogetherwc.org
SUMMARY:Play and Learn (ages 0-6 years)
DESCRIPTION:Drop in\, hang out\, create\, and play! For ages 0-6 with an adult.
URL:https://parentingtogetherwc.org/event/play-and-learn-ages-0-6-years-28/
LOCATION:hillsboro shute park library\, 775 SE Tenth Avenue\, Hillsboro\, 97123
CATEGORIES:Family-Friendly,Kid Friendly
END:VEVENT
BEGIN:VEVENT
DTSTART;TZID=America/Los_Angeles:20190627T100000
DTEND;TZID=America/Los_Angeles:20190627T113000
DTSTAMP:20260422T214534
CREATED:20190401T164937Z
LAST-MODIFIED:20190401T164937Z
UID:10003913-1561629600-1561635000@parentingtogetherwc.org
SUMMARY:Play and Learn (ages 0-6 years)
DESCRIPTION:Drop in\, hang out\, create\, and play! For ages 0-6 with an adult.
URL:https://parentingtogetherwc.org/event/play-and-learn-ages-0-6-years-33/
LOCATION:hillsboro shute park library\, 775 SE Tenth Avenue\, Hillsboro\, 97123
CATEGORIES:Family-Friendly,Kid Friendly
END:VEVENT
BEGIN:VEVENT
DTSTART;TZID=America/Los_Angeles:20190622T133000
DTEND;TZID=America/Los_Angeles:20190622T143000
DTSTAMP:20260422T214534
CREATED:20190401T164809Z
LAST-MODIFIED:20190401T164809Z
UID:10003907-1561210200-1561213800@parentingtogetherwc.org
SUMMARY:Play and Learn (ages 0-6 years)
DESCRIPTION:Drop in\, hang out\, create\, and play! For ages 0-6 with an adult.
URL:https://parentingtogetherwc.org/event/play-and-learn-ages-0-6-years-29/
LOCATION:hillsboro shute park library\, 775 SE Tenth Avenue\, Hillsboro\, 97123
CATEGORIES:Family-Friendly,Kid Friendly
END:VEVENT
BEGIN:VEVENT
DTSTART;TZID=America/Los_Angeles:20190620T100000
DTEND;TZID=America/Los_Angeles:20190620T113000
DTSTAMP:20260422T214534
CREATED:20190401T165000Z
LAST-MODIFIED:20190401T165000Z
UID:10003914-1561024800-1561030200@parentingtogetherwc.org
SUMMARY:Play and Learn (ages 0-6 years)
DESCRIPTION:Drop in\, hang out\, create\, and play! For ages 0-6 with an adult.
URL:https://parentingtogetherwc.org/event/play-and-learn-ages-0-6-years-34/
LOCATION:hillsboro shute park library\, 775 SE Tenth Avenue\, Hillsboro\, 97123
CATEGORIES:Family-Friendly,Kid Friendly
END:VEVENT
BEGIN:VEVENT
DTSTART;TZID=America/Los_Angeles:20190615T133000
DTEND;TZID=America/Los_Angeles:20190615T143000
DTSTAMP:20260422T214534
CREATED:20190401T164829Z
LAST-MODIFIED:20190401T164829Z
UID:10003909-1560605400-1560609000@parentingtogetherwc.org
SUMMARY:Play and Learn (ages 0-6 years)
DESCRIPTION:Drop in\, hang out\, create\, and play! For ages 0-6 with an adult.
URL:https://parentingtogetherwc.org/event/play-and-learn-ages-0-6-years-30/
LOCATION:hillsboro shute park library\, 775 SE Tenth Avenue\, Hillsboro\, 97123
CATEGORIES:Family-Friendly,Kid Friendly
END:VEVENT
BEGIN:VEVENT
DTSTART;TZID=America/Los_Angeles:20190613T100000
DTEND;TZID=America/Los_Angeles:20190613T113000
DTSTAMP:20260422T214534
CREATED:20190401T165028Z
LAST-MODIFIED:20190401T165028Z
UID:10003915-1560420000-1560425400@parentingtogetherwc.org
SUMMARY:Play and Learn (ages 0-6 years)
DESCRIPTION:Drop in\, hang out\, create\, and play! For ages 0-6 with an adult.
URL:https://parentingtogetherwc.org/event/play-and-learn-ages-0-6-years-35/
LOCATION:hillsboro shute park library\, 775 SE Tenth Avenue\, Hillsboro\, 97123
CATEGORIES:Family-Friendly,Kid Friendly
END:VEVENT
BEGIN:VEVENT
DTSTART;TZID=America/Los_Angeles:20190608T133000
DTEND;TZID=America/Los_Angeles:20190608T143000
DTSTAMP:20260422T214534
CREATED:20190401T164850Z
LAST-MODIFIED:20190401T164850Z
UID:10003911-1560000600-1560004200@parentingtogetherwc.org
SUMMARY:Play and Learn (ages 0-6 years)
DESCRIPTION:Drop in\, hang out\, create\, and play! For ages 0-6 with an adult.
URL:https://parentingtogetherwc.org/event/play-and-learn-ages-0-6-years-31/
LOCATION:hillsboro shute park library\, 775 SE Tenth Avenue\, Hillsboro\, 97123
CATEGORIES:Family-Friendly,Kid Friendly
END:VEVENT
BEGIN:VEVENT
DTSTART;TZID=America/Los_Angeles:20190606T100000
DTEND;TZID=America/Los_Angeles:20190606T113000
DTSTAMP:20260422T214534
CREATED:20190401T165057Z
LAST-MODIFIED:20190401T165057Z
UID:10003916-1559815200-1559820600@parentingtogetherwc.org
SUMMARY:Play and Learn (ages 0-6 years)
DESCRIPTION:Drop in\, hang out\, create\, and play! For ages 0-6 with an adult.
URL:https://parentingtogetherwc.org/event/play-and-learn-ages-0-6-years-36/
LOCATION:hillsboro shute park library\, 775 SE Tenth Avenue\, Hillsboro\, 97123
CATEGORIES:Family-Friendly,Kid Friendly
END:VEVENT
BEGIN:VEVENT
DTSTART;TZID=America/Los_Angeles:20190602T160000
DTEND;TZID=America/Los_Angeles:20190602T170000
DTSTAMP:20260422T214534
CREATED:20190329T162755Z
LAST-MODIFIED:20190329T162755Z
UID:10003198-1559491200-1559494800@parentingtogetherwc.org
SUMMARY:Family Storytime (all ages)
DESCRIPTION:30 – 40 minutes of age-appropriate stories\, finger plays\, and other activities.
URL:https://parentingtogetherwc.org/event/family-storytime-all-ages-21/
LOCATION:hillsboro shute park library\, 775 SE Tenth Avenue\, Hillsboro\, 97123
CATEGORIES:Family-Friendly,Kid Friendly
END:VEVENT
BEGIN:VEVENT
DTSTART;TZID=America/Los_Angeles:20190601T133000
DTEND;TZID=America/Los_Angeles:20190601T143000
DTSTAMP:20260422T214534
CREATED:20190401T164912Z
LAST-MODIFIED:20190401T164912Z
UID:10003912-1559395800-1559399400@parentingtogetherwc.org
SUMMARY:Play and Learn (ages 0-6 years)
DESCRIPTION:Drop in\, hang out\, create\, and play! For ages 0-6 with an adult.
URL:https://parentingtogetherwc.org/event/play-and-learn-ages-0-6-years-32/
LOCATION:hillsboro shute park library\, 775 SE Tenth Avenue\, Hillsboro\, 97123
CATEGORIES:Family-Friendly,Kid Friendly
END:VEVENT
END:VCALENDAR