
BEGIN:VCALENDAR
VERSION:2.0
PRODID:-//Parenting Together Washington County - ECPv6.15.16.1//NONSGML v1.0//EN
CALSCALE:GREGORIAN
METHOD:PUBLISH
X-WR-CALNAME:Parenting Together Washington County
X-ORIGINAL-URL:https://parentingtogetherwc.org
X-WR-CALDESC:Events for Parenting Together Washington County
REFRESH-INTERVAL;VALUE=DURATION:PT1H
X-Robots-Tag:noindex
X-PUBLISHED-TTL:PT1H
BEGIN:VTIMEZONE
TZID:America/Los_Angeles
BEGIN:DAYLIGHT
TZOFFSETFROM:-0800
TZOFFSETTO:-0700
TZNAME:PDT
DTSTART:20180311T100000
END:DAYLIGHT
BEGIN:STANDARD
TZOFFSETFROM:-0700
TZOFFSETTO:-0800
TZNAME:PST
DTSTART:20181104T090000
END:STANDARD
BEGIN:DAYLIGHT
TZOFFSETFROM:-0800
TZOFFSETTO:-0700
TZNAME:PDT
DTSTART:20190310T100000
END:DAYLIGHT
BEGIN:STANDARD
TZOFFSETFROM:-0700
TZOFFSETTO:-0800
TZNAME:PST
DTSTART:20191103T090000
END:STANDARD
BEGIN:DAYLIGHT
TZOFFSETFROM:-0800
TZOFFSETTO:-0700
TZNAME:PDT
DTSTART:20200308T100000
END:DAYLIGHT
BEGIN:STANDARD
TZOFFSETFROM:-0700
TZOFFSETTO:-0800
TZNAME:PST
DTSTART:20201101T090000
END:STANDARD
END:VTIMEZONE
BEGIN:VEVENT
DTSTART;TZID=America/Los_Angeles:20191112T180000
DTEND;TZID=America/Los_Angeles:20191112T204500
DTSTAMP:20260423T120418
CREATED:20191108T223541Z
LAST-MODIFIED:20191108T223541Z
UID:10004292-1573581600-1573591500@parentingtogetherwc.org
SUMMARY:Building Resilient Families Workshop
DESCRIPTION:Resiliency Training Flyer Fall 2019
URL:https://parentingtogetherwc.org/event/building-resilient-families-workshop/
LOCATION:Juanita Pohl Center – East Dining Room\, 8513 SW Tualatin Road\, Tualatin\, OR\, United States
CATEGORIES:Parenting Workshop
END:VEVENT
END:VCALENDAR