
BEGIN:VCALENDAR
VERSION:2.0
PRODID:-//Parenting Together Washington County - ECPv6.15.16.1//NONSGML v1.0//EN
CALSCALE:GREGORIAN
METHOD:PUBLISH
X-WR-CALNAME:Parenting Together Washington County
X-ORIGINAL-URL:https://parentingtogetherwc.org
X-WR-CALDESC:Events for Parenting Together Washington County
REFRESH-INTERVAL;VALUE=DURATION:PT1H
X-Robots-Tag:noindex
X-PUBLISHED-TTL:PT1H
BEGIN:VTIMEZONE
TZID:America/Los_Angeles
BEGIN:DAYLIGHT
TZOFFSETFROM:-0800
TZOFFSETTO:-0700
TZNAME:PDT
DTSTART:20160313T100000
END:DAYLIGHT
BEGIN:STANDARD
TZOFFSETFROM:-0700
TZOFFSETTO:-0800
TZNAME:PST
DTSTART:20161106T090000
END:STANDARD
BEGIN:DAYLIGHT
TZOFFSETFROM:-0800
TZOFFSETTO:-0700
TZNAME:PDT
DTSTART:20170312T100000
END:DAYLIGHT
BEGIN:STANDARD
TZOFFSETFROM:-0700
TZOFFSETTO:-0800
TZNAME:PST
DTSTART:20171105T090000
END:STANDARD
BEGIN:DAYLIGHT
TZOFFSETFROM:-0800
TZOFFSETTO:-0700
TZNAME:PDT
DTSTART:20180311T100000
END:DAYLIGHT
BEGIN:STANDARD
TZOFFSETFROM:-0700
TZOFFSETTO:-0800
TZNAME:PST
DTSTART:20181104T090000
END:STANDARD
END:VTIMEZONE
BEGIN:VEVENT
DTSTART;TZID=America/Los_Angeles:20171020T093000
DTEND;TZID=America/Los_Angeles:20171020T153000
DTSTAMP:20260422T231311
CREATED:20170926T172702Z
LAST-MODIFIED:20170926T172735Z
UID:10002770-1508491800-1508513400@parentingtogetherwc.org
SUMMARY:Early Learning Hub Conference - Linn\, Benton\, Lincoln
DESCRIPTION:Learn about current research\, community resources\, and innovative activities that support children’s social and emotional development. \nPriority registration for Linn\, Benton & Lincoln residents/agencies  \nOpen registration October 1st \nregister at www.lblearlylearninghub.org/whats-new \n  \n 
URL:https://parentingtogetherwc.org/event/early-learning-hub-conference-linn-benton-lincoln/
LOCATION:Linn Benton Community College\, 6500 Pacific Blvd. SW\, Albany\, United States
CATEGORIES:Family Engagement Training
ATTACH;FMTTYPE=image/jpeg:https://parentingtogetherwc.org/wp-content/uploads/2017/09/Lane_Benton_Lincoln_HUb_conf.jpg
GEO:44.5884944;-123.1157673
X-APPLE-STRUCTURED-LOCATION;VALUE=URI;X-ADDRESS=Linn Benton Community College 6500 Pacific Blvd. SW Albany United States;X-APPLE-RADIUS=500;X-TITLE=6500 Pacific Blvd. SW:geo:-123.1157673,44.5884944
END:VEVENT
END:VCALENDAR