
BEGIN:VCALENDAR
VERSION:2.0
PRODID:-//Parenting Together Washington County - ECPv6.15.16.1//NONSGML v1.0//EN
CALSCALE:GREGORIAN
METHOD:PUBLISH
X-WR-CALNAME:Parenting Together Washington County
X-ORIGINAL-URL:https://parentingtogetherwc.org
X-WR-CALDESC:Events for Parenting Together Washington County
REFRESH-INTERVAL;VALUE=DURATION:PT1H
X-Robots-Tag:noindex
X-PUBLISHED-TTL:PT1H
BEGIN:VTIMEZONE
TZID:America/Los_Angeles
BEGIN:DAYLIGHT
TZOFFSETFROM:-0800
TZOFFSETTO:-0700
TZNAME:PDT
DTSTART:20170312T100000
END:DAYLIGHT
BEGIN:STANDARD
TZOFFSETFROM:-0700
TZOFFSETTO:-0800
TZNAME:PST
DTSTART:20171105T090000
END:STANDARD
BEGIN:DAYLIGHT
TZOFFSETFROM:-0800
TZOFFSETTO:-0700
TZNAME:PDT
DTSTART:20180311T100000
END:DAYLIGHT
BEGIN:STANDARD
TZOFFSETFROM:-0700
TZOFFSETTO:-0800
TZNAME:PST
DTSTART:20181104T090000
END:STANDARD
BEGIN:DAYLIGHT
TZOFFSETFROM:-0800
TZOFFSETTO:-0700
TZNAME:PDT
DTSTART:20190310T100000
END:DAYLIGHT
BEGIN:STANDARD
TZOFFSETFROM:-0700
TZOFFSETTO:-0800
TZNAME:PST
DTSTART:20191103T090000
END:STANDARD
END:VTIMEZONE
BEGIN:VEVENT
DTSTART;TZID=America/Los_Angeles:20180206T180000
DTEND;TZID=America/Los_Angeles:20180206T193000
DTSTAMP:20260422T223910
CREATED:20171205T213119Z
LAST-MODIFIED:20171215T220656Z
UID:10002945-1517940000-1517945400@parentingtogetherwc.org
SUMMARY:Triple P Positive Parenting Program - Programa de Crianza Positiva
DESCRIPTION:Join us for 3 evenings of learning new informative parenting strategies that will help parents learn more about ways to encourage your children to develop the skills they need to function well at home\, school\, and out in the world. \nTriple</p>\n<p>P-McKay_Eng_2018Mckay-Triple P-
URL:https://parentingtogetherwc.org/event/triple-p-positive-parenting-program/2018-02-06/
LOCATION:McKay Elementary\, 7485 SW Scholls Ferry Rd\, Beaverton\, 97008
CATEGORIES:Adult Workshop
GEO:45.4657236;-122.778913
X-APPLE-STRUCTURED-LOCATION;VALUE=URI;X-ADDRESS=McKay Elementary 7485 SW Scholls Ferry Rd Beaverton 97008;X-APPLE-RADIUS=500;X-TITLE=7485 SW Scholls Ferry Rd:geo:-122.778913,45.4657236
END:VEVENT
BEGIN:VEVENT
DTSTART;TZID=America/Los_Angeles:20180130T180000
DTEND;TZID=America/Los_Angeles:20180130T193000
DTSTAMP:20260422T223910
CREATED:20171205T213119Z
LAST-MODIFIED:20171215T220656Z
UID:10002944-1517335200-1517340600@parentingtogetherwc.org
SUMMARY:Triple P Positive Parenting Program - Programa de Crianza Positiva
DESCRIPTION:Join us for 3 evenings of learning new informative parenting strategies that will help parents learn more about ways to encourage your children to develop the skills they need to function well at home\, school\, and out in the world. \nTriple</p>\n<p>P-McKay_Eng_2018Mckay-Triple P-
URL:https://parentingtogetherwc.org/event/triple-p-positive-parenting-program/2018-01-30/
LOCATION:McKay Elementary\, 7485 SW Scholls Ferry Rd\, Beaverton\, 97008
CATEGORIES:Adult Workshop
GEO:45.4657236;-122.778913
X-APPLE-STRUCTURED-LOCATION;VALUE=URI;X-ADDRESS=McKay Elementary 7485 SW Scholls Ferry Rd Beaverton 97008;X-APPLE-RADIUS=500;X-TITLE=7485 SW Scholls Ferry Rd:geo:-122.778913,45.4657236
END:VEVENT
BEGIN:VEVENT
DTSTART;TZID=America/Los_Angeles:20180123T180000
DTEND;TZID=America/Los_Angeles:20180123T193000
DTSTAMP:20260422T223910
CREATED:20171205T213119Z
LAST-MODIFIED:20171215T220656Z
UID:10002943-1516730400-1516735800@parentingtogetherwc.org
SUMMARY:Triple P Positive Parenting Program - Programa de Crianza Positiva
DESCRIPTION:Join us for 3 evenings of learning new informative parenting strategies that will help parents learn more about ways to encourage your children to develop the skills they need to function well at home\, school\, and out in the world. \nTriple</p>\n<p>P-McKay_Eng_2018Mckay-Triple P-
URL:https://parentingtogetherwc.org/event/triple-p-positive-parenting-program/2018-01-23/
LOCATION:McKay Elementary\, 7485 SW Scholls Ferry Rd\, Beaverton\, 97008
CATEGORIES:Adult Workshop
GEO:45.4657236;-122.778913
X-APPLE-STRUCTURED-LOCATION;VALUE=URI;X-ADDRESS=McKay Elementary 7485 SW Scholls Ferry Rd Beaverton 97008;X-APPLE-RADIUS=500;X-TITLE=7485 SW Scholls Ferry Rd:geo:-122.778913,45.4657236
END:VEVENT
END:VCALENDAR