
BEGIN:VCALENDAR
VERSION:2.0
PRODID:-//Parenting Together Washington County - ECPv6.15.16.1//NONSGML v1.0//EN
CALSCALE:GREGORIAN
METHOD:PUBLISH
X-ORIGINAL-URL:https://parentingtogetherwc.org
X-WR-CALDESC:Events for Parenting Together Washington County
REFRESH-INTERVAL;VALUE=DURATION:PT1H
X-Robots-Tag:noindex
X-PUBLISHED-TTL:PT1H
BEGIN:VTIMEZONE
TZID:America/Los_Angeles
BEGIN:DAYLIGHT
TZOFFSETFROM:-0800
TZOFFSETTO:-0700
TZNAME:PDT
DTSTART:20160313T100000
END:DAYLIGHT
BEGIN:STANDARD
TZOFFSETFROM:-0700
TZOFFSETTO:-0800
TZNAME:PST
DTSTART:20161106T090000
END:STANDARD
BEGIN:DAYLIGHT
TZOFFSETFROM:-0800
TZOFFSETTO:-0700
TZNAME:PDT
DTSTART:20170312T100000
END:DAYLIGHT
BEGIN:STANDARD
TZOFFSETFROM:-0700
TZOFFSETTO:-0800
TZNAME:PST
DTSTART:20171105T090000
END:STANDARD
BEGIN:DAYLIGHT
TZOFFSETFROM:-0800
TZOFFSETTO:-0700
TZNAME:PDT
DTSTART:20180311T100000
END:DAYLIGHT
BEGIN:STANDARD
TZOFFSETFROM:-0700
TZOFFSETTO:-0800
TZNAME:PST
DTSTART:20181104T090000
END:STANDARD
END:VTIMEZONE
BEGIN:VEVENT
DTSTART;TZID=America/Los_Angeles:20171030T173000
DTEND;TZID=America/Los_Angeles:20171030T193000
DTSTAMP:20260423T042043
CREATED:20171010T190529Z
LAST-MODIFIED:20171010T194322Z
UID:10002416-1509384600-1509391800@parentingtogetherwc.org
SUMMARY:The Incredible Years
DESCRIPTION:Want more tools in your parenting toolbox? Join us for a 14-week series of classes focused on tools and tips for parenting 2 – 8 years of age.  Learn how to use play to build on your relationship; use praise to encourage positive behavior; set clear limits and increase the joy of parenting. Childcare provided  for children ages 2-11.   Registration required. Please call Cori at 503-258-4511. \n  \n  \n
URL:https://parentingtogetherwc.org/event/the-incredible-years/
LOCATION:McKinley Elementary School\, 1500 SW 185th Ave\, Beaverton\, 97006\, United States
CATEGORIES:Parenting Classes
ATTACH;FMTTYPE=image/jpeg:https://parentingtogetherwc.org/wp-content/uploads/2017/10/PDF-IY-Flyer-Fall-2017.jpg
GEO:45.5093974;-122.8673994
X-APPLE-STRUCTURED-LOCATION;VALUE=URI;X-ADDRESS=McKinley Elementary School 1500 SW 185th Ave Beaverton 97006 United States;X-APPLE-RADIUS=500;X-TITLE=1500 SW 185th Ave:geo:-122.8673994,45.5093974
END:VEVENT
END:VCALENDAR