
BEGIN:VCALENDAR
VERSION:2.0
PRODID:-//Parenting Together Washington County - ECPv6.15.16.1//NONSGML v1.0//EN
CALSCALE:GREGORIAN
METHOD:PUBLISH
X-ORIGINAL-URL:https://parentingtogetherwc.org
X-WR-CALDESC:Events for Parenting Together Washington County
REFRESH-INTERVAL;VALUE=DURATION:PT1H
X-Robots-Tag:noindex
X-PUBLISHED-TTL:PT1H
BEGIN:VTIMEZONE
TZID:America/Los_Angeles
BEGIN:DAYLIGHT
TZOFFSETFROM:-0800
TZOFFSETTO:-0700
TZNAME:PDT
DTSTART:20160313T100000
END:DAYLIGHT
BEGIN:STANDARD
TZOFFSETFROM:-0700
TZOFFSETTO:-0800
TZNAME:PST
DTSTART:20161106T090000
END:STANDARD
BEGIN:DAYLIGHT
TZOFFSETFROM:-0800
TZOFFSETTO:-0700
TZNAME:PDT
DTSTART:20170312T100000
END:DAYLIGHT
BEGIN:STANDARD
TZOFFSETFROM:-0700
TZOFFSETTO:-0800
TZNAME:PST
DTSTART:20171105T090000
END:STANDARD
BEGIN:DAYLIGHT
TZOFFSETFROM:-0800
TZOFFSETTO:-0700
TZNAME:PDT
DTSTART:20180311T100000
END:DAYLIGHT
BEGIN:STANDARD
TZOFFSETFROM:-0700
TZOFFSETTO:-0800
TZNAME:PST
DTSTART:20181104T090000
END:STANDARD
BEGIN:DAYLIGHT
TZOFFSETFROM:-0800
TZOFFSETTO:-0700
TZNAME:PDT
DTSTART:20190310T100000
END:DAYLIGHT
BEGIN:STANDARD
TZOFFSETFROM:-0700
TZOFFSETTO:-0800
TZNAME:PST
DTSTART:20191103T090000
END:STANDARD
END:VTIMEZONE
BEGIN:VEVENT
DTSTART;TZID=America/Los_Angeles:20180123T180000
DTEND;TZID=America/Los_Angeles:20180123T200000
DTSTAMP:20260423T015225
CREATED:20171221T200344Z
LAST-MODIFIED:20171221T200344Z
UID:10002498-1516730400-1516737600@parentingtogetherwc.org
SUMMARY:The ABCs of Parenting
DESCRIPTION:A Nurturing Parenting series for SOMALI parents and their children\, ages 3-8. \n Give your parenting skills a boost and connect with other parents in your community! \nThroughout this 7-week series\, you will learn:  \n\nTips for setting age-appropriate expectations.\nStrategies for effective problem-solving.\nWays to establish discipline through family rules\, rewards\, and alternatives to spanking/yelling.\nTips for helping children to manage their own behavior.\nTools to build personal power and self-worth in yourself and your children.\nStrategies for effective stress and anger management.
URL:https://parentingtogetherwc.org/event/the-abcs-of-parenting-3/
LOCATION:Merlo Station High School\, 1841 SW Merlo Dr\, Beaverton\, OR\, 97006\, United States
CATEGORIES:Family-Friendly,Parenting Classes
ATTACH;FMTTYPE=image/jpeg:https://parentingtogetherwc.org/wp-content/uploads/2017/12/NP-BSD-2017-2018-Somali.jpg
ORGANIZER;CN="Youth Contact/Vicki Ball":MAILTO:vball@youthcontact.org
GEO:45.506124;-122.8482268
X-APPLE-STRUCTURED-LOCATION;VALUE=URI;X-ADDRESS=Merlo Station High School 1841 SW Merlo Dr Beaverton OR 97006 United States;X-APPLE-RADIUS=500;X-TITLE=1841 SW Merlo Dr:geo:-122.8482268,45.506124
END:VEVENT
BEGIN:VEVENT
DTSTART;TZID=America/Los_Angeles:20180123T180000
DTEND;TZID=America/Los_Angeles:20180123T200000
DTSTAMP:20260423T015225
CREATED:20171221T200028Z
LAST-MODIFIED:20171221T201209Z
UID:10002496-1516730400-1516737600@parentingtogetherwc.org
SUMMARY:El ABC de Crianza de Los Hijos
DESCRIPTION:Una serie de Crianza Nutrir para los padres y sus niños\, edades 5-8. \nEnriquezca sus habilidades de crianza y conéctese con otros padres en la comunidad. \nA través de esta serie de 7 semanas\, usted aprenderá:  \n\nConsejos para crear expectativas apropiadas para la edad.\nEstrategias para la solución de problemas.\nManeras de establecer la disciplina a través de reglas de la familia\, recompensas y alternativas a nalgadas/gritando.\nConsejos para ayudar a los niños a controlar su propio comportamiento.\nHerramientas para construir el poder personal y la autoestima en usted y sus hijos.\nEstrategias efectivos para el manejo del estrés y el enojo.
URL:https://parentingtogetherwc.org/event/el-abc-de-crianza-de-los-hijos/
LOCATION:Merlo Station High School\, 1841 SW Merlo Dr\, Beaverton\, OR\, 97006\, United States
CATEGORIES:Family-Friendly,Parenting Classes
ATTACH;FMTTYPE=image/jpeg:https://parentingtogetherwc.org/wp-content/uploads/2017/12/NP-BSD-2017-2018.jpg
ORGANIZER;CN="Youth Contact/Vicki Ball":MAILTO:vball@youthcontact.org
GEO:45.506124;-122.8482268
X-APPLE-STRUCTURED-LOCATION;VALUE=URI;X-ADDRESS=Merlo Station High School 1841 SW Merlo Dr Beaverton OR 97006 United States;X-APPLE-RADIUS=500;X-TITLE=1841 SW Merlo Dr:geo:-122.8482268,45.506124
END:VEVENT
BEGIN:VEVENT
DTSTART;TZID=America/Los_Angeles:20170417T180000
DTEND;TZID=America/Los_Angeles:20170417T200000
DTSTAMP:20260423T015225
CREATED:20170404T171408Z
LAST-MODIFIED:20170803T203259Z
UID:10002605-1492452000-1492459200@parentingtogetherwc.org
SUMMARY:The ABC's of Parenting for Somali families
DESCRIPTION:This is a Nurturing Parenting series for SOMALI parents and their children\, ages 3-8. It will be taught in Somali and lasts for 7 consecutive weeks. \nFree childcare is provided for children ages 2 and up.  Free dinner is also available before each class. \nContents includes: \nTips for setting age-appropriate expectations. \nStrategies for effective problem-solving.\nWays to establish discipline through family rules\, rewards\, and alternatives to spanking/yelling.\nTips for helping children to manage their own behavior.\nTools to build personal power and self-worth in yourself and your children.\nStrategies for effective stress and anger management.
URL:https://parentingtogetherwc.org/event/the-abcs-of-parenting-for-somali-families/
LOCATION:Merlo Station High School\, 1841 SW Merlo Dr\, Beaverton\, OR\, 97006\, United States
CATEGORIES:Parenting Classes
ORGANIZER;CN="Kaltun Caynan":MAILTO:osfec1@gmail.com
GEO:45.506124;-122.8482268
X-APPLE-STRUCTURED-LOCATION;VALUE=URI;X-ADDRESS=Merlo Station High School 1841 SW Merlo Dr Beaverton OR 97006 United States;X-APPLE-RADIUS=500;X-TITLE=1841 SW Merlo Dr:geo:-122.8482268,45.506124
END:VEVENT
END:VCALENDAR