
BEGIN:VCALENDAR
VERSION:2.0
PRODID:-//Parenting Together Washington County - ECPv6.15.16.1//NONSGML v1.0//EN
CALSCALE:GREGORIAN
METHOD:PUBLISH
X-WR-CALNAME:Parenting Together Washington County
X-ORIGINAL-URL:https://parentingtogetherwc.org
X-WR-CALDESC:Events for Parenting Together Washington County
REFRESH-INTERVAL;VALUE=DURATION:PT1H
X-Robots-Tag:noindex
X-PUBLISHED-TTL:PT1H
BEGIN:VTIMEZONE
TZID:America/Los_Angeles
BEGIN:DAYLIGHT
TZOFFSETFROM:-0800
TZOFFSETTO:-0700
TZNAME:PDT
DTSTART:20230312T100000
END:DAYLIGHT
BEGIN:STANDARD
TZOFFSETFROM:-0700
TZOFFSETTO:-0800
TZNAME:PST
DTSTART:20231105T090000
END:STANDARD
BEGIN:DAYLIGHT
TZOFFSETFROM:-0800
TZOFFSETTO:-0700
TZNAME:PDT
DTSTART:20240310T100000
END:DAYLIGHT
BEGIN:STANDARD
TZOFFSETFROM:-0700
TZOFFSETTO:-0800
TZNAME:PST
DTSTART:20241103T090000
END:STANDARD
BEGIN:DAYLIGHT
TZOFFSETFROM:-0800
TZOFFSETTO:-0700
TZNAME:PDT
DTSTART:20250309T100000
END:DAYLIGHT
BEGIN:STANDARD
TZOFFSETFROM:-0700
TZOFFSETTO:-0800
TZNAME:PST
DTSTART:20251102T090000
END:STANDARD
END:VTIMEZONE
BEGIN:VEVENT
DTSTART;TZID=America/Los_Angeles:20240824T130000
DTEND;TZID=America/Los_Angeles:20240824T160000
DTSTAMP:20260421T185004
CREATED:20240822T173804Z
LAST-MODIFIED:20240822T173822Z
UID:10005236-1724504400-1724515200@parentingtogetherwc.org
SUMMARY:Back to School Event - Family Friendly
DESCRIPTION:Get ready to put the “cool” back in school at the 20th Annual Back To School Event\, August 24th\, from 1:00 – 4 pm.\nThis is the place to be if you’re looking for a day packed with celebration\, information\, and loads of FUN! Free school supplies\, children’s activities\, entertainment\, food\, and more at the M&M Marketplace.\n\n346 SW Walnut St\, Hillsboro\, OR 97123 | FREE community eventPrepárate para el regreso a clases en el 20º Evento Anual de Regreso a la Escuela\, el 24 de agosto\, de 1 a 4 pm.\n¡Es un día lleno de celebración\, información y mucha DIVERSIÓN! Útiles escolares gratuitos\, actividades para niños\, entretenimiento\, comida y más en el M&M Marketplace.\n\n346 SW Walnut St\, Hillsboro\, OR 97123 | Evento comunitario GRATUITO
URL:https://parentingtogetherwc.org/event/back-to-school-event-family-friendly/
LOCATION:M&M Market Place\, 346 SW Walnut St\, Hillsboro\, OR 97123\, Hillsboro\, 97124
CATEGORIES:Family Resource Event,Family-Friendly,Kid Friendly
END:VEVENT
END:VCALENDAR