
BEGIN:VCALENDAR
VERSION:2.0
PRODID:-//Parenting Together Washington County - ECPv6.15.16.1//NONSGML v1.0//EN
CALSCALE:GREGORIAN
METHOD:PUBLISH
X-WR-CALNAME:Parenting Together Washington County
X-ORIGINAL-URL:https://parentingtogetherwc.org
X-WR-CALDESC:Events for Parenting Together Washington County
REFRESH-INTERVAL;VALUE=DURATION:PT1H
X-Robots-Tag:noindex
X-PUBLISHED-TTL:PT1H
BEGIN:VTIMEZONE
TZID:America/Los_Angeles
BEGIN:DAYLIGHT
TZOFFSETFROM:-0800
TZOFFSETTO:-0700
TZNAME:PDT
DTSTART:20220313T100000
END:DAYLIGHT
BEGIN:STANDARD
TZOFFSETFROM:-0700
TZOFFSETTO:-0800
TZNAME:PST
DTSTART:20221106T090000
END:STANDARD
BEGIN:DAYLIGHT
TZOFFSETFROM:-0800
TZOFFSETTO:-0700
TZNAME:PDT
DTSTART:20230312T100000
END:DAYLIGHT
BEGIN:STANDARD
TZOFFSETFROM:-0700
TZOFFSETTO:-0800
TZNAME:PST
DTSTART:20231105T090000
END:STANDARD
BEGIN:DAYLIGHT
TZOFFSETFROM:-0800
TZOFFSETTO:-0700
TZNAME:PDT
DTSTART:20240310T100000
END:DAYLIGHT
BEGIN:STANDARD
TZOFFSETFROM:-0700
TZOFFSETTO:-0800
TZNAME:PST
DTSTART:20241103T090000
END:STANDARD
BEGIN:DAYLIGHT
TZOFFSETFROM:-0800
TZOFFSETTO:-0700
TZNAME:PDT
DTSTART:20250309T100000
END:DAYLIGHT
BEGIN:STANDARD
TZOFFSETFROM:-0700
TZOFFSETTO:-0800
TZNAME:PST
DTSTART:20251102T090000
END:STANDARD
END:VTIMEZONE
BEGIN:VEVENT
DTSTART;TZID=America/Los_Angeles:20240523T173000
DTEND;TZID=America/Los_Angeles:20240523T193000
DTSTAMP:20260423T114202
CREATED:20240418T190451Z
LAST-MODIFIED:20240418T190451Z
UID:10005152-1716485400-1716492600@parentingtogetherwc.org
SUMMARY:Incredible Years Parent-Caregiver Learning\, Support and Connection Series
DESCRIPTION:IY Flyer Summer 2024
URL:https://parentingtogetherwc.org/event/incredible-years-parent-caregiver-learning-support-and-connection-series/
LOCATION:Morrison Child and Family Services\, 15455 NW Greenbrier Pkwy\, Ste. 200 Beaverton\, OR 97006\, Beaverton\, OR\, 97006\, United States
CATEGORIES:Parenting Series
ORGANIZER;CN="Morrison Child and Family Services/Stephanie Clodfelter":MAILTO:Stephanie.clodfelter@morrisonkids.org
END:VEVENT
BEGIN:VEVENT
DTSTART;TZID=America/Los_Angeles:20231006T100000
DTEND;TZID=America/Los_Angeles:20231006T120000
DTSTAMP:20260423T114202
CREATED:20230828T164614Z
LAST-MODIFIED:20230828T164614Z
UID:10004836-1696586400-1696593600@parentingtogetherwc.org
SUMMARY:Incredible Infants Parenting Series - Learning\, Connection and Support
DESCRIPTION:Incredible Infants Flyer-F23
URL:https://parentingtogetherwc.org/event/incredible-infants-parenting-series-learning-connection-and-support/
LOCATION:Morrison Child and Family Services\, 15455 NW Greenbrier Pkwy\, Ste. 200 Beaverton\, OR 97006\, Beaverton\, OR\, 97006\, United States
CATEGORIES:Parenting Series
ORGANIZER;CN="Morrison Child and Family Services/Stephanie Clodfelter":MAILTO:Stephanie.clodfelter@morrisonkids.org
END:VEVENT
END:VCALENDAR