
BEGIN:VCALENDAR
VERSION:2.0
PRODID:-//Parenting Together Washington County - ECPv6.15.16.1//NONSGML v1.0//EN
CALSCALE:GREGORIAN
METHOD:PUBLISH
X-ORIGINAL-URL:https://parentingtogetherwc.org
X-WR-CALDESC:Events for Parenting Together Washington County
REFRESH-INTERVAL;VALUE=DURATION:PT1H
X-Robots-Tag:noindex
X-PUBLISHED-TTL:PT1H
BEGIN:VTIMEZONE
TZID:America/Los_Angeles
BEGIN:DAYLIGHT
TZOFFSETFROM:-0800
TZOFFSETTO:-0700
TZNAME:PDT
DTSTART:20160313T100000
END:DAYLIGHT
BEGIN:STANDARD
TZOFFSETFROM:-0700
TZOFFSETTO:-0800
TZNAME:PST
DTSTART:20161106T090000
END:STANDARD
BEGIN:DAYLIGHT
TZOFFSETFROM:-0800
TZOFFSETTO:-0700
TZNAME:PDT
DTSTART:20170312T100000
END:DAYLIGHT
BEGIN:STANDARD
TZOFFSETFROM:-0700
TZOFFSETTO:-0800
TZNAME:PST
DTSTART:20171105T090000
END:STANDARD
BEGIN:DAYLIGHT
TZOFFSETFROM:-0800
TZOFFSETTO:-0700
TZNAME:PDT
DTSTART:20180311T100000
END:DAYLIGHT
BEGIN:STANDARD
TZOFFSETFROM:-0700
TZOFFSETTO:-0800
TZNAME:PST
DTSTART:20181104T090000
END:STANDARD
BEGIN:DAYLIGHT
TZOFFSETFROM:-0800
TZOFFSETTO:-0700
TZNAME:PDT
DTSTART:20190310T100000
END:DAYLIGHT
BEGIN:STANDARD
TZOFFSETFROM:-0700
TZOFFSETTO:-0800
TZNAME:PST
DTSTART:20191103T090000
END:STANDARD
END:VTIMEZONE
BEGIN:VEVENT
DTSTART;TZID=America/Los_Angeles:20180917T180000
DTEND;TZID=America/Los_Angeles:20180917T200000
DTSTAMP:20260422T175611
CREATED:20180706T181344Z
LAST-MODIFIED:20180706T181437Z
UID:10003308-1537207200-1537214400@parentingtogetherwc.org
SUMMARY:Developing Young Children’s Skills: Parenting Classes for Families of Children with Challenging Behaviors
DESCRIPTION:Developing Young Children's Skills July-September 2018
URL:https://parentingtogetherwc.org/event/developing-young-childrens-skills-parenting-classes-families-children-challenging-behaviors-3/
LOCATION:Providence Portland Medical Center\, 830 NE 47th Ave\, Portland\, 97213\, United States
CATEGORIES:Parenting Classes
GEO:45.5292849;-122.6141376
X-APPLE-STRUCTURED-LOCATION;VALUE=URI;X-ADDRESS=Providence Portland Medical Center 830 NE 47th Ave Portland 97213 United States;X-APPLE-RADIUS=500;X-TITLE=830 NE 47th Ave:geo:-122.6141376,45.5292849
END:VEVENT
BEGIN:VEVENT
DTSTART;TZID=America/Los_Angeles:20180522T183000
DTEND;TZID=America/Los_Angeles:20180522T203000
DTSTAMP:20260422T175611
CREATED:20180515T234109Z
LAST-MODIFIED:20180515T234109Z
UID:10003228-1527013800-1527021000@parentingtogetherwc.org
SUMMARY:Swindells Center-Servicios de Discapacidad del Desarrollo: Condado de Multnomah
DESCRIPTION:Swindells Center-Servicios de Discapacidad del Desarrollo: Condado de Multnomah   Swindells Center-Servicios de Discapacidad del Desarrollo: Condado de Multnomah  \n \nServicios de Discapacidad del Desarrollo: Condado de MultnomahEntender y Acceder a los servicios\nÚnase al Swindells\, Centro de Recursos\, y Mercedes Gutierrez y Garth Mackzum del condado de Multnomah a una introducción gratuita a los servicios de discapacidad de desarrollo. La presentación cubrirá: \n– Un resumen de los servicios del sistema de discapacidades intelectuales y del desarrollo I/DD\n– El criterio de elegibilidad\n– Cómo solicitar los servicios (trámites necesarios)\n– Los servicios disponibles incluso los servicios particulares en casa del K-plan \nMercedes Gutierrez\, MSW\, Coordinadora del Programa de Discapacidad del Desarrollo\, cuenta con más de 15 años de experiencia trabajando con familias. Mercedes empezó como trabajadora social en el condado de Stanislaus\, CA Departamento de envejecimiento y discapacidad. Actualmente a ella le gusta abogar\, apoyar y fortalecer a familias. \nGarth Mackzum\, MIA\, especialista de apoyo para el condado de Multnomah empezó como especialista de elegibilidad con la oficina de servicios de envejecimiento y discapacidad en el condado de Multnomah. Actualmente es parte del equipo de ingreso y elegibilidad para los servicios de discapacidad intelectual y de desarrollo. A él le gusta navegar la complejidad de los servicios DD\, incluso el proceso de ingreso. \nInscribase aqui:\nLlamando a 503-215-2429 o 800-833-8899 ext 52429 \nSe dispone de servicios de inscripción e interpretación llamando a 503-574-6595 antes del 1ro de mayo.
URL:https://parentingtogetherwc.org/event/swindells-center-servicios-de-discapacidad-del-desarrollo-condado-de-multnomah/
LOCATION:Providence Portland Medical Center\, 830 NE 47th Ave\, Portland\, 97213\, United States
CATEGORIES:Adult Workshop
ATTACH;FMTTYPE=image/png:https://parentingtogetherwc.org/wp-content/uploads/2018/05/spanCapture.png
GEO:45.5292849;-122.6141376
X-APPLE-STRUCTURED-LOCATION;VALUE=URI;X-ADDRESS=Providence Portland Medical Center 830 NE 47th Ave Portland 97213 United States;X-APPLE-RADIUS=500;X-TITLE=830 NE 47th Ave:geo:-122.6141376,45.5292849
END:VEVENT
BEGIN:VEVENT
DTSTART;TZID=America/Los_Angeles:20180111T190000
DTEND;TZID=America/Los_Angeles:20180111T210000
DTSTAMP:20260422T175611
CREATED:20171115T200422Z
LAST-MODIFIED:20171115T200422Z
UID:10002956-1515697200-1515704400@parentingtogetherwc.org
SUMMARY:Sensory PDX: Positive Discipline for Children with Sensory Challenges
DESCRIPTION:Please join Caty Buckley\, MSW\, as she discusses the principles of Positive Discipline\, relationship based therapy\, and strategies to support sensory differences. The presentation will include: \n\nBrain research to understand what happens when children go “offline”\nTechniques to stay kind but firm\nPositive time out strategies\, including sensory techniques\nSensory tools and problem-solving language before and after “the storm”\nImportance of repairing relationships after “the storm”\n\nCaty Buckley\, MSW\, is a Certified Positive Discipline Parent Educator and has been providing Positive Discipline parenting classes since 2011. Caty additionally provides mental health services to high school teens and private parent coaching throughout the Portland metropolitan area and beyond.
URL:https://parentingtogetherwc.org/event/sensory-pdx-positive-discipline-children-sensory-challenges/
LOCATION:Providence Portland Medical Center\, 830 NE 47th Ave\, Portland\, 97213\, United States
CATEGORIES:Adult Workshop,Parenting Classes
ATTACH;FMTTYPE=image/jpeg:https://parentingtogetherwc.org/wp-content/uploads/2017/11/1.11.18-Pos-Discipline.jpg
GEO:45.5292849;-122.6141376
X-APPLE-STRUCTURED-LOCATION;VALUE=URI;X-ADDRESS=Providence Portland Medical Center 830 NE 47th Ave Portland 97213 United States;X-APPLE-RADIUS=500;X-TITLE=830 NE 47th Ave:geo:-122.6141376,45.5292849
END:VEVENT
BEGIN:VEVENT
DTSTART;TZID=America/Los_Angeles:20171116T183000
DTEND;TZID=America/Los_Angeles:20171116T203000
DTSTAMP:20260422T175611
CREATED:20171103T012758Z
LAST-MODIFIED:20171103T012758Z
UID:10002960-1510857000-1510864200@parentingtogetherwc.org
SUMMARY:Autism Basics: What to expect after diagnosis
DESCRIPTION:A new diagnosis of Autism can feel overwhelming to parents and caregivers\, but there are many resources available to help families as they begin their journey. Please join Swindells Resource Center and certified Autism Specialist Linda Sinclair at this free informational presentation exploring autism as a diagnosis\, and the supports and resources available for families. The event will include: \n\nAn Autism overview\nBest practice strategies for managing challenging behaviors\nServices and community resources\nGeneral school information related to IFSP’s and IEP’s
URL:https://parentingtogetherwc.org/event/autism-basics-expect-diagnosis/
LOCATION:Providence Portland Medical Center\, 830 NE 47th Ave\, Portland\, 97213\, United States
CATEGORIES:Parenting Classes
ATTACH;FMTTYPE=image/jpeg:https://parentingtogetherwc.org/wp-content/uploads/2017/11/Autism-Basics-11.16.2017.jpg
GEO:45.5292849;-122.6141376
X-APPLE-STRUCTURED-LOCATION;VALUE=URI;X-ADDRESS=Providence Portland Medical Center 830 NE 47th Ave Portland 97213 United States;X-APPLE-RADIUS=500;X-TITLE=830 NE 47th Ave:geo:-122.6141376,45.5292849
END:VEVENT
BEGIN:VEVENT
DTSTART;TZID=America/Los_Angeles:20170928T180000
DTEND;TZID=America/Los_Angeles:20170928T210000
DTSTAMP:20260422T175611
CREATED:20170914T190144Z
LAST-MODIFIED:20170914T190144Z
UID:10002620-1506621600-1506632400@parentingtogetherwc.org
SUMMARY:Promoting Resilience: Strategies to help your child thrive!
DESCRIPTION:For some\, childhood represents a time without worry. For others\, childhood can be filled with trauma\, stress\, and emotional hurt ranging from classroom bullying to abuse at home. The good news is that children can thrive despite these challenges and families can help promote resilience by building skills together. \nPlease join Swindells Resource Center and Dr. Amy Stoeber PhD\, LLC\, licensed psychologist\, at this free presentation exploring the key factors contributing to resiliency\, including: \n\nAn introduction to adverse childhood experiences\nThe seven C’s of resilience\nBuilding resilience through family interventions\nPromoting family health\n\nDr. Stoeber works with children and families of all ages through her private practice in Portland\, OR. She is endorsed in both early childhood mental health and pediatric health and serves as a member of the Healthcare Reform Taskforce for the Oregon Psychological Association. Additionally\, Dr. Stoeber served as a statewide trainer for The Department of Human Services and currently promotes wellness and resilience with the Children’s Health Alliance in pediatric medical homes and other pediatric settings.
URL:https://parentingtogetherwc.org/event/promoting-resilience-strategies-help-child-thrive/
LOCATION:Providence Portland Medical Center\, 830 NE 47th Ave\, Portland\, 97213\, United States
CATEGORIES:Adult Workshop
ATTACH;FMTTYPE=image/jpeg:https://parentingtogetherwc.org/wp-content/uploads/2017/09/9.28.2017-Resilience.jpg
GEO:45.5292849;-122.6141376
X-APPLE-STRUCTURED-LOCATION;VALUE=URI;X-ADDRESS=Providence Portland Medical Center 830 NE 47th Ave Portland 97213 United States;X-APPLE-RADIUS=500;X-TITLE=830 NE 47th Ave:geo:-122.6141376,45.5292849
END:VEVENT
END:VCALENDAR