
BEGIN:VCALENDAR
VERSION:2.0
PRODID:-//Parenting Together Washington County - ECPv6.15.16.1//NONSGML v1.0//EN
CALSCALE:GREGORIAN
METHOD:PUBLISH
X-WR-CALNAME:Parenting Together Washington County
X-ORIGINAL-URL:https://parentingtogetherwc.org
X-WR-CALDESC:Events for Parenting Together Washington County
REFRESH-INTERVAL;VALUE=DURATION:PT1H
X-Robots-Tag:noindex
X-PUBLISHED-TTL:PT1H
BEGIN:VTIMEZONE
TZID:America/Los_Angeles
BEGIN:DAYLIGHT
TZOFFSETFROM:-0800
TZOFFSETTO:-0700
TZNAME:PDT
DTSTART:20180311T100000
END:DAYLIGHT
BEGIN:STANDARD
TZOFFSETFROM:-0700
TZOFFSETTO:-0800
TZNAME:PST
DTSTART:20181104T090000
END:STANDARD
BEGIN:DAYLIGHT
TZOFFSETFROM:-0800
TZOFFSETTO:-0700
TZNAME:PDT
DTSTART:20190310T100000
END:DAYLIGHT
BEGIN:STANDARD
TZOFFSETFROM:-0700
TZOFFSETTO:-0800
TZNAME:PST
DTSTART:20191103T090000
END:STANDARD
BEGIN:DAYLIGHT
TZOFFSETFROM:-0800
TZOFFSETTO:-0700
TZNAME:PDT
DTSTART:20200308T100000
END:DAYLIGHT
BEGIN:STANDARD
TZOFFSETFROM:-0700
TZOFFSETTO:-0800
TZNAME:PST
DTSTART:20201101T090000
END:STANDARD
END:VTIMEZONE
BEGIN:VEVENT
DTSTART;TZID=America/Los_Angeles:20190511T093000
DTEND;TZID=America/Los_Angeles:20190511T110000
DTSTAMP:20260423T003434
CREATED:20190412T232915Z
LAST-MODIFIED:20190412T232915Z
UID:10004037-1557567000-1557572400@parentingtogetherwc.org
SUMMARY:Italian Dual Language Preschool Open House
DESCRIPTION:
URL:https://parentingtogetherwc.org/event/italian-dual-language-preschool-open-house-2/
LOCATION:Scuola di Italiana di Portland\, 1542 NW 14th Avenue\, Portland\, OR\, 97209\, United States
CATEGORIES:Family-Friendly
ORGANIZER;CN="Scuola di Italiana di Portland":MAILTO:info@scuola.us
END:VEVENT
BEGIN:VEVENT
DTSTART;TZID=America/Los_Angeles:20190330T093000
DTEND;TZID=America/Los_Angeles:20190330T110000
DTSTAMP:20260423T003434
CREATED:20190326T203212Z
LAST-MODIFIED:20190326T203212Z
UID:10003608-1553938200-1553943600@parentingtogetherwc.org
SUMMARY:Italian Dual Language Preschool Open House
DESCRIPTION:Open House Italian Dual language preschool - March 2019
URL:https://parentingtogetherwc.org/event/italian-dual-language-preschool-open-house/
LOCATION:Scuola di Italiana di Portland\, 1542 NW 14th Avenue\, Portland\, OR\, 97209\, United States
CATEGORIES:Family-Friendly,Kid Friendly
END:VEVENT
END:VCALENDAR