
BEGIN:VCALENDAR
VERSION:2.0
PRODID:-//Parenting Together Washington County - ECPv6.15.16.1//NONSGML v1.0//EN
CALSCALE:GREGORIAN
METHOD:PUBLISH
X-WR-CALNAME:Parenting Together Washington County
X-ORIGINAL-URL:https://parentingtogetherwc.org
X-WR-CALDESC:Events for Parenting Together Washington County
REFRESH-INTERVAL;VALUE=DURATION:PT1H
X-Robots-Tag:noindex
X-PUBLISHED-TTL:PT1H
BEGIN:VTIMEZONE
TZID:America/Los_Angeles
BEGIN:DAYLIGHT
TZOFFSETFROM:-0800
TZOFFSETTO:-0700
TZNAME:PDT
DTSTART:20160313T100000
END:DAYLIGHT
BEGIN:STANDARD
TZOFFSETFROM:-0700
TZOFFSETTO:-0800
TZNAME:PST
DTSTART:20161106T090000
END:STANDARD
BEGIN:DAYLIGHT
TZOFFSETFROM:-0800
TZOFFSETTO:-0700
TZNAME:PDT
DTSTART:20170312T100000
END:DAYLIGHT
BEGIN:STANDARD
TZOFFSETFROM:-0700
TZOFFSETTO:-0800
TZNAME:PST
DTSTART:20171105T090000
END:STANDARD
BEGIN:DAYLIGHT
TZOFFSETFROM:-0800
TZOFFSETTO:-0700
TZNAME:PDT
DTSTART:20180311T100000
END:DAYLIGHT
BEGIN:STANDARD
TZOFFSETFROM:-0700
TZOFFSETTO:-0800
TZNAME:PST
DTSTART:20181104T090000
END:STANDARD
BEGIN:DAYLIGHT
TZOFFSETFROM:-0800
TZOFFSETTO:-0700
TZNAME:PDT
DTSTART:20190310T100000
END:DAYLIGHT
BEGIN:STANDARD
TZOFFSETFROM:-0700
TZOFFSETTO:-0800
TZNAME:PST
DTSTART:20191103T090000
END:STANDARD
BEGIN:DAYLIGHT
TZOFFSETFROM:-0800
TZOFFSETTO:-0700
TZNAME:PDT
DTSTART:20200308T100000
END:DAYLIGHT
BEGIN:STANDARD
TZOFFSETFROM:-0700
TZOFFSETTO:-0800
TZNAME:PST
DTSTART:20201101T090000
END:STANDARD
END:VTIMEZONE
BEGIN:VEVENT
DTSTART;TZID=America/Los_Angeles:20191214T093000
DTEND;TZID=America/Los_Angeles:20191214T110000
DTSTAMP:20260422T224012
CREATED:20191205T185413Z
LAST-MODIFIED:20191205T185413Z
UID:10004362-1576315800-1576321200@parentingtogetherwc.org
SUMMARY:Spirited Child Parent & Educator Workshop - Registration required
DESCRIPTION:spiritedchild2019Sherwood flyerspiritedchildspanish2019Sherwood
URL:https://parentingtogetherwc.org/event/spirited-child-parent-educator-workshop-registration-required/
LOCATION:Sherwood Public Library – Community Room\, 22560 SW Pine Street\, Sherwood\, 97140\, United States
CATEGORIES:Parenting Workshop
ORGANIZER;CN="Sherwood School District":MAILTO:dsticka@sherwood.k12.or.us
GEO:45.3567047;-122.8401051
X-APPLE-STRUCTURED-LOCATION;VALUE=URI;X-ADDRESS=Sherwood Public Library – Community Room 22560 SW Pine Street Sherwood 97140 United States;X-APPLE-RADIUS=500;X-TITLE=22560 SW Pine Street:geo:-122.8401051,45.3567047
END:VEVENT
BEGIN:VEVENT
DTSTART;TZID=America/Los_Angeles:20190608T103000
DTEND;TZID=America/Los_Angeles:20190608T110000
DTSTAMP:20260422T224012
CREATED:20190502T163457Z
LAST-MODIFIED:20190502T163457Z
UID:10004024-1559989800-1559991600@parentingtogetherwc.org
SUMMARY:Cuentos y canciones
DESCRIPTION:Cuentos FLYER_FinalSemanalmente \nSpanish Family Storytime \nWeekly \nSaturdays \n10:30 a.m. \nApril 6\, 2019 – June 8\, 2019 \nAll ages \nFree \nFamilies will enjoy books\, songs\, and rhymes in Spanish at this free weekly interactive program for parents and kids to promote the love of reading and learning. A craft activity is provided\, too.
URL:https://parentingtogetherwc.org/event/cuentos-y-canciones/2019-06-08/
LOCATION:Sherwood Public Library – Community Room\, 22560 SW Pine Street\, Sherwood\, 97140\, United States
CATEGORIES:Family-Friendly,Kid Friendly
ORGANIZER;CN="Sherwood Public Library":MAILTO:askusSPL@wccls.org
GEO:45.3567047;-122.8401051
X-APPLE-STRUCTURED-LOCATION;VALUE=URI;X-ADDRESS=Sherwood Public Library – Community Room 22560 SW Pine Street Sherwood 97140 United States;X-APPLE-RADIUS=500;X-TITLE=22560 SW Pine Street:geo:-122.8401051,45.3567047
END:VEVENT
BEGIN:VEVENT
DTSTART;TZID=America/Los_Angeles:20190601T103000
DTEND;TZID=America/Los_Angeles:20190601T110000
DTSTAMP:20260422T224012
CREATED:20190502T163457Z
LAST-MODIFIED:20190502T163457Z
UID:10004023-1559385000-1559386800@parentingtogetherwc.org
SUMMARY:Cuentos y canciones
DESCRIPTION:Cuentos FLYER_FinalSemanalmente \nSpanish Family Storytime \nWeekly \nSaturdays \n10:30 a.m. \nApril 6\, 2019 – June 8\, 2019 \nAll ages \nFree \nFamilies will enjoy books\, songs\, and rhymes in Spanish at this free weekly interactive program for parents and kids to promote the love of reading and learning. A craft activity is provided\, too.
URL:https://parentingtogetherwc.org/event/cuentos-y-canciones/2019-06-01/
LOCATION:Sherwood Public Library – Community Room\, 22560 SW Pine Street\, Sherwood\, 97140\, United States
CATEGORIES:Family-Friendly,Kid Friendly
ORGANIZER;CN="Sherwood Public Library":MAILTO:askusSPL@wccls.org
GEO:45.3567047;-122.8401051
X-APPLE-STRUCTURED-LOCATION;VALUE=URI;X-ADDRESS=Sherwood Public Library – Community Room 22560 SW Pine Street Sherwood 97140 United States;X-APPLE-RADIUS=500;X-TITLE=22560 SW Pine Street:geo:-122.8401051,45.3567047
END:VEVENT
BEGIN:VEVENT
DTSTART;TZID=America/Los_Angeles:20190525T103000
DTEND;TZID=America/Los_Angeles:20190525T110000
DTSTAMP:20260422T224012
CREATED:20190502T163457Z
LAST-MODIFIED:20190502T163457Z
UID:10004022-1558780200-1558782000@parentingtogetherwc.org
SUMMARY:Cuentos y canciones
DESCRIPTION:Cuentos FLYER_FinalSemanalmente \nSpanish Family Storytime \nWeekly \nSaturdays \n10:30 a.m. \nApril 6\, 2019 – June 8\, 2019 \nAll ages \nFree \nFamilies will enjoy books\, songs\, and rhymes in Spanish at this free weekly interactive program for parents and kids to promote the love of reading and learning. A craft activity is provided\, too.
URL:https://parentingtogetherwc.org/event/cuentos-y-canciones/2019-05-25/
LOCATION:Sherwood Public Library – Community Room\, 22560 SW Pine Street\, Sherwood\, 97140\, United States
CATEGORIES:Family-Friendly,Kid Friendly
ORGANIZER;CN="Sherwood Public Library":MAILTO:askusSPL@wccls.org
GEO:45.3567047;-122.8401051
X-APPLE-STRUCTURED-LOCATION;VALUE=URI;X-ADDRESS=Sherwood Public Library – Community Room 22560 SW Pine Street Sherwood 97140 United States;X-APPLE-RADIUS=500;X-TITLE=22560 SW Pine Street:geo:-122.8401051,45.3567047
END:VEVENT
BEGIN:VEVENT
DTSTART;TZID=America/Los_Angeles:20190518T103000
DTEND;TZID=America/Los_Angeles:20190518T110000
DTSTAMP:20260422T224012
CREATED:20190502T163457Z
LAST-MODIFIED:20190502T163457Z
UID:10004021-1558175400-1558177200@parentingtogetherwc.org
SUMMARY:Cuentos y canciones
DESCRIPTION:Cuentos FLYER_FinalSemanalmente \nSpanish Family Storytime \nWeekly \nSaturdays \n10:30 a.m. \nApril 6\, 2019 – June 8\, 2019 \nAll ages \nFree \nFamilies will enjoy books\, songs\, and rhymes in Spanish at this free weekly interactive program for parents and kids to promote the love of reading and learning. A craft activity is provided\, too.
URL:https://parentingtogetherwc.org/event/cuentos-y-canciones/2019-05-18/
LOCATION:Sherwood Public Library – Community Room\, 22560 SW Pine Street\, Sherwood\, 97140\, United States
CATEGORIES:Family-Friendly,Kid Friendly
ORGANIZER;CN="Sherwood Public Library":MAILTO:askusSPL@wccls.org
GEO:45.3567047;-122.8401051
X-APPLE-STRUCTURED-LOCATION;VALUE=URI;X-ADDRESS=Sherwood Public Library – Community Room 22560 SW Pine Street Sherwood 97140 United States;X-APPLE-RADIUS=500;X-TITLE=22560 SW Pine Street:geo:-122.8401051,45.3567047
END:VEVENT
BEGIN:VEVENT
DTSTART;TZID=America/Los_Angeles:20190511T103000
DTEND;TZID=America/Los_Angeles:20190511T110000
DTSTAMP:20260422T224012
CREATED:20190502T163457Z
LAST-MODIFIED:20190502T163457Z
UID:10004020-1557570600-1557572400@parentingtogetherwc.org
SUMMARY:Cuentos y canciones
DESCRIPTION:Cuentos FLYER_FinalSemanalmente \nSpanish Family Storytime \nWeekly \nSaturdays \n10:30 a.m. \nApril 6\, 2019 – June 8\, 2019 \nAll ages \nFree \nFamilies will enjoy books\, songs\, and rhymes in Spanish at this free weekly interactive program for parents and kids to promote the love of reading and learning. A craft activity is provided\, too.
URL:https://parentingtogetherwc.org/event/cuentos-y-canciones/2019-05-11/
LOCATION:Sherwood Public Library – Community Room\, 22560 SW Pine Street\, Sherwood\, 97140\, United States
CATEGORIES:Family-Friendly,Kid Friendly
ORGANIZER;CN="Sherwood Public Library":MAILTO:askusSPL@wccls.org
GEO:45.3567047;-122.8401051
X-APPLE-STRUCTURED-LOCATION;VALUE=URI;X-ADDRESS=Sherwood Public Library – Community Room 22560 SW Pine Street Sherwood 97140 United States;X-APPLE-RADIUS=500;X-TITLE=22560 SW Pine Street:geo:-122.8401051,45.3567047
END:VEVENT
BEGIN:VEVENT
DTSTART;TZID=America/Los_Angeles:20190504T103000
DTEND;TZID=America/Los_Angeles:20190504T110000
DTSTAMP:20260422T224012
CREATED:20190502T163457Z
LAST-MODIFIED:20190502T163457Z
UID:10004019-1556965800-1556967600@parentingtogetherwc.org
SUMMARY:Cuentos y canciones
DESCRIPTION:Cuentos FLYER_FinalSemanalmente \nSpanish Family Storytime \nWeekly \nSaturdays \n10:30 a.m. \nApril 6\, 2019 – June 8\, 2019 \nAll ages \nFree \nFamilies will enjoy books\, songs\, and rhymes in Spanish at this free weekly interactive program for parents and kids to promote the love of reading and learning. A craft activity is provided\, too.
URL:https://parentingtogetherwc.org/event/cuentos-y-canciones/2019-05-04/
LOCATION:Sherwood Public Library – Community Room\, 22560 SW Pine Street\, Sherwood\, 97140\, United States
CATEGORIES:Family-Friendly,Kid Friendly
ORGANIZER;CN="Sherwood Public Library":MAILTO:askusSPL@wccls.org
GEO:45.3567047;-122.8401051
X-APPLE-STRUCTURED-LOCATION;VALUE=URI;X-ADDRESS=Sherwood Public Library – Community Room 22560 SW Pine Street Sherwood 97140 United States;X-APPLE-RADIUS=500;X-TITLE=22560 SW Pine Street:geo:-122.8401051,45.3567047
END:VEVENT
BEGIN:VEVENT
DTSTART;TZID=America/Los_Angeles:20180318T130000
DTEND;TZID=America/Los_Angeles:20180318T150000
DTSTAMP:20260422T224012
CREATED:20180209T184951Z
LAST-MODIFIED:20180209T184951Z
UID:10003107-1521378000-1521385200@parentingtogetherwc.org
SUMMARY:Early Anxiety Workshop
DESCRIPTION:EARLY ANXIETY:  WHAT TO DO WHEN A YOUNG CHILD WORRIES TOO MUCH \nPresented by Lynn K Collins\, Ph.D.\nLicensed Psychologist \nAre you the parent/educator of a child who struggles with separation? Do you work with a student who feels both dread and excitement about social events or academic performance? Or\, have a little one who falls apart with transitions or worries about upcoming events? \nJoin us for a free presentation on how to support young children (PreK-Grade 3) when they get anxious\, worried\, and upset. We will talk about what anxiety looks like in young children\, what happens inside the mind of a worried child\, and review specific tools for parents or educators to use with small children\, as well as how to support children in learning how to handle their own anxiety. \nRegistration is required – Call or email to register today! rwagner@sherwood.k12.or.us  (503) 825 5486
URL:https://parentingtogetherwc.org/event/early-anxiety-workshop/
LOCATION:Sherwood Public Library – Community Room\, 22560 SW Pine Street\, Sherwood\, 97140\, United States
CATEGORIES:Adult Workshop
ATTACH;FMTTYPE=image/png:https://parentingtogetherwc.org/wp-content/uploads/2018/02/EarlyAnxiety.png
GEO:45.3567047;-122.8401051
X-APPLE-STRUCTURED-LOCATION;VALUE=URI;X-ADDRESS=Sherwood Public Library – Community Room 22560 SW Pine Street Sherwood 97140 United States;X-APPLE-RADIUS=500;X-TITLE=22560 SW Pine Street:geo:-122.8401051,45.3567047
END:VEVENT
BEGIN:VEVENT
DTSTART;TZID=America/Los_Angeles:20171118T093000
DTEND;TZID=America/Los_Angeles:20171118T113000
DTSTAMP:20260422T224012
CREATED:20171026T165122Z
LAST-MODIFIED:20171026T165122Z
UID:10002426-1510997400-1511004600@parentingtogetherwc.org
SUMMARY:Dyslexia 101
DESCRIPTION:Please join us for an informational session with Kelly Arnold\, founder of the NW Dyslexia Center.  Reframe your understanding of the dyslexic mind.  Explore ways to identify and navigate this common barrier to early educational success.  Learn about best practice\, interventions\, and more! \nThis no-cost workshop is geared towards parents and educators of young children (PreK through Grade 5).  Call or email to sign up today.
URL:https://parentingtogetherwc.org/event/dyslexia-101/
LOCATION:Sherwood Public Library – Community Room\, 22560 SW Pine Street\, Sherwood\, 97140\, United States
CATEGORIES:Adult Workshop,Family Engagement Training
ATTACH;FMTTYPE=image/jpeg:https://parentingtogetherwc.org/wp-content/uploads/2017/10/dyslexia101.jpg
GEO:45.3567047;-122.8401051
X-APPLE-STRUCTURED-LOCATION;VALUE=URI;X-ADDRESS=Sherwood Public Library – Community Room 22560 SW Pine Street Sherwood 97140 United States;X-APPLE-RADIUS=500;X-TITLE=22560 SW Pine Street:geo:-122.8401051,45.3567047
END:VEVENT
END:VCALENDAR